BEGIN:VCALENDAR
VERSION:2.0
PRODID:-//Calvary Episcopal Church - ECPv6.15.20//NONSGML v1.0//EN
CALSCALE:GREGORIAN
METHOD:PUBLISH
X-WR-CALNAME:Calvary Episcopal Church
X-ORIGINAL-URL:https://www.calvary-rochester.org
X-WR-CALDESC:Events for Calvary Episcopal Church
REFRESH-INTERVAL;VALUE=DURATION:PT1H
X-Robots-Tag:noindex
X-PUBLISHED-TTL:PT1H
BEGIN:VTIMEZONE
TZID:America/Chicago
BEGIN:DAYLIGHT
TZOFFSETFROM:-0600
TZOFFSETTO:-0500
TZNAME:CDT
DTSTART:20220313T080000
END:DAYLIGHT
BEGIN:STANDARD
TZOFFSETFROM:-0500
TZOFFSETTO:-0600
TZNAME:CST
DTSTART:20221106T070000
END:STANDARD
BEGIN:DAYLIGHT
TZOFFSETFROM:-0600
TZOFFSETTO:-0500
TZNAME:CDT
DTSTART:20230312T080000
END:DAYLIGHT
BEGIN:STANDARD
TZOFFSETFROM:-0500
TZOFFSETTO:-0600
TZNAME:CST
DTSTART:20231105T070000
END:STANDARD
BEGIN:DAYLIGHT
TZOFFSETFROM:-0600
TZOFFSETTO:-0500
TZNAME:CDT
DTSTART:20240310T080000
END:DAYLIGHT
BEGIN:STANDARD
TZOFFSETFROM:-0500
TZOFFSETTO:-0600
TZNAME:CST
DTSTART:20241103T070000
END:STANDARD
END:VTIMEZONE
BEGIN:VEVENT
DTSTART;TZID=America/Chicago:20230601T064500
DTEND;TZID=America/Chicago:20230601T074500
DTSTAMP:20260425T230243
CREATED:20221230T014809Z
LAST-MODIFIED:20221230T014809Z
UID:10000491-1685601900-1685605500@www.calvary-rochester.org
SUMMARY:Medical and Professional AA Meeting
DESCRIPTION:This AA meeting meets early to accommodate the schedules of medical professionals\, but anyone who is suffering from an addiction and is an early-riser is welcome. It takes place on the main floor in the Larson Fireside Room.
URL:https://www.calvary-rochester.org/event/medical-and-professional-aa-meeting-2/2023-06-01/
LOCATION:Calvary Episcopal Church\, 111 Third Avenue SW\, Rochester\, MN\, 55902
CATEGORIES:Community
ORGANIZER;CN="Calvary Episcopal Church":MAILTO:office@calvary-rochester.org
GEO:40.602991;-73.959517
X-APPLE-STRUCTURED-LOCATION;VALUE=URI;X-ADDRESS=Calvary Episcopal Church 111 Third Avenue SW Rochester MN 55902;X-APPLE-RADIUS=500;X-TITLE=111 Third Avenue SW:geo:-73.959517,40.602991
END:VEVENT
BEGIN:VEVENT
DTSTART;TZID=America/Chicago:20230601T120000
DTEND;TZID=America/Chicago:20230601T130000
DTSTAMP:20260425T230243
CREATED:20221230T012601Z
LAST-MODIFIED:20221230T012601Z
UID:10000970-1685620800-1685624400@www.calvary-rochester.org
SUMMARY:AA
DESCRIPTION:Freedom from Bondage (FFB)  AA group. This is an open AA meeting. It meets every Monday through Friday from 12:00-1:00 upstairs in Crawford Hall. Anyone suffering from an addiction is welcome.
URL:https://www.calvary-rochester.org/event/aa/2023-06-01/
LOCATION:Calvary Episcopal Church\, 111 Third Avenue SW\, Rochester\, MN\, 55902
CATEGORIES:Community
ORGANIZER;CN="Calvary Episcopal Church":MAILTO:office@calvary-rochester.org
GEO:40.602991;-73.959517
X-APPLE-STRUCTURED-LOCATION;VALUE=URI;X-ADDRESS=Calvary Episcopal Church 111 Third Avenue SW Rochester MN 55902;X-APPLE-RADIUS=500;X-TITLE=111 Third Avenue SW:geo:-73.959517,40.602991
END:VEVENT
BEGIN:VEVENT
DTSTART;TZID=America/Chicago:20230602T120000
DTEND;TZID=America/Chicago:20230602T130000
DTSTAMP:20260425T230243
CREATED:20221230T012601Z
LAST-MODIFIED:20221230T012601Z
UID:10000971-1685707200-1685710800@www.calvary-rochester.org
SUMMARY:AA
DESCRIPTION:Freedom from Bondage (FFB)  AA group. This is an open AA meeting. It meets every Monday through Friday from 12:00-1:00 upstairs in Crawford Hall. Anyone suffering from an addiction is welcome.
URL:https://www.calvary-rochester.org/event/aa/2023-06-02/
LOCATION:Calvary Episcopal Church\, 111 Third Avenue SW\, Rochester\, MN\, 55902
CATEGORIES:Community
ORGANIZER;CN="Calvary Episcopal Church":MAILTO:office@calvary-rochester.org
GEO:40.602991;-73.959517
X-APPLE-STRUCTURED-LOCATION;VALUE=URI;X-ADDRESS=Calvary Episcopal Church 111 Third Avenue SW Rochester MN 55902;X-APPLE-RADIUS=500;X-TITLE=111 Third Avenue SW:geo:-73.959517,40.602991
END:VEVENT
BEGIN:VEVENT
DTSTART;TZID=America/Chicago:20230602T120000
DTEND;TZID=America/Chicago:20230602T130000
DTSTAMP:20260425T230243
CREATED:20221230T012830Z
LAST-MODIFIED:20221230T012830Z
UID:10001155-1685707200-1685710800@www.calvary-rochester.org
SUMMARY:Alanon (Zoom)
DESCRIPTION:Meets via Zoom\nThe email address is: Hopeandhealing22@gmail.com.\nThe meeting ID is: 81344786715\nThe password is: Grateful1
URL:https://www.calvary-rochester.org/event/alanon-zoom/2023-06-02/
LOCATION:Calvary Episcopal Church\, 111 Third Avenue SW\, Rochester\, MN\, 55902
CATEGORIES:Community
ORGANIZER;CN="Calvary Episcopal Church":MAILTO:office@calvary-rochester.org
GEO:40.602991;-73.959517
X-APPLE-STRUCTURED-LOCATION;VALUE=URI;X-ADDRESS=Calvary Episcopal Church 111 Third Avenue SW Rochester MN 55902;X-APPLE-RADIUS=500;X-TITLE=111 Third Avenue SW:geo:-73.959517,40.602991
END:VEVENT
BEGIN:VEVENT
DTSTART;TZID=America/Chicago:20230605T120000
DTEND;TZID=America/Chicago:20230605T130000
DTSTAMP:20260425T230243
CREATED:20221230T012601Z
LAST-MODIFIED:20221230T012601Z
UID:10000972-1685966400-1685970000@www.calvary-rochester.org
SUMMARY:AA
DESCRIPTION:Freedom from Bondage (FFB)  AA group. This is an open AA meeting. It meets every Monday through Friday from 12:00-1:00 upstairs in Crawford Hall. Anyone suffering from an addiction is welcome.
URL:https://www.calvary-rochester.org/event/aa/2023-06-05/
LOCATION:Calvary Episcopal Church\, 111 Third Avenue SW\, Rochester\, MN\, 55902
CATEGORIES:Community
ORGANIZER;CN="Calvary Episcopal Church":MAILTO:office@calvary-rochester.org
GEO:40.602991;-73.959517
X-APPLE-STRUCTURED-LOCATION;VALUE=URI;X-ADDRESS=Calvary Episcopal Church 111 Third Avenue SW Rochester MN 55902;X-APPLE-RADIUS=500;X-TITLE=111 Third Avenue SW:geo:-73.959517,40.602991
END:VEVENT
BEGIN:VEVENT
DTSTART;TZID=America/Chicago:20230605T120000
DTEND;TZID=America/Chicago:20230605T130000
DTSTAMP:20260425T230243
CREATED:20221230T013043Z
LAST-MODIFIED:20221230T013043Z
UID:10001208-1685966400-1685970000@www.calvary-rochester.org
SUMMARY:Alanon
DESCRIPTION:Meets in Menefee Hall\, opposite the church office.
URL:https://www.calvary-rochester.org/event/alanon-3/2023-06-05/
LOCATION:Calvary Episcopal Church\, 111 Third Avenue SW\, Rochester\, MN\, 55902
CATEGORIES:Community
ORGANIZER;CN="Calvary Episcopal Church":MAILTO:office@calvary-rochester.org
GEO:40.602991;-73.959517
X-APPLE-STRUCTURED-LOCATION;VALUE=URI;X-ADDRESS=Calvary Episcopal Church 111 Third Avenue SW Rochester MN 55902;X-APPLE-RADIUS=500;X-TITLE=111 Third Avenue SW:geo:-73.959517,40.602991
END:VEVENT
BEGIN:VEVENT
DTSTART;TZID=America/Chicago:20230606T120000
DTEND;TZID=America/Chicago:20230606T130000
DTSTAMP:20260425T230243
CREATED:20221230T012601Z
LAST-MODIFIED:20221230T012601Z
UID:10000973-1686052800-1686056400@www.calvary-rochester.org
SUMMARY:AA
DESCRIPTION:Freedom from Bondage (FFB)  AA group. This is an open AA meeting. It meets every Monday through Friday from 12:00-1:00 upstairs in Crawford Hall. Anyone suffering from an addiction is welcome.
URL:https://www.calvary-rochester.org/event/aa/2023-06-06/
LOCATION:Calvary Episcopal Church\, 111 Third Avenue SW\, Rochester\, MN\, 55902
CATEGORIES:Community
ORGANIZER;CN="Calvary Episcopal Church":MAILTO:office@calvary-rochester.org
GEO:40.602991;-73.959517
X-APPLE-STRUCTURED-LOCATION;VALUE=URI;X-ADDRESS=Calvary Episcopal Church 111 Third Avenue SW Rochester MN 55902;X-APPLE-RADIUS=500;X-TITLE=111 Third Avenue SW:geo:-73.959517,40.602991
END:VEVENT
BEGIN:VEVENT
DTSTART;TZID=America/Chicago:20230607T120000
DTEND;TZID=America/Chicago:20230607T130000
DTSTAMP:20260425T230243
CREATED:20221230T012601Z
LAST-MODIFIED:20221230T012601Z
UID:10000974-1686139200-1686142800@www.calvary-rochester.org
SUMMARY:AA
DESCRIPTION:Freedom from Bondage (FFB)  AA group. This is an open AA meeting. It meets every Monday through Friday from 12:00-1:00 upstairs in Crawford Hall. Anyone suffering from an addiction is welcome.
URL:https://www.calvary-rochester.org/event/aa/2023-06-07/
LOCATION:Calvary Episcopal Church\, 111 Third Avenue SW\, Rochester\, MN\, 55902
CATEGORIES:Community
ORGANIZER;CN="Calvary Episcopal Church":MAILTO:office@calvary-rochester.org
GEO:40.602991;-73.959517
X-APPLE-STRUCTURED-LOCATION;VALUE=URI;X-ADDRESS=Calvary Episcopal Church 111 Third Avenue SW Rochester MN 55902;X-APPLE-RADIUS=500;X-TITLE=111 Third Avenue SW:geo:-73.959517,40.602991
END:VEVENT
BEGIN:VEVENT
DTSTART;TZID=America/Chicago:20230608T064500
DTEND;TZID=America/Chicago:20230608T074500
DTSTAMP:20260425T230243
CREATED:20221230T014809Z
LAST-MODIFIED:20221230T014809Z
UID:10000492-1686206700-1686210300@www.calvary-rochester.org
SUMMARY:Medical and Professional AA Meeting
DESCRIPTION:This AA meeting meets early to accommodate the schedules of medical professionals\, but anyone who is suffering from an addiction and is an early-riser is welcome. It takes place on the main floor in the Larson Fireside Room.
URL:https://www.calvary-rochester.org/event/medical-and-professional-aa-meeting-2/2023-06-08/
LOCATION:Calvary Episcopal Church\, 111 Third Avenue SW\, Rochester\, MN\, 55902
CATEGORIES:Community
ORGANIZER;CN="Calvary Episcopal Church":MAILTO:office@calvary-rochester.org
GEO:40.602991;-73.959517
X-APPLE-STRUCTURED-LOCATION;VALUE=URI;X-ADDRESS=Calvary Episcopal Church 111 Third Avenue SW Rochester MN 55902;X-APPLE-RADIUS=500;X-TITLE=111 Third Avenue SW:geo:-73.959517,40.602991
END:VEVENT
BEGIN:VEVENT
DTSTART;TZID=America/Chicago:20230608T120000
DTEND;TZID=America/Chicago:20230608T130000
DTSTAMP:20260425T230243
CREATED:20221230T012601Z
LAST-MODIFIED:20221230T012601Z
UID:10000975-1686225600-1686229200@www.calvary-rochester.org
SUMMARY:AA
DESCRIPTION:Freedom from Bondage (FFB)  AA group. This is an open AA meeting. It meets every Monday through Friday from 12:00-1:00 upstairs in Crawford Hall. Anyone suffering from an addiction is welcome.
URL:https://www.calvary-rochester.org/event/aa/2023-06-08/
LOCATION:Calvary Episcopal Church\, 111 Third Avenue SW\, Rochester\, MN\, 55902
CATEGORIES:Community
ORGANIZER;CN="Calvary Episcopal Church":MAILTO:office@calvary-rochester.org
GEO:40.602991;-73.959517
X-APPLE-STRUCTURED-LOCATION;VALUE=URI;X-ADDRESS=Calvary Episcopal Church 111 Third Avenue SW Rochester MN 55902;X-APPLE-RADIUS=500;X-TITLE=111 Third Avenue SW:geo:-73.959517,40.602991
END:VEVENT
BEGIN:VEVENT
DTSTART;TZID=America/Chicago:20230609T120000
DTEND;TZID=America/Chicago:20230609T130000
DTSTAMP:20260425T230243
CREATED:20221230T012601Z
LAST-MODIFIED:20221230T012601Z
UID:10000976-1686312000-1686315600@www.calvary-rochester.org
SUMMARY:AA
DESCRIPTION:Freedom from Bondage (FFB)  AA group. This is an open AA meeting. It meets every Monday through Friday from 12:00-1:00 upstairs in Crawford Hall. Anyone suffering from an addiction is welcome.
URL:https://www.calvary-rochester.org/event/aa/2023-06-09/
LOCATION:Calvary Episcopal Church\, 111 Third Avenue SW\, Rochester\, MN\, 55902
CATEGORIES:Community
ORGANIZER;CN="Calvary Episcopal Church":MAILTO:office@calvary-rochester.org
GEO:40.602991;-73.959517
X-APPLE-STRUCTURED-LOCATION;VALUE=URI;X-ADDRESS=Calvary Episcopal Church 111 Third Avenue SW Rochester MN 55902;X-APPLE-RADIUS=500;X-TITLE=111 Third Avenue SW:geo:-73.959517,40.602991
END:VEVENT
BEGIN:VEVENT
DTSTART;TZID=America/Chicago:20230609T120000
DTEND;TZID=America/Chicago:20230609T130000
DTSTAMP:20260425T230243
CREATED:20221230T012830Z
LAST-MODIFIED:20221230T012830Z
UID:10001156-1686312000-1686315600@www.calvary-rochester.org
SUMMARY:Alanon (Zoom)
DESCRIPTION:Meets via Zoom\nThe email address is: Hopeandhealing22@gmail.com.\nThe meeting ID is: 81344786715\nThe password is: Grateful1
URL:https://www.calvary-rochester.org/event/alanon-zoom/2023-06-09/
LOCATION:Calvary Episcopal Church\, 111 Third Avenue SW\, Rochester\, MN\, 55902
CATEGORIES:Community
ORGANIZER;CN="Calvary Episcopal Church":MAILTO:office@calvary-rochester.org
GEO:40.602991;-73.959517
X-APPLE-STRUCTURED-LOCATION;VALUE=URI;X-ADDRESS=Calvary Episcopal Church 111 Third Avenue SW Rochester MN 55902;X-APPLE-RADIUS=500;X-TITLE=111 Third Avenue SW:geo:-73.959517,40.602991
END:VEVENT
BEGIN:VEVENT
DTSTART;TZID=America/Chicago:20230612T120000
DTEND;TZID=America/Chicago:20230612T130000
DTSTAMP:20260425T230243
CREATED:20221230T012601Z
LAST-MODIFIED:20221230T012601Z
UID:10000977-1686571200-1686574800@www.calvary-rochester.org
SUMMARY:AA
DESCRIPTION:Freedom from Bondage (FFB)  AA group. This is an open AA meeting. It meets every Monday through Friday from 12:00-1:00 upstairs in Crawford Hall. Anyone suffering from an addiction is welcome.
URL:https://www.calvary-rochester.org/event/aa/2023-06-12/
LOCATION:Calvary Episcopal Church\, 111 Third Avenue SW\, Rochester\, MN\, 55902
CATEGORIES:Community
ORGANIZER;CN="Calvary Episcopal Church":MAILTO:office@calvary-rochester.org
GEO:40.602991;-73.959517
X-APPLE-STRUCTURED-LOCATION;VALUE=URI;X-ADDRESS=Calvary Episcopal Church 111 Third Avenue SW Rochester MN 55902;X-APPLE-RADIUS=500;X-TITLE=111 Third Avenue SW:geo:-73.959517,40.602991
END:VEVENT
BEGIN:VEVENT
DTSTART;TZID=America/Chicago:20230612T120000
DTEND;TZID=America/Chicago:20230612T130000
DTSTAMP:20260425T230243
CREATED:20221230T013043Z
LAST-MODIFIED:20221230T013043Z
UID:10001209-1686571200-1686574800@www.calvary-rochester.org
SUMMARY:Alanon
DESCRIPTION:Meets in Menefee Hall\, opposite the church office.
URL:https://www.calvary-rochester.org/event/alanon-3/2023-06-12/
LOCATION:Calvary Episcopal Church\, 111 Third Avenue SW\, Rochester\, MN\, 55902
CATEGORIES:Community
ORGANIZER;CN="Calvary Episcopal Church":MAILTO:office@calvary-rochester.org
GEO:40.602991;-73.959517
X-APPLE-STRUCTURED-LOCATION;VALUE=URI;X-ADDRESS=Calvary Episcopal Church 111 Third Avenue SW Rochester MN 55902;X-APPLE-RADIUS=500;X-TITLE=111 Third Avenue SW:geo:-73.959517,40.602991
END:VEVENT
BEGIN:VEVENT
DTSTART;TZID=America/Chicago:20230613T120000
DTEND;TZID=America/Chicago:20230613T130000
DTSTAMP:20260425T230244
CREATED:20221230T012601Z
LAST-MODIFIED:20221230T012601Z
UID:10000978-1686657600-1686661200@www.calvary-rochester.org
SUMMARY:AA
DESCRIPTION:Freedom from Bondage (FFB)  AA group. This is an open AA meeting. It meets every Monday through Friday from 12:00-1:00 upstairs in Crawford Hall. Anyone suffering from an addiction is welcome.
URL:https://www.calvary-rochester.org/event/aa/2023-06-13/
LOCATION:Calvary Episcopal Church\, 111 Third Avenue SW\, Rochester\, MN\, 55902
CATEGORIES:Community
ORGANIZER;CN="Calvary Episcopal Church":MAILTO:office@calvary-rochester.org
GEO:40.602991;-73.959517
X-APPLE-STRUCTURED-LOCATION;VALUE=URI;X-ADDRESS=Calvary Episcopal Church 111 Third Avenue SW Rochester MN 55902;X-APPLE-RADIUS=500;X-TITLE=111 Third Avenue SW:geo:-73.959517,40.602991
END:VEVENT
BEGIN:VEVENT
DTSTART;TZID=America/Chicago:20230614T120000
DTEND;TZID=America/Chicago:20230614T130000
DTSTAMP:20260425T230244
CREATED:20221230T012601Z
LAST-MODIFIED:20221230T012601Z
UID:10000979-1686744000-1686747600@www.calvary-rochester.org
SUMMARY:AA
DESCRIPTION:Freedom from Bondage (FFB)  AA group. This is an open AA meeting. It meets every Monday through Friday from 12:00-1:00 upstairs in Crawford Hall. Anyone suffering from an addiction is welcome.
URL:https://www.calvary-rochester.org/event/aa/2023-06-14/
LOCATION:Calvary Episcopal Church\, 111 Third Avenue SW\, Rochester\, MN\, 55902
CATEGORIES:Community
ORGANIZER;CN="Calvary Episcopal Church":MAILTO:office@calvary-rochester.org
GEO:40.602991;-73.959517
X-APPLE-STRUCTURED-LOCATION;VALUE=URI;X-ADDRESS=Calvary Episcopal Church 111 Third Avenue SW Rochester MN 55902;X-APPLE-RADIUS=500;X-TITLE=111 Third Avenue SW:geo:-73.959517,40.602991
END:VEVENT
BEGIN:VEVENT
DTSTART;TZID=America/Chicago:20230615T064500
DTEND;TZID=America/Chicago:20230615T074500
DTSTAMP:20260425T230244
CREATED:20221230T014809Z
LAST-MODIFIED:20221230T014809Z
UID:10000493-1686811500-1686815100@www.calvary-rochester.org
SUMMARY:Medical and Professional AA Meeting
DESCRIPTION:This AA meeting meets early to accommodate the schedules of medical professionals\, but anyone who is suffering from an addiction and is an early-riser is welcome. It takes place on the main floor in the Larson Fireside Room.
URL:https://www.calvary-rochester.org/event/medical-and-professional-aa-meeting-2/2023-06-15/
LOCATION:Calvary Episcopal Church\, 111 Third Avenue SW\, Rochester\, MN\, 55902
CATEGORIES:Community
ORGANIZER;CN="Calvary Episcopal Church":MAILTO:office@calvary-rochester.org
GEO:40.602991;-73.959517
X-APPLE-STRUCTURED-LOCATION;VALUE=URI;X-ADDRESS=Calvary Episcopal Church 111 Third Avenue SW Rochester MN 55902;X-APPLE-RADIUS=500;X-TITLE=111 Third Avenue SW:geo:-73.959517,40.602991
END:VEVENT
BEGIN:VEVENT
DTSTART;TZID=America/Chicago:20230615T120000
DTEND;TZID=America/Chicago:20230615T130000
DTSTAMP:20260425T230244
CREATED:20221230T012601Z
LAST-MODIFIED:20221230T012601Z
UID:10000980-1686830400-1686834000@www.calvary-rochester.org
SUMMARY:AA
DESCRIPTION:Freedom from Bondage (FFB)  AA group. This is an open AA meeting. It meets every Monday through Friday from 12:00-1:00 upstairs in Crawford Hall. Anyone suffering from an addiction is welcome.
URL:https://www.calvary-rochester.org/event/aa/2023-06-15/
LOCATION:Calvary Episcopal Church\, 111 Third Avenue SW\, Rochester\, MN\, 55902
CATEGORIES:Community
ORGANIZER;CN="Calvary Episcopal Church":MAILTO:office@calvary-rochester.org
GEO:40.602991;-73.959517
X-APPLE-STRUCTURED-LOCATION;VALUE=URI;X-ADDRESS=Calvary Episcopal Church 111 Third Avenue SW Rochester MN 55902;X-APPLE-RADIUS=500;X-TITLE=111 Third Avenue SW:geo:-73.959517,40.602991
END:VEVENT
BEGIN:VEVENT
DTSTART;TZID=America/Chicago:20230616T120000
DTEND;TZID=America/Chicago:20230616T130000
DTSTAMP:20260425T230244
CREATED:20221230T012601Z
LAST-MODIFIED:20221230T012601Z
UID:10000981-1686916800-1686920400@www.calvary-rochester.org
SUMMARY:AA
DESCRIPTION:Freedom from Bondage (FFB)  AA group. This is an open AA meeting. It meets every Monday through Friday from 12:00-1:00 upstairs in Crawford Hall. Anyone suffering from an addiction is welcome.
URL:https://www.calvary-rochester.org/event/aa/2023-06-16/
LOCATION:Calvary Episcopal Church\, 111 Third Avenue SW\, Rochester\, MN\, 55902
CATEGORIES:Community
ORGANIZER;CN="Calvary Episcopal Church":MAILTO:office@calvary-rochester.org
GEO:40.602991;-73.959517
X-APPLE-STRUCTURED-LOCATION;VALUE=URI;X-ADDRESS=Calvary Episcopal Church 111 Third Avenue SW Rochester MN 55902;X-APPLE-RADIUS=500;X-TITLE=111 Third Avenue SW:geo:-73.959517,40.602991
END:VEVENT
BEGIN:VEVENT
DTSTART;TZID=America/Chicago:20230616T120000
DTEND;TZID=America/Chicago:20230616T130000
DTSTAMP:20260425T230244
CREATED:20221230T012830Z
LAST-MODIFIED:20221230T012830Z
UID:10001157-1686916800-1686920400@www.calvary-rochester.org
SUMMARY:Alanon (Zoom)
DESCRIPTION:Meets via Zoom\nThe email address is: Hopeandhealing22@gmail.com.\nThe meeting ID is: 81344786715\nThe password is: Grateful1
URL:https://www.calvary-rochester.org/event/alanon-zoom/2023-06-16/
LOCATION:Calvary Episcopal Church\, 111 Third Avenue SW\, Rochester\, MN\, 55902
CATEGORIES:Community
ORGANIZER;CN="Calvary Episcopal Church":MAILTO:office@calvary-rochester.org
GEO:40.602991;-73.959517
X-APPLE-STRUCTURED-LOCATION;VALUE=URI;X-ADDRESS=Calvary Episcopal Church 111 Third Avenue SW Rochester MN 55902;X-APPLE-RADIUS=500;X-TITLE=111 Third Avenue SW:geo:-73.959517,40.602991
END:VEVENT
BEGIN:VEVENT
DTSTART;TZID=America/Chicago:20230619T120000
DTEND;TZID=America/Chicago:20230619T130000
DTSTAMP:20260425T230244
CREATED:20221230T012601Z
LAST-MODIFIED:20221230T012601Z
UID:10000982-1687176000-1687179600@www.calvary-rochester.org
SUMMARY:AA
DESCRIPTION:Freedom from Bondage (FFB)  AA group. This is an open AA meeting. It meets every Monday through Friday from 12:00-1:00 upstairs in Crawford Hall. Anyone suffering from an addiction is welcome.
URL:https://www.calvary-rochester.org/event/aa/2023-06-19/
LOCATION:Calvary Episcopal Church\, 111 Third Avenue SW\, Rochester\, MN\, 55902
CATEGORIES:Community
ORGANIZER;CN="Calvary Episcopal Church":MAILTO:office@calvary-rochester.org
GEO:40.602991;-73.959517
X-APPLE-STRUCTURED-LOCATION;VALUE=URI;X-ADDRESS=Calvary Episcopal Church 111 Third Avenue SW Rochester MN 55902;X-APPLE-RADIUS=500;X-TITLE=111 Third Avenue SW:geo:-73.959517,40.602991
END:VEVENT
BEGIN:VEVENT
DTSTART;TZID=America/Chicago:20230619T120000
DTEND;TZID=America/Chicago:20230619T130000
DTSTAMP:20260425T230244
CREATED:20221230T013043Z
LAST-MODIFIED:20221230T013043Z
UID:10001210-1687176000-1687179600@www.calvary-rochester.org
SUMMARY:Alanon
DESCRIPTION:Meets in Menefee Hall\, opposite the church office.
URL:https://www.calvary-rochester.org/event/alanon-3/2023-06-19/
LOCATION:Calvary Episcopal Church\, 111 Third Avenue SW\, Rochester\, MN\, 55902
CATEGORIES:Community
ORGANIZER;CN="Calvary Episcopal Church":MAILTO:office@calvary-rochester.org
GEO:40.602991;-73.959517
X-APPLE-STRUCTURED-LOCATION;VALUE=URI;X-ADDRESS=Calvary Episcopal Church 111 Third Avenue SW Rochester MN 55902;X-APPLE-RADIUS=500;X-TITLE=111 Third Avenue SW:geo:-73.959517,40.602991
END:VEVENT
BEGIN:VEVENT
DTSTART;TZID=America/Chicago:20230620T120000
DTEND;TZID=America/Chicago:20230620T130000
DTSTAMP:20260425T230244
CREATED:20221230T012601Z
LAST-MODIFIED:20221230T012601Z
UID:10000983-1687262400-1687266000@www.calvary-rochester.org
SUMMARY:AA
DESCRIPTION:Freedom from Bondage (FFB)  AA group. This is an open AA meeting. It meets every Monday through Friday from 12:00-1:00 upstairs in Crawford Hall. Anyone suffering from an addiction is welcome.
URL:https://www.calvary-rochester.org/event/aa/2023-06-20/
LOCATION:Calvary Episcopal Church\, 111 Third Avenue SW\, Rochester\, MN\, 55902
CATEGORIES:Community
ORGANIZER;CN="Calvary Episcopal Church":MAILTO:office@calvary-rochester.org
GEO:40.602991;-73.959517
X-APPLE-STRUCTURED-LOCATION;VALUE=URI;X-ADDRESS=Calvary Episcopal Church 111 Third Avenue SW Rochester MN 55902;X-APPLE-RADIUS=500;X-TITLE=111 Third Avenue SW:geo:-73.959517,40.602991
END:VEVENT
BEGIN:VEVENT
DTSTART;TZID=America/Chicago:20230621T120000
DTEND;TZID=America/Chicago:20230621T130000
DTSTAMP:20260425T230244
CREATED:20221230T012601Z
LAST-MODIFIED:20221230T012601Z
UID:10000984-1687348800-1687352400@www.calvary-rochester.org
SUMMARY:AA
DESCRIPTION:Freedom from Bondage (FFB)  AA group. This is an open AA meeting. It meets every Monday through Friday from 12:00-1:00 upstairs in Crawford Hall. Anyone suffering from an addiction is welcome.
URL:https://www.calvary-rochester.org/event/aa/2023-06-21/
LOCATION:Calvary Episcopal Church\, 111 Third Avenue SW\, Rochester\, MN\, 55902
CATEGORIES:Community
ORGANIZER;CN="Calvary Episcopal Church":MAILTO:office@calvary-rochester.org
GEO:40.602991;-73.959517
X-APPLE-STRUCTURED-LOCATION;VALUE=URI;X-ADDRESS=Calvary Episcopal Church 111 Third Avenue SW Rochester MN 55902;X-APPLE-RADIUS=500;X-TITLE=111 Third Avenue SW:geo:-73.959517,40.602991
END:VEVENT
BEGIN:VEVENT
DTSTART;TZID=America/Chicago:20230622T064500
DTEND;TZID=America/Chicago:20230622T074500
DTSTAMP:20260425T230244
CREATED:20221230T014809Z
LAST-MODIFIED:20221230T014809Z
UID:10000494-1687416300-1687419900@www.calvary-rochester.org
SUMMARY:Medical and Professional AA Meeting
DESCRIPTION:This AA meeting meets early to accommodate the schedules of medical professionals\, but anyone who is suffering from an addiction and is an early-riser is welcome. It takes place on the main floor in the Larson Fireside Room.
URL:https://www.calvary-rochester.org/event/medical-and-professional-aa-meeting-2/2023-06-22/
LOCATION:Calvary Episcopal Church\, 111 Third Avenue SW\, Rochester\, MN\, 55902
CATEGORIES:Community
ORGANIZER;CN="Calvary Episcopal Church":MAILTO:office@calvary-rochester.org
GEO:40.602991;-73.959517
X-APPLE-STRUCTURED-LOCATION;VALUE=URI;X-ADDRESS=Calvary Episcopal Church 111 Third Avenue SW Rochester MN 55902;X-APPLE-RADIUS=500;X-TITLE=111 Third Avenue SW:geo:-73.959517,40.602991
END:VEVENT
BEGIN:VEVENT
DTSTART;TZID=America/Chicago:20230622T120000
DTEND;TZID=America/Chicago:20230622T130000
DTSTAMP:20260425T230244
CREATED:20221230T012601Z
LAST-MODIFIED:20221230T012601Z
UID:10000985-1687435200-1687438800@www.calvary-rochester.org
SUMMARY:AA
DESCRIPTION:Freedom from Bondage (FFB)  AA group. This is an open AA meeting. It meets every Monday through Friday from 12:00-1:00 upstairs in Crawford Hall. Anyone suffering from an addiction is welcome.
URL:https://www.calvary-rochester.org/event/aa/2023-06-22/
LOCATION:Calvary Episcopal Church\, 111 Third Avenue SW\, Rochester\, MN\, 55902
CATEGORIES:Community
ORGANIZER;CN="Calvary Episcopal Church":MAILTO:office@calvary-rochester.org
GEO:40.602991;-73.959517
X-APPLE-STRUCTURED-LOCATION;VALUE=URI;X-ADDRESS=Calvary Episcopal Church 111 Third Avenue SW Rochester MN 55902;X-APPLE-RADIUS=500;X-TITLE=111 Third Avenue SW:geo:-73.959517,40.602991
END:VEVENT
BEGIN:VEVENT
DTSTART;TZID=America/Chicago:20230623T120000
DTEND;TZID=America/Chicago:20230623T130000
DTSTAMP:20260425T230244
CREATED:20221230T012601Z
LAST-MODIFIED:20221230T012601Z
UID:10000986-1687521600-1687525200@www.calvary-rochester.org
SUMMARY:AA
DESCRIPTION:Freedom from Bondage (FFB)  AA group. This is an open AA meeting. It meets every Monday through Friday from 12:00-1:00 upstairs in Crawford Hall. Anyone suffering from an addiction is welcome.
URL:https://www.calvary-rochester.org/event/aa/2023-06-23/
LOCATION:Calvary Episcopal Church\, 111 Third Avenue SW\, Rochester\, MN\, 55902
CATEGORIES:Community
ORGANIZER;CN="Calvary Episcopal Church":MAILTO:office@calvary-rochester.org
GEO:40.602991;-73.959517
X-APPLE-STRUCTURED-LOCATION;VALUE=URI;X-ADDRESS=Calvary Episcopal Church 111 Third Avenue SW Rochester MN 55902;X-APPLE-RADIUS=500;X-TITLE=111 Third Avenue SW:geo:-73.959517,40.602991
END:VEVENT
BEGIN:VEVENT
DTSTART;TZID=America/Chicago:20230623T120000
DTEND;TZID=America/Chicago:20230623T130000
DTSTAMP:20260425T230244
CREATED:20221230T012830Z
LAST-MODIFIED:20221230T012830Z
UID:10001158-1687521600-1687525200@www.calvary-rochester.org
SUMMARY:Alanon (Zoom)
DESCRIPTION:Meets via Zoom\nThe email address is: Hopeandhealing22@gmail.com.\nThe meeting ID is: 81344786715\nThe password is: Grateful1
URL:https://www.calvary-rochester.org/event/alanon-zoom/2023-06-23/
LOCATION:Calvary Episcopal Church\, 111 Third Avenue SW\, Rochester\, MN\, 55902
CATEGORIES:Community
ORGANIZER;CN="Calvary Episcopal Church":MAILTO:office@calvary-rochester.org
GEO:40.602991;-73.959517
X-APPLE-STRUCTURED-LOCATION;VALUE=URI;X-ADDRESS=Calvary Episcopal Church 111 Third Avenue SW Rochester MN 55902;X-APPLE-RADIUS=500;X-TITLE=111 Third Avenue SW:geo:-73.959517,40.602991
END:VEVENT
BEGIN:VEVENT
DTSTART;TZID=America/Chicago:20230626T120000
DTEND;TZID=America/Chicago:20230626T130000
DTSTAMP:20260425T230244
CREATED:20221230T012601Z
LAST-MODIFIED:20221230T012601Z
UID:10000987-1687780800-1687784400@www.calvary-rochester.org
SUMMARY:AA
DESCRIPTION:Freedom from Bondage (FFB)  AA group. This is an open AA meeting. It meets every Monday through Friday from 12:00-1:00 upstairs in Crawford Hall. Anyone suffering from an addiction is welcome.
URL:https://www.calvary-rochester.org/event/aa/2023-06-26/
LOCATION:Calvary Episcopal Church\, 111 Third Avenue SW\, Rochester\, MN\, 55902
CATEGORIES:Community
ORGANIZER;CN="Calvary Episcopal Church":MAILTO:office@calvary-rochester.org
GEO:40.602991;-73.959517
X-APPLE-STRUCTURED-LOCATION;VALUE=URI;X-ADDRESS=Calvary Episcopal Church 111 Third Avenue SW Rochester MN 55902;X-APPLE-RADIUS=500;X-TITLE=111 Third Avenue SW:geo:-73.959517,40.602991
END:VEVENT
BEGIN:VEVENT
DTSTART;TZID=America/Chicago:20230626T120000
DTEND;TZID=America/Chicago:20230626T130000
DTSTAMP:20260425T230244
CREATED:20221230T013043Z
LAST-MODIFIED:20221230T013043Z
UID:10001211-1687780800-1687784400@www.calvary-rochester.org
SUMMARY:Alanon
DESCRIPTION:Meets in Menefee Hall\, opposite the church office.
URL:https://www.calvary-rochester.org/event/alanon-3/2023-06-26/
LOCATION:Calvary Episcopal Church\, 111 Third Avenue SW\, Rochester\, MN\, 55902
CATEGORIES:Community
ORGANIZER;CN="Calvary Episcopal Church":MAILTO:office@calvary-rochester.org
GEO:40.602991;-73.959517
X-APPLE-STRUCTURED-LOCATION;VALUE=URI;X-ADDRESS=Calvary Episcopal Church 111 Third Avenue SW Rochester MN 55902;X-APPLE-RADIUS=500;X-TITLE=111 Third Avenue SW:geo:-73.959517,40.602991
END:VEVENT
END:VCALENDAR