BEGIN:VCALENDAR
VERSION:2.0
PRODID:-//Calvary Episcopal Church - ECPv6.15.20//NONSGML v1.0//EN
CALSCALE:GREGORIAN
METHOD:PUBLISH
X-ORIGINAL-URL:https://www.calvary-rochester.org
X-WR-CALDESC:Events for Calvary Episcopal Church
REFRESH-INTERVAL;VALUE=DURATION:PT1H
X-Robots-Tag:noindex
X-PUBLISHED-TTL:PT1H
BEGIN:VTIMEZONE
TZID:America/Chicago
BEGIN:DAYLIGHT
TZOFFSETFROM:-0600
TZOFFSETTO:-0500
TZNAME:CDT
DTSTART:20220313T080000
END:DAYLIGHT
BEGIN:STANDARD
TZOFFSETFROM:-0500
TZOFFSETTO:-0600
TZNAME:CST
DTSTART:20221106T070000
END:STANDARD
BEGIN:DAYLIGHT
TZOFFSETFROM:-0600
TZOFFSETTO:-0500
TZNAME:CDT
DTSTART:20230312T080000
END:DAYLIGHT
BEGIN:STANDARD
TZOFFSETFROM:-0500
TZOFFSETTO:-0600
TZNAME:CST
DTSTART:20231105T070000
END:STANDARD
BEGIN:DAYLIGHT
TZOFFSETFROM:-0600
TZOFFSETTO:-0500
TZNAME:CDT
DTSTART:20240310T080000
END:DAYLIGHT
BEGIN:STANDARD
TZOFFSETFROM:-0500
TZOFFSETTO:-0600
TZNAME:CST
DTSTART:20241103T070000
END:STANDARD
END:VTIMEZONE
BEGIN:VEVENT
DTSTART;TZID=America/Chicago:20230901T120000
DTEND;TZID=America/Chicago:20230901T130000
DTSTAMP:20260425T184030
CREATED:20221230T012601Z
LAST-MODIFIED:20221230T012601Z
UID:10001036-1693569600-1693573200@www.calvary-rochester.org
SUMMARY:AA
DESCRIPTION:Freedom from Bondage (FFB)  AA group. This is an open AA meeting. It meets every Monday through Friday from 12:00-1:00 upstairs in Crawford Hall. Anyone suffering from an addiction is welcome.
URL:https://www.calvary-rochester.org/event/aa/2023-09-01/
LOCATION:Calvary Episcopal Church\, 111 Third Avenue SW\, Rochester\, MN\, 55902
CATEGORIES:Community
ORGANIZER;CN="Calvary Episcopal Church":MAILTO:office@calvary-rochester.org
GEO:40.602991;-73.959517
X-APPLE-STRUCTURED-LOCATION;VALUE=URI;X-ADDRESS=Calvary Episcopal Church 111 Third Avenue SW Rochester MN 55902;X-APPLE-RADIUS=500;X-TITLE=111 Third Avenue SW:geo:-73.959517,40.602991
END:VEVENT
BEGIN:VEVENT
DTSTART;TZID=America/Chicago:20230901T120000
DTEND;TZID=America/Chicago:20230901T130000
DTSTAMP:20260425T184030
CREATED:20221230T012830Z
LAST-MODIFIED:20221230T012830Z
UID:10001168-1693569600-1693573200@www.calvary-rochester.org
SUMMARY:Alanon (Zoom)
DESCRIPTION:Meets via Zoom\nThe email address is: Hopeandhealing22@gmail.com.\nThe meeting ID is: 81344786715\nThe password is: Grateful1
URL:https://www.calvary-rochester.org/event/alanon-zoom/2023-09-01/
LOCATION:Calvary Episcopal Church\, 111 Third Avenue SW\, Rochester\, MN\, 55902
CATEGORIES:Community
ORGANIZER;CN="Calvary Episcopal Church":MAILTO:office@calvary-rochester.org
GEO:40.602991;-73.959517
X-APPLE-STRUCTURED-LOCATION;VALUE=URI;X-ADDRESS=Calvary Episcopal Church 111 Third Avenue SW Rochester MN 55902;X-APPLE-RADIUS=500;X-TITLE=111 Third Avenue SW:geo:-73.959517,40.602991
END:VEVENT
BEGIN:VEVENT
DTSTART;TZID=America/Chicago:20230904T120000
DTEND;TZID=America/Chicago:20230904T130000
DTSTAMP:20260425T184030
CREATED:20221230T012601Z
LAST-MODIFIED:20221230T012601Z
UID:10001037-1693828800-1693832400@www.calvary-rochester.org
SUMMARY:AA
DESCRIPTION:Freedom from Bondage (FFB)  AA group. This is an open AA meeting. It meets every Monday through Friday from 12:00-1:00 upstairs in Crawford Hall. Anyone suffering from an addiction is welcome.
URL:https://www.calvary-rochester.org/event/aa/2023-09-04/
LOCATION:Calvary Episcopal Church\, 111 Third Avenue SW\, Rochester\, MN\, 55902
CATEGORIES:Community
ORGANIZER;CN="Calvary Episcopal Church":MAILTO:office@calvary-rochester.org
GEO:40.602991;-73.959517
X-APPLE-STRUCTURED-LOCATION;VALUE=URI;X-ADDRESS=Calvary Episcopal Church 111 Third Avenue SW Rochester MN 55902;X-APPLE-RADIUS=500;X-TITLE=111 Third Avenue SW:geo:-73.959517,40.602991
END:VEVENT
BEGIN:VEVENT
DTSTART;TZID=America/Chicago:20230904T120000
DTEND;TZID=America/Chicago:20230904T130000
DTSTAMP:20260425T184030
CREATED:20221230T013043Z
LAST-MODIFIED:20221230T013043Z
UID:10001221-1693828800-1693832400@www.calvary-rochester.org
SUMMARY:Alanon
DESCRIPTION:Meets in Menefee Hall\, opposite the church office.
URL:https://www.calvary-rochester.org/event/alanon-3/2023-09-04/
LOCATION:Calvary Episcopal Church\, 111 Third Avenue SW\, Rochester\, MN\, 55902
CATEGORIES:Community
ORGANIZER;CN="Calvary Episcopal Church":MAILTO:office@calvary-rochester.org
GEO:40.602991;-73.959517
X-APPLE-STRUCTURED-LOCATION;VALUE=URI;X-ADDRESS=Calvary Episcopal Church 111 Third Avenue SW Rochester MN 55902;X-APPLE-RADIUS=500;X-TITLE=111 Third Avenue SW:geo:-73.959517,40.602991
END:VEVENT
BEGIN:VEVENT
DTSTART;TZID=America/Chicago:20230905T120000
DTEND;TZID=America/Chicago:20230905T130000
DTSTAMP:20260425T184030
CREATED:20221230T012601Z
LAST-MODIFIED:20221230T012601Z
UID:10001038-1693915200-1693918800@www.calvary-rochester.org
SUMMARY:AA
DESCRIPTION:Freedom from Bondage (FFB)  AA group. This is an open AA meeting. It meets every Monday through Friday from 12:00-1:00 upstairs in Crawford Hall. Anyone suffering from an addiction is welcome.
URL:https://www.calvary-rochester.org/event/aa/2023-09-05/
LOCATION:Calvary Episcopal Church\, 111 Third Avenue SW\, Rochester\, MN\, 55902
CATEGORIES:Community
ORGANIZER;CN="Calvary Episcopal Church":MAILTO:office@calvary-rochester.org
GEO:40.602991;-73.959517
X-APPLE-STRUCTURED-LOCATION;VALUE=URI;X-ADDRESS=Calvary Episcopal Church 111 Third Avenue SW Rochester MN 55902;X-APPLE-RADIUS=500;X-TITLE=111 Third Avenue SW:geo:-73.959517,40.602991
END:VEVENT
BEGIN:VEVENT
DTSTART;TZID=America/Chicago:20230906T120000
DTEND;TZID=America/Chicago:20230906T130000
DTSTAMP:20260425T184030
CREATED:20221230T012601Z
LAST-MODIFIED:20221230T012601Z
UID:10001039-1694001600-1694005200@www.calvary-rochester.org
SUMMARY:AA
DESCRIPTION:Freedom from Bondage (FFB)  AA group. This is an open AA meeting. It meets every Monday through Friday from 12:00-1:00 upstairs in Crawford Hall. Anyone suffering from an addiction is welcome.
URL:https://www.calvary-rochester.org/event/aa/2023-09-06/
LOCATION:Calvary Episcopal Church\, 111 Third Avenue SW\, Rochester\, MN\, 55902
CATEGORIES:Community
ORGANIZER;CN="Calvary Episcopal Church":MAILTO:office@calvary-rochester.org
GEO:40.602991;-73.959517
X-APPLE-STRUCTURED-LOCATION;VALUE=URI;X-ADDRESS=Calvary Episcopal Church 111 Third Avenue SW Rochester MN 55902;X-APPLE-RADIUS=500;X-TITLE=111 Third Avenue SW:geo:-73.959517,40.602991
END:VEVENT
BEGIN:VEVENT
DTSTART;TZID=America/Chicago:20230907T064500
DTEND;TZID=America/Chicago:20230907T074500
DTSTAMP:20260425T184030
CREATED:20221230T014809Z
LAST-MODIFIED:20221230T014809Z
UID:10000505-1694069100-1694072700@www.calvary-rochester.org
SUMMARY:Medical and Professional AA Meeting
DESCRIPTION:This AA meeting meets early to accommodate the schedules of medical professionals\, but anyone who is suffering from an addiction and is an early-riser is welcome. It takes place on the main floor in the Larson Fireside Room.
URL:https://www.calvary-rochester.org/event/medical-and-professional-aa-meeting-2/2023-09-07/
LOCATION:Calvary Episcopal Church\, 111 Third Avenue SW\, Rochester\, MN\, 55902
CATEGORIES:Community
ORGANIZER;CN="Calvary Episcopal Church":MAILTO:office@calvary-rochester.org
GEO:40.602991;-73.959517
X-APPLE-STRUCTURED-LOCATION;VALUE=URI;X-ADDRESS=Calvary Episcopal Church 111 Third Avenue SW Rochester MN 55902;X-APPLE-RADIUS=500;X-TITLE=111 Third Avenue SW:geo:-73.959517,40.602991
END:VEVENT
BEGIN:VEVENT
DTSTART;TZID=America/Chicago:20230907T120000
DTEND;TZID=America/Chicago:20230907T130000
DTSTAMP:20260425T184030
CREATED:20221230T012601Z
LAST-MODIFIED:20221230T012601Z
UID:10001040-1694088000-1694091600@www.calvary-rochester.org
SUMMARY:AA
DESCRIPTION:Freedom from Bondage (FFB)  AA group. This is an open AA meeting. It meets every Monday through Friday from 12:00-1:00 upstairs in Crawford Hall. Anyone suffering from an addiction is welcome.
URL:https://www.calvary-rochester.org/event/aa/2023-09-07/
LOCATION:Calvary Episcopal Church\, 111 Third Avenue SW\, Rochester\, MN\, 55902
CATEGORIES:Community
ORGANIZER;CN="Calvary Episcopal Church":MAILTO:office@calvary-rochester.org
GEO:40.602991;-73.959517
X-APPLE-STRUCTURED-LOCATION;VALUE=URI;X-ADDRESS=Calvary Episcopal Church 111 Third Avenue SW Rochester MN 55902;X-APPLE-RADIUS=500;X-TITLE=111 Third Avenue SW:geo:-73.959517,40.602991
END:VEVENT
BEGIN:VEVENT
DTSTART;TZID=America/Chicago:20230908T120000
DTEND;TZID=America/Chicago:20230908T130000
DTSTAMP:20260425T184030
CREATED:20221230T012601Z
LAST-MODIFIED:20221230T012601Z
UID:10001041-1694174400-1694178000@www.calvary-rochester.org
SUMMARY:AA
DESCRIPTION:Freedom from Bondage (FFB)  AA group. This is an open AA meeting. It meets every Monday through Friday from 12:00-1:00 upstairs in Crawford Hall. Anyone suffering from an addiction is welcome.
URL:https://www.calvary-rochester.org/event/aa/2023-09-08/
LOCATION:Calvary Episcopal Church\, 111 Third Avenue SW\, Rochester\, MN\, 55902
CATEGORIES:Community
ORGANIZER;CN="Calvary Episcopal Church":MAILTO:office@calvary-rochester.org
GEO:40.602991;-73.959517
X-APPLE-STRUCTURED-LOCATION;VALUE=URI;X-ADDRESS=Calvary Episcopal Church 111 Third Avenue SW Rochester MN 55902;X-APPLE-RADIUS=500;X-TITLE=111 Third Avenue SW:geo:-73.959517,40.602991
END:VEVENT
BEGIN:VEVENT
DTSTART;TZID=America/Chicago:20230908T120000
DTEND;TZID=America/Chicago:20230908T130000
DTSTAMP:20260425T184030
CREATED:20221230T012830Z
LAST-MODIFIED:20221230T012830Z
UID:10001169-1694174400-1694178000@www.calvary-rochester.org
SUMMARY:Alanon (Zoom)
DESCRIPTION:Meets via Zoom\nThe email address is: Hopeandhealing22@gmail.com.\nThe meeting ID is: 81344786715\nThe password is: Grateful1
URL:https://www.calvary-rochester.org/event/alanon-zoom/2023-09-08/
LOCATION:Calvary Episcopal Church\, 111 Third Avenue SW\, Rochester\, MN\, 55902
CATEGORIES:Community
ORGANIZER;CN="Calvary Episcopal Church":MAILTO:office@calvary-rochester.org
GEO:40.602991;-73.959517
X-APPLE-STRUCTURED-LOCATION;VALUE=URI;X-ADDRESS=Calvary Episcopal Church 111 Third Avenue SW Rochester MN 55902;X-APPLE-RADIUS=500;X-TITLE=111 Third Avenue SW:geo:-73.959517,40.602991
END:VEVENT
BEGIN:VEVENT
DTSTART;TZID=America/Chicago:20230911T120000
DTEND;TZID=America/Chicago:20230911T130000
DTSTAMP:20260425T184030
CREATED:20221230T012601Z
LAST-MODIFIED:20221230T012601Z
UID:10001042-1694433600-1694437200@www.calvary-rochester.org
SUMMARY:AA
DESCRIPTION:Freedom from Bondage (FFB)  AA group. This is an open AA meeting. It meets every Monday through Friday from 12:00-1:00 upstairs in Crawford Hall. Anyone suffering from an addiction is welcome.
URL:https://www.calvary-rochester.org/event/aa/2023-09-11/
LOCATION:Calvary Episcopal Church\, 111 Third Avenue SW\, Rochester\, MN\, 55902
CATEGORIES:Community
ORGANIZER;CN="Calvary Episcopal Church":MAILTO:office@calvary-rochester.org
GEO:40.602991;-73.959517
X-APPLE-STRUCTURED-LOCATION;VALUE=URI;X-ADDRESS=Calvary Episcopal Church 111 Third Avenue SW Rochester MN 55902;X-APPLE-RADIUS=500;X-TITLE=111 Third Avenue SW:geo:-73.959517,40.602991
END:VEVENT
BEGIN:VEVENT
DTSTART;TZID=America/Chicago:20230911T120000
DTEND;TZID=America/Chicago:20230911T130000
DTSTAMP:20260425T184030
CREATED:20221230T013043Z
LAST-MODIFIED:20221230T013043Z
UID:10001222-1694433600-1694437200@www.calvary-rochester.org
SUMMARY:Alanon
DESCRIPTION:Meets in Menefee Hall\, opposite the church office.
URL:https://www.calvary-rochester.org/event/alanon-3/2023-09-11/
LOCATION:Calvary Episcopal Church\, 111 Third Avenue SW\, Rochester\, MN\, 55902
CATEGORIES:Community
ORGANIZER;CN="Calvary Episcopal Church":MAILTO:office@calvary-rochester.org
GEO:40.602991;-73.959517
X-APPLE-STRUCTURED-LOCATION;VALUE=URI;X-ADDRESS=Calvary Episcopal Church 111 Third Avenue SW Rochester MN 55902;X-APPLE-RADIUS=500;X-TITLE=111 Third Avenue SW:geo:-73.959517,40.602991
END:VEVENT
BEGIN:VEVENT
DTSTART;TZID=America/Chicago:20230912T120000
DTEND;TZID=America/Chicago:20230912T130000
DTSTAMP:20260425T184030
CREATED:20221230T012601Z
LAST-MODIFIED:20221230T012601Z
UID:10001043-1694520000-1694523600@www.calvary-rochester.org
SUMMARY:AA
DESCRIPTION:Freedom from Bondage (FFB)  AA group. This is an open AA meeting. It meets every Monday through Friday from 12:00-1:00 upstairs in Crawford Hall. Anyone suffering from an addiction is welcome.
URL:https://www.calvary-rochester.org/event/aa/2023-09-12/
LOCATION:Calvary Episcopal Church\, 111 Third Avenue SW\, Rochester\, MN\, 55902
CATEGORIES:Community
ORGANIZER;CN="Calvary Episcopal Church":MAILTO:office@calvary-rochester.org
GEO:40.602991;-73.959517
X-APPLE-STRUCTURED-LOCATION;VALUE=URI;X-ADDRESS=Calvary Episcopal Church 111 Third Avenue SW Rochester MN 55902;X-APPLE-RADIUS=500;X-TITLE=111 Third Avenue SW:geo:-73.959517,40.602991
END:VEVENT
BEGIN:VEVENT
DTSTART;TZID=America/Chicago:20230913T120000
DTEND;TZID=America/Chicago:20230913T130000
DTSTAMP:20260425T184030
CREATED:20221230T012601Z
LAST-MODIFIED:20221230T012601Z
UID:10001044-1694606400-1694610000@www.calvary-rochester.org
SUMMARY:AA
DESCRIPTION:Freedom from Bondage (FFB)  AA group. This is an open AA meeting. It meets every Monday through Friday from 12:00-1:00 upstairs in Crawford Hall. Anyone suffering from an addiction is welcome.
URL:https://www.calvary-rochester.org/event/aa/2023-09-13/
LOCATION:Calvary Episcopal Church\, 111 Third Avenue SW\, Rochester\, MN\, 55902
CATEGORIES:Community
ORGANIZER;CN="Calvary Episcopal Church":MAILTO:office@calvary-rochester.org
GEO:40.602991;-73.959517
X-APPLE-STRUCTURED-LOCATION;VALUE=URI;X-ADDRESS=Calvary Episcopal Church 111 Third Avenue SW Rochester MN 55902;X-APPLE-RADIUS=500;X-TITLE=111 Third Avenue SW:geo:-73.959517,40.602991
END:VEVENT
BEGIN:VEVENT
DTSTART;TZID=America/Chicago:20230914T064500
DTEND;TZID=America/Chicago:20230914T074500
DTSTAMP:20260425T184030
CREATED:20221230T014809Z
LAST-MODIFIED:20221230T014809Z
UID:10000506-1694673900-1694677500@www.calvary-rochester.org
SUMMARY:Medical and Professional AA Meeting
DESCRIPTION:This AA meeting meets early to accommodate the schedules of medical professionals\, but anyone who is suffering from an addiction and is an early-riser is welcome. It takes place on the main floor in the Larson Fireside Room.
URL:https://www.calvary-rochester.org/event/medical-and-professional-aa-meeting-2/2023-09-14/
LOCATION:Calvary Episcopal Church\, 111 Third Avenue SW\, Rochester\, MN\, 55902
CATEGORIES:Community
ORGANIZER;CN="Calvary Episcopal Church":MAILTO:office@calvary-rochester.org
GEO:40.602991;-73.959517
X-APPLE-STRUCTURED-LOCATION;VALUE=URI;X-ADDRESS=Calvary Episcopal Church 111 Third Avenue SW Rochester MN 55902;X-APPLE-RADIUS=500;X-TITLE=111 Third Avenue SW:geo:-73.959517,40.602991
END:VEVENT
BEGIN:VEVENT
DTSTART;TZID=America/Chicago:20230914T120000
DTEND;TZID=America/Chicago:20230914T130000
DTSTAMP:20260425T184030
CREATED:20221230T012601Z
LAST-MODIFIED:20221230T012601Z
UID:10001045-1694692800-1694696400@www.calvary-rochester.org
SUMMARY:AA
DESCRIPTION:Freedom from Bondage (FFB)  AA group. This is an open AA meeting. It meets every Monday through Friday from 12:00-1:00 upstairs in Crawford Hall. Anyone suffering from an addiction is welcome.
URL:https://www.calvary-rochester.org/event/aa/2023-09-14/
LOCATION:Calvary Episcopal Church\, 111 Third Avenue SW\, Rochester\, MN\, 55902
CATEGORIES:Community
ORGANIZER;CN="Calvary Episcopal Church":MAILTO:office@calvary-rochester.org
GEO:40.602991;-73.959517
X-APPLE-STRUCTURED-LOCATION;VALUE=URI;X-ADDRESS=Calvary Episcopal Church 111 Third Avenue SW Rochester MN 55902;X-APPLE-RADIUS=500;X-TITLE=111 Third Avenue SW:geo:-73.959517,40.602991
END:VEVENT
BEGIN:VEVENT
DTSTART;TZID=America/Chicago:20230915T120000
DTEND;TZID=America/Chicago:20230915T130000
DTSTAMP:20260425T184030
CREATED:20221230T012601Z
LAST-MODIFIED:20221230T012601Z
UID:10001046-1694779200-1694782800@www.calvary-rochester.org
SUMMARY:AA
DESCRIPTION:Freedom from Bondage (FFB)  AA group. This is an open AA meeting. It meets every Monday through Friday from 12:00-1:00 upstairs in Crawford Hall. Anyone suffering from an addiction is welcome.
URL:https://www.calvary-rochester.org/event/aa/2023-09-15/
LOCATION:Calvary Episcopal Church\, 111 Third Avenue SW\, Rochester\, MN\, 55902
CATEGORIES:Community
ORGANIZER;CN="Calvary Episcopal Church":MAILTO:office@calvary-rochester.org
GEO:40.602991;-73.959517
X-APPLE-STRUCTURED-LOCATION;VALUE=URI;X-ADDRESS=Calvary Episcopal Church 111 Third Avenue SW Rochester MN 55902;X-APPLE-RADIUS=500;X-TITLE=111 Third Avenue SW:geo:-73.959517,40.602991
END:VEVENT
BEGIN:VEVENT
DTSTART;TZID=America/Chicago:20230915T120000
DTEND;TZID=America/Chicago:20230915T130000
DTSTAMP:20260425T184030
CREATED:20221230T012830Z
LAST-MODIFIED:20221230T012830Z
UID:10001170-1694779200-1694782800@www.calvary-rochester.org
SUMMARY:Alanon (Zoom)
DESCRIPTION:Meets via Zoom\nThe email address is: Hopeandhealing22@gmail.com.\nThe meeting ID is: 81344786715\nThe password is: Grateful1
URL:https://www.calvary-rochester.org/event/alanon-zoom/2023-09-15/
LOCATION:Calvary Episcopal Church\, 111 Third Avenue SW\, Rochester\, MN\, 55902
CATEGORIES:Community
ORGANIZER;CN="Calvary Episcopal Church":MAILTO:office@calvary-rochester.org
GEO:40.602991;-73.959517
X-APPLE-STRUCTURED-LOCATION;VALUE=URI;X-ADDRESS=Calvary Episcopal Church 111 Third Avenue SW Rochester MN 55902;X-APPLE-RADIUS=500;X-TITLE=111 Third Avenue SW:geo:-73.959517,40.602991
END:VEVENT
BEGIN:VEVENT
DTSTART;TZID=America/Chicago:20230918T120000
DTEND;TZID=America/Chicago:20230918T130000
DTSTAMP:20260425T184030
CREATED:20221230T012601Z
LAST-MODIFIED:20221230T012601Z
UID:10001047-1695038400-1695042000@www.calvary-rochester.org
SUMMARY:AA
DESCRIPTION:Freedom from Bondage (FFB)  AA group. This is an open AA meeting. It meets every Monday through Friday from 12:00-1:00 upstairs in Crawford Hall. Anyone suffering from an addiction is welcome.
URL:https://www.calvary-rochester.org/event/aa/2023-09-18/
LOCATION:Calvary Episcopal Church\, 111 Third Avenue SW\, Rochester\, MN\, 55902
CATEGORIES:Community
ORGANIZER;CN="Calvary Episcopal Church":MAILTO:office@calvary-rochester.org
GEO:40.602991;-73.959517
X-APPLE-STRUCTURED-LOCATION;VALUE=URI;X-ADDRESS=Calvary Episcopal Church 111 Third Avenue SW Rochester MN 55902;X-APPLE-RADIUS=500;X-TITLE=111 Third Avenue SW:geo:-73.959517,40.602991
END:VEVENT
BEGIN:VEVENT
DTSTART;TZID=America/Chicago:20230918T120000
DTEND;TZID=America/Chicago:20230918T130000
DTSTAMP:20260425T184030
CREATED:20221230T013043Z
LAST-MODIFIED:20221230T013043Z
UID:10001223-1695038400-1695042000@www.calvary-rochester.org
SUMMARY:Alanon
DESCRIPTION:Meets in Menefee Hall\, opposite the church office.
URL:https://www.calvary-rochester.org/event/alanon-3/2023-09-18/
LOCATION:Calvary Episcopal Church\, 111 Third Avenue SW\, Rochester\, MN\, 55902
CATEGORIES:Community
ORGANIZER;CN="Calvary Episcopal Church":MAILTO:office@calvary-rochester.org
GEO:40.602991;-73.959517
X-APPLE-STRUCTURED-LOCATION;VALUE=URI;X-ADDRESS=Calvary Episcopal Church 111 Third Avenue SW Rochester MN 55902;X-APPLE-RADIUS=500;X-TITLE=111 Third Avenue SW:geo:-73.959517,40.602991
END:VEVENT
BEGIN:VEVENT
DTSTART;TZID=America/Chicago:20230919T120000
DTEND;TZID=America/Chicago:20230919T130000
DTSTAMP:20260425T184030
CREATED:20221230T012601Z
LAST-MODIFIED:20221230T012601Z
UID:10001048-1695124800-1695128400@www.calvary-rochester.org
SUMMARY:AA
DESCRIPTION:Freedom from Bondage (FFB)  AA group. This is an open AA meeting. It meets every Monday through Friday from 12:00-1:00 upstairs in Crawford Hall. Anyone suffering from an addiction is welcome.
URL:https://www.calvary-rochester.org/event/aa/2023-09-19/
LOCATION:Calvary Episcopal Church\, 111 Third Avenue SW\, Rochester\, MN\, 55902
CATEGORIES:Community
ORGANIZER;CN="Calvary Episcopal Church":MAILTO:office@calvary-rochester.org
GEO:40.602991;-73.959517
X-APPLE-STRUCTURED-LOCATION;VALUE=URI;X-ADDRESS=Calvary Episcopal Church 111 Third Avenue SW Rochester MN 55902;X-APPLE-RADIUS=500;X-TITLE=111 Third Avenue SW:geo:-73.959517,40.602991
END:VEVENT
BEGIN:VEVENT
DTSTART;TZID=America/Chicago:20230920T120000
DTEND;TZID=America/Chicago:20230920T130000
DTSTAMP:20260425T184030
CREATED:20221230T012601Z
LAST-MODIFIED:20221230T012601Z
UID:10001049-1695211200-1695214800@www.calvary-rochester.org
SUMMARY:AA
DESCRIPTION:Freedom from Bondage (FFB)  AA group. This is an open AA meeting. It meets every Monday through Friday from 12:00-1:00 upstairs in Crawford Hall. Anyone suffering from an addiction is welcome.
URL:https://www.calvary-rochester.org/event/aa/2023-09-20/
LOCATION:Calvary Episcopal Church\, 111 Third Avenue SW\, Rochester\, MN\, 55902
CATEGORIES:Community
ORGANIZER;CN="Calvary Episcopal Church":MAILTO:office@calvary-rochester.org
GEO:40.602991;-73.959517
X-APPLE-STRUCTURED-LOCATION;VALUE=URI;X-ADDRESS=Calvary Episcopal Church 111 Third Avenue SW Rochester MN 55902;X-APPLE-RADIUS=500;X-TITLE=111 Third Avenue SW:geo:-73.959517,40.602991
END:VEVENT
BEGIN:VEVENT
DTSTART;TZID=America/Chicago:20230921T064500
DTEND;TZID=America/Chicago:20230921T074500
DTSTAMP:20260425T184030
CREATED:20221230T014809Z
LAST-MODIFIED:20221230T014809Z
UID:10000507-1695278700-1695282300@www.calvary-rochester.org
SUMMARY:Medical and Professional AA Meeting
DESCRIPTION:This AA meeting meets early to accommodate the schedules of medical professionals\, but anyone who is suffering from an addiction and is an early-riser is welcome. It takes place on the main floor in the Larson Fireside Room.
URL:https://www.calvary-rochester.org/event/medical-and-professional-aa-meeting-2/2023-09-21/
LOCATION:Calvary Episcopal Church\, 111 Third Avenue SW\, Rochester\, MN\, 55902
CATEGORIES:Community
ORGANIZER;CN="Calvary Episcopal Church":MAILTO:office@calvary-rochester.org
GEO:40.602991;-73.959517
X-APPLE-STRUCTURED-LOCATION;VALUE=URI;X-ADDRESS=Calvary Episcopal Church 111 Third Avenue SW Rochester MN 55902;X-APPLE-RADIUS=500;X-TITLE=111 Third Avenue SW:geo:-73.959517,40.602991
END:VEVENT
BEGIN:VEVENT
DTSTART;TZID=America/Chicago:20230921T120000
DTEND;TZID=America/Chicago:20230921T130000
DTSTAMP:20260425T184030
CREATED:20221230T012601Z
LAST-MODIFIED:20221230T012601Z
UID:10001050-1695297600-1695301200@www.calvary-rochester.org
SUMMARY:AA
DESCRIPTION:Freedom from Bondage (FFB)  AA group. This is an open AA meeting. It meets every Monday through Friday from 12:00-1:00 upstairs in Crawford Hall. Anyone suffering from an addiction is welcome.
URL:https://www.calvary-rochester.org/event/aa/2023-09-21/
LOCATION:Calvary Episcopal Church\, 111 Third Avenue SW\, Rochester\, MN\, 55902
CATEGORIES:Community
ORGANIZER;CN="Calvary Episcopal Church":MAILTO:office@calvary-rochester.org
GEO:40.602991;-73.959517
X-APPLE-STRUCTURED-LOCATION;VALUE=URI;X-ADDRESS=Calvary Episcopal Church 111 Third Avenue SW Rochester MN 55902;X-APPLE-RADIUS=500;X-TITLE=111 Third Avenue SW:geo:-73.959517,40.602991
END:VEVENT
BEGIN:VEVENT
DTSTART;TZID=America/Chicago:20230922T120000
DTEND;TZID=America/Chicago:20230922T130000
DTSTAMP:20260425T184030
CREATED:20221230T012601Z
LAST-MODIFIED:20221230T012601Z
UID:10001051-1695384000-1695387600@www.calvary-rochester.org
SUMMARY:AA
DESCRIPTION:Freedom from Bondage (FFB)  AA group. This is an open AA meeting. It meets every Monday through Friday from 12:00-1:00 upstairs in Crawford Hall. Anyone suffering from an addiction is welcome.
URL:https://www.calvary-rochester.org/event/aa/2023-09-22/
LOCATION:Calvary Episcopal Church\, 111 Third Avenue SW\, Rochester\, MN\, 55902
CATEGORIES:Community
ORGANIZER;CN="Calvary Episcopal Church":MAILTO:office@calvary-rochester.org
GEO:40.602991;-73.959517
X-APPLE-STRUCTURED-LOCATION;VALUE=URI;X-ADDRESS=Calvary Episcopal Church 111 Third Avenue SW Rochester MN 55902;X-APPLE-RADIUS=500;X-TITLE=111 Third Avenue SW:geo:-73.959517,40.602991
END:VEVENT
BEGIN:VEVENT
DTSTART;TZID=America/Chicago:20230922T120000
DTEND;TZID=America/Chicago:20230922T130000
DTSTAMP:20260425T184030
CREATED:20221230T012830Z
LAST-MODIFIED:20221230T012830Z
UID:10001171-1695384000-1695387600@www.calvary-rochester.org
SUMMARY:Alanon (Zoom)
DESCRIPTION:Meets via Zoom\nThe email address is: Hopeandhealing22@gmail.com.\nThe meeting ID is: 81344786715\nThe password is: Grateful1
URL:https://www.calvary-rochester.org/event/alanon-zoom/2023-09-22/
LOCATION:Calvary Episcopal Church\, 111 Third Avenue SW\, Rochester\, MN\, 55902
CATEGORIES:Community
ORGANIZER;CN="Calvary Episcopal Church":MAILTO:office@calvary-rochester.org
GEO:40.602991;-73.959517
X-APPLE-STRUCTURED-LOCATION;VALUE=URI;X-ADDRESS=Calvary Episcopal Church 111 Third Avenue SW Rochester MN 55902;X-APPLE-RADIUS=500;X-TITLE=111 Third Avenue SW:geo:-73.959517,40.602991
END:VEVENT
BEGIN:VEVENT
DTSTART;TZID=America/Chicago:20230925T120000
DTEND;TZID=America/Chicago:20230925T130000
DTSTAMP:20260425T184030
CREATED:20221230T012601Z
LAST-MODIFIED:20221230T012601Z
UID:10001052-1695643200-1695646800@www.calvary-rochester.org
SUMMARY:AA
DESCRIPTION:Freedom from Bondage (FFB)  AA group. This is an open AA meeting. It meets every Monday through Friday from 12:00-1:00 upstairs in Crawford Hall. Anyone suffering from an addiction is welcome.
URL:https://www.calvary-rochester.org/event/aa/2023-09-25/
LOCATION:Calvary Episcopal Church\, 111 Third Avenue SW\, Rochester\, MN\, 55902
CATEGORIES:Community
ORGANIZER;CN="Calvary Episcopal Church":MAILTO:office@calvary-rochester.org
GEO:40.602991;-73.959517
X-APPLE-STRUCTURED-LOCATION;VALUE=URI;X-ADDRESS=Calvary Episcopal Church 111 Third Avenue SW Rochester MN 55902;X-APPLE-RADIUS=500;X-TITLE=111 Third Avenue SW:geo:-73.959517,40.602991
END:VEVENT
BEGIN:VEVENT
DTSTART;TZID=America/Chicago:20230925T120000
DTEND;TZID=America/Chicago:20230925T130000
DTSTAMP:20260425T184030
CREATED:20221230T013043Z
LAST-MODIFIED:20221230T013043Z
UID:10001224-1695643200-1695646800@www.calvary-rochester.org
SUMMARY:Alanon
DESCRIPTION:Meets in Menefee Hall\, opposite the church office.
URL:https://www.calvary-rochester.org/event/alanon-3/2023-09-25/
LOCATION:Calvary Episcopal Church\, 111 Third Avenue SW\, Rochester\, MN\, 55902
CATEGORIES:Community
ORGANIZER;CN="Calvary Episcopal Church":MAILTO:office@calvary-rochester.org
GEO:40.602991;-73.959517
X-APPLE-STRUCTURED-LOCATION;VALUE=URI;X-ADDRESS=Calvary Episcopal Church 111 Third Avenue SW Rochester MN 55902;X-APPLE-RADIUS=500;X-TITLE=111 Third Avenue SW:geo:-73.959517,40.602991
END:VEVENT
BEGIN:VEVENT
DTSTART;TZID=America/Chicago:20230926T120000
DTEND;TZID=America/Chicago:20230926T130000
DTSTAMP:20260425T184030
CREATED:20221230T012601Z
LAST-MODIFIED:20221230T012601Z
UID:10001053-1695729600-1695733200@www.calvary-rochester.org
SUMMARY:AA
DESCRIPTION:Freedom from Bondage (FFB)  AA group. This is an open AA meeting. It meets every Monday through Friday from 12:00-1:00 upstairs in Crawford Hall. Anyone suffering from an addiction is welcome.
URL:https://www.calvary-rochester.org/event/aa/2023-09-26/
LOCATION:Calvary Episcopal Church\, 111 Third Avenue SW\, Rochester\, MN\, 55902
CATEGORIES:Community
ORGANIZER;CN="Calvary Episcopal Church":MAILTO:office@calvary-rochester.org
GEO:40.602991;-73.959517
X-APPLE-STRUCTURED-LOCATION;VALUE=URI;X-ADDRESS=Calvary Episcopal Church 111 Third Avenue SW Rochester MN 55902;X-APPLE-RADIUS=500;X-TITLE=111 Third Avenue SW:geo:-73.959517,40.602991
END:VEVENT
BEGIN:VEVENT
DTSTART;TZID=America/Chicago:20230927T120000
DTEND;TZID=America/Chicago:20230927T130000
DTSTAMP:20260425T184030
CREATED:20221230T012601Z
LAST-MODIFIED:20221230T012601Z
UID:10001054-1695816000-1695819600@www.calvary-rochester.org
SUMMARY:AA
DESCRIPTION:Freedom from Bondage (FFB)  AA group. This is an open AA meeting. It meets every Monday through Friday from 12:00-1:00 upstairs in Crawford Hall. Anyone suffering from an addiction is welcome.
URL:https://www.calvary-rochester.org/event/aa/2023-09-27/
LOCATION:Calvary Episcopal Church\, 111 Third Avenue SW\, Rochester\, MN\, 55902
CATEGORIES:Community
ORGANIZER;CN="Calvary Episcopal Church":MAILTO:office@calvary-rochester.org
GEO:40.602991;-73.959517
X-APPLE-STRUCTURED-LOCATION;VALUE=URI;X-ADDRESS=Calvary Episcopal Church 111 Third Avenue SW Rochester MN 55902;X-APPLE-RADIUS=500;X-TITLE=111 Third Avenue SW:geo:-73.959517,40.602991
END:VEVENT
END:VCALENDAR