BEGIN:VCALENDAR
VERSION:2.0
PRODID:-//Calvary Episcopal Church - ECPv6.15.20//NONSGML v1.0//EN
CALSCALE:GREGORIAN
METHOD:PUBLISH
X-ORIGINAL-URL:https://www.calvary-rochester.org
X-WR-CALDESC:Events for Calvary Episcopal Church
REFRESH-INTERVAL;VALUE=DURATION:PT1H
X-Robots-Tag:noindex
X-PUBLISHED-TTL:PT1H
BEGIN:VTIMEZONE
TZID:America/Chicago
BEGIN:DAYLIGHT
TZOFFSETFROM:-0600
TZOFFSETTO:-0500
TZNAME:CDT
DTSTART:20220313T080000
END:DAYLIGHT
BEGIN:STANDARD
TZOFFSETFROM:-0500
TZOFFSETTO:-0600
TZNAME:CST
DTSTART:20221106T070000
END:STANDARD
BEGIN:DAYLIGHT
TZOFFSETFROM:-0600
TZOFFSETTO:-0500
TZNAME:CDT
DTSTART:20230312T080000
END:DAYLIGHT
BEGIN:STANDARD
TZOFFSETFROM:-0500
TZOFFSETTO:-0600
TZNAME:CST
DTSTART:20231105T070000
END:STANDARD
BEGIN:DAYLIGHT
TZOFFSETFROM:-0600
TZOFFSETTO:-0500
TZNAME:CDT
DTSTART:20240310T080000
END:DAYLIGHT
BEGIN:STANDARD
TZOFFSETFROM:-0500
TZOFFSETTO:-0600
TZNAME:CST
DTSTART:20241103T070000
END:STANDARD
END:VTIMEZONE
BEGIN:VEVENT
DTSTART;TZID=America/Chicago:20231002T120000
DTEND;TZID=America/Chicago:20231002T130000
DTSTAMP:20260425T184017
CREATED:20221230T012601Z
LAST-MODIFIED:20221230T012601Z
UID:10001057-1696248000-1696251600@www.calvary-rochester.org
SUMMARY:AA
DESCRIPTION:Freedom from Bondage (FFB)  AA group. This is an open AA meeting. It meets every Monday through Friday from 12:00-1:00 upstairs in Crawford Hall. Anyone suffering from an addiction is welcome.
URL:https://www.calvary-rochester.org/event/aa/2023-10-02/
LOCATION:Calvary Episcopal Church\, 111 Third Avenue SW\, Rochester\, MN\, 55902
CATEGORIES:Community
ORGANIZER;CN="Calvary Episcopal Church":MAILTO:office@calvary-rochester.org
GEO:40.602991;-73.959517
X-APPLE-STRUCTURED-LOCATION;VALUE=URI;X-ADDRESS=Calvary Episcopal Church 111 Third Avenue SW Rochester MN 55902;X-APPLE-RADIUS=500;X-TITLE=111 Third Avenue SW:geo:-73.959517,40.602991
END:VEVENT
BEGIN:VEVENT
DTSTART;TZID=America/Chicago:20231002T120000
DTEND;TZID=America/Chicago:20231002T130000
DTSTAMP:20260425T184017
CREATED:20221230T013043Z
LAST-MODIFIED:20221230T013043Z
UID:10001225-1696248000-1696251600@www.calvary-rochester.org
SUMMARY:Alanon
DESCRIPTION:Meets in Menefee Hall\, opposite the church office.
URL:https://www.calvary-rochester.org/event/alanon-3/2023-10-02/
LOCATION:Calvary Episcopal Church\, 111 Third Avenue SW\, Rochester\, MN\, 55902
CATEGORIES:Community
ORGANIZER;CN="Calvary Episcopal Church":MAILTO:office@calvary-rochester.org
GEO:40.602991;-73.959517
X-APPLE-STRUCTURED-LOCATION;VALUE=URI;X-ADDRESS=Calvary Episcopal Church 111 Third Avenue SW Rochester MN 55902;X-APPLE-RADIUS=500;X-TITLE=111 Third Avenue SW:geo:-73.959517,40.602991
END:VEVENT
BEGIN:VEVENT
DTSTART;TZID=America/Chicago:20231003T120000
DTEND;TZID=America/Chicago:20231003T130000
DTSTAMP:20260425T184017
CREATED:20221230T012601Z
LAST-MODIFIED:20221230T012601Z
UID:10001058-1696334400-1696338000@www.calvary-rochester.org
SUMMARY:AA
DESCRIPTION:Freedom from Bondage (FFB)  AA group. This is an open AA meeting. It meets every Monday through Friday from 12:00-1:00 upstairs in Crawford Hall. Anyone suffering from an addiction is welcome.
URL:https://www.calvary-rochester.org/event/aa/2023-10-03/
LOCATION:Calvary Episcopal Church\, 111 Third Avenue SW\, Rochester\, MN\, 55902
CATEGORIES:Community
ORGANIZER;CN="Calvary Episcopal Church":MAILTO:office@calvary-rochester.org
GEO:40.602991;-73.959517
X-APPLE-STRUCTURED-LOCATION;VALUE=URI;X-ADDRESS=Calvary Episcopal Church 111 Third Avenue SW Rochester MN 55902;X-APPLE-RADIUS=500;X-TITLE=111 Third Avenue SW:geo:-73.959517,40.602991
END:VEVENT
BEGIN:VEVENT
DTSTART;TZID=America/Chicago:20231004T120000
DTEND;TZID=America/Chicago:20231004T130000
DTSTAMP:20260425T184017
CREATED:20221230T012601Z
LAST-MODIFIED:20221230T012601Z
UID:10001059-1696420800-1696424400@www.calvary-rochester.org
SUMMARY:AA
DESCRIPTION:Freedom from Bondage (FFB)  AA group. This is an open AA meeting. It meets every Monday through Friday from 12:00-1:00 upstairs in Crawford Hall. Anyone suffering from an addiction is welcome.
URL:https://www.calvary-rochester.org/event/aa/2023-10-04/
LOCATION:Calvary Episcopal Church\, 111 Third Avenue SW\, Rochester\, MN\, 55902
CATEGORIES:Community
ORGANIZER;CN="Calvary Episcopal Church":MAILTO:office@calvary-rochester.org
GEO:40.602991;-73.959517
X-APPLE-STRUCTURED-LOCATION;VALUE=URI;X-ADDRESS=Calvary Episcopal Church 111 Third Avenue SW Rochester MN 55902;X-APPLE-RADIUS=500;X-TITLE=111 Third Avenue SW:geo:-73.959517,40.602991
END:VEVENT
BEGIN:VEVENT
DTSTART;TZID=America/Chicago:20231005T064500
DTEND;TZID=America/Chicago:20231005T074500
DTSTAMP:20260425T184017
CREATED:20221230T014809Z
LAST-MODIFIED:20221230T014809Z
UID:10000509-1696488300-1696491900@www.calvary-rochester.org
SUMMARY:Medical and Professional AA Meeting
DESCRIPTION:This AA meeting meets early to accommodate the schedules of medical professionals\, but anyone who is suffering from an addiction and is an early-riser is welcome. It takes place on the main floor in the Larson Fireside Room.
URL:https://www.calvary-rochester.org/event/medical-and-professional-aa-meeting-2/2023-10-05/
LOCATION:Calvary Episcopal Church\, 111 Third Avenue SW\, Rochester\, MN\, 55902
CATEGORIES:Community
ORGANIZER;CN="Calvary Episcopal Church":MAILTO:office@calvary-rochester.org
GEO:40.602991;-73.959517
X-APPLE-STRUCTURED-LOCATION;VALUE=URI;X-ADDRESS=Calvary Episcopal Church 111 Third Avenue SW Rochester MN 55902;X-APPLE-RADIUS=500;X-TITLE=111 Third Avenue SW:geo:-73.959517,40.602991
END:VEVENT
BEGIN:VEVENT
DTSTART;TZID=America/Chicago:20231005T120000
DTEND;TZID=America/Chicago:20231005T130000
DTSTAMP:20260425T184017
CREATED:20221230T012601Z
LAST-MODIFIED:20221230T012601Z
UID:10001060-1696507200-1696510800@www.calvary-rochester.org
SUMMARY:AA
DESCRIPTION:Freedom from Bondage (FFB)  AA group. This is an open AA meeting. It meets every Monday through Friday from 12:00-1:00 upstairs in Crawford Hall. Anyone suffering from an addiction is welcome.
URL:https://www.calvary-rochester.org/event/aa/2023-10-05/
LOCATION:Calvary Episcopal Church\, 111 Third Avenue SW\, Rochester\, MN\, 55902
CATEGORIES:Community
ORGANIZER;CN="Calvary Episcopal Church":MAILTO:office@calvary-rochester.org
GEO:40.602991;-73.959517
X-APPLE-STRUCTURED-LOCATION;VALUE=URI;X-ADDRESS=Calvary Episcopal Church 111 Third Avenue SW Rochester MN 55902;X-APPLE-RADIUS=500;X-TITLE=111 Third Avenue SW:geo:-73.959517,40.602991
END:VEVENT
BEGIN:VEVENT
DTSTART;TZID=America/Chicago:20231006T120000
DTEND;TZID=America/Chicago:20231006T130000
DTSTAMP:20260425T184017
CREATED:20221230T012601Z
LAST-MODIFIED:20221230T012601Z
UID:10001061-1696593600-1696597200@www.calvary-rochester.org
SUMMARY:AA
DESCRIPTION:Freedom from Bondage (FFB)  AA group. This is an open AA meeting. It meets every Monday through Friday from 12:00-1:00 upstairs in Crawford Hall. Anyone suffering from an addiction is welcome.
URL:https://www.calvary-rochester.org/event/aa/2023-10-06/
LOCATION:Calvary Episcopal Church\, 111 Third Avenue SW\, Rochester\, MN\, 55902
CATEGORIES:Community
ORGANIZER;CN="Calvary Episcopal Church":MAILTO:office@calvary-rochester.org
GEO:40.602991;-73.959517
X-APPLE-STRUCTURED-LOCATION;VALUE=URI;X-ADDRESS=Calvary Episcopal Church 111 Third Avenue SW Rochester MN 55902;X-APPLE-RADIUS=500;X-TITLE=111 Third Avenue SW:geo:-73.959517,40.602991
END:VEVENT
BEGIN:VEVENT
DTSTART;TZID=America/Chicago:20231006T120000
DTEND;TZID=America/Chicago:20231006T130000
DTSTAMP:20260425T184017
CREATED:20221230T012830Z
LAST-MODIFIED:20221230T012830Z
UID:10001173-1696593600-1696597200@www.calvary-rochester.org
SUMMARY:Alanon (Zoom)
DESCRIPTION:Meets via Zoom\nThe email address is: Hopeandhealing22@gmail.com.\nThe meeting ID is: 81344786715\nThe password is: Grateful1
URL:https://www.calvary-rochester.org/event/alanon-zoom/2023-10-06/
LOCATION:Calvary Episcopal Church\, 111 Third Avenue SW\, Rochester\, MN\, 55902
CATEGORIES:Community
ORGANIZER;CN="Calvary Episcopal Church":MAILTO:office@calvary-rochester.org
GEO:40.602991;-73.959517
X-APPLE-STRUCTURED-LOCATION;VALUE=URI;X-ADDRESS=Calvary Episcopal Church 111 Third Avenue SW Rochester MN 55902;X-APPLE-RADIUS=500;X-TITLE=111 Third Avenue SW:geo:-73.959517,40.602991
END:VEVENT
BEGIN:VEVENT
DTSTART;TZID=America/Chicago:20231008T160000
DTEND;TZID=America/Chicago:20231008T170000
DTSTAMP:20260425T184017
CREATED:20230927T133128Z
LAST-MODIFIED:20230927T133413Z
UID:10001702-1696780800-1696784400@www.calvary-rochester.org
SUMMARY:Blessing of the Pets
DESCRIPTION:Calvary is celebrating St. Francis Day on Sunday\, October 8\, with a special service in the Oasis Garden at 4:00 pm.  Who is this service for? Dogs\, cats\, rabbits\, goldfish\, snakes\, hamsters\, rodents of ALL kinds! Elephants\, horses\, sloths\, parakeets and every bird\, hissing cockroaches\, tarantulas\, and every insect of every kind. God has made all of creation\, and given it into our care. So\, humans are invited too! \nPlease bring your pets (and pictures of shy pets and pets who have died)\, to the Oasis Garden on Sunday\, October 8 at 4:00 pm for their blessing. All of our collection at that service will be designated to Paws and Claws. This is a great service to bring your neighbors and friends – come let us celebrate God’s Beloved Community!
URL:https://www.calvary-rochester.org/event/blessing-of-the-pets/
LOCATION:Calvary Episcopal Church\, 111 Third Avenue SW\, Rochester\, MN\, 55902
CATEGORIES:Community,Fellowship,Home
ATTACH;FMTTYPE=image/png:https://www.calvary-rochester.org/wp-content/uploads/2023/09/BotP-FB-1.png
ORGANIZER;CN="Calvary Episcopal Church":MAILTO:office@calvary-rochester.org
GEO:40.602991;-73.959517
X-APPLE-STRUCTURED-LOCATION;VALUE=URI;X-ADDRESS=Calvary Episcopal Church 111 Third Avenue SW Rochester MN 55902;X-APPLE-RADIUS=500;X-TITLE=111 Third Avenue SW:geo:-73.959517,40.602991
END:VEVENT
BEGIN:VEVENT
DTSTART;TZID=America/Chicago:20231009T120000
DTEND;TZID=America/Chicago:20231009T130000
DTSTAMP:20260425T184017
CREATED:20221230T012601Z
LAST-MODIFIED:20221230T012601Z
UID:10001062-1696852800-1696856400@www.calvary-rochester.org
SUMMARY:AA
DESCRIPTION:Freedom from Bondage (FFB)  AA group. This is an open AA meeting. It meets every Monday through Friday from 12:00-1:00 upstairs in Crawford Hall. Anyone suffering from an addiction is welcome.
URL:https://www.calvary-rochester.org/event/aa/2023-10-09/
LOCATION:Calvary Episcopal Church\, 111 Third Avenue SW\, Rochester\, MN\, 55902
CATEGORIES:Community
ORGANIZER;CN="Calvary Episcopal Church":MAILTO:office@calvary-rochester.org
GEO:40.602991;-73.959517
X-APPLE-STRUCTURED-LOCATION;VALUE=URI;X-ADDRESS=Calvary Episcopal Church 111 Third Avenue SW Rochester MN 55902;X-APPLE-RADIUS=500;X-TITLE=111 Third Avenue SW:geo:-73.959517,40.602991
END:VEVENT
BEGIN:VEVENT
DTSTART;TZID=America/Chicago:20231009T120000
DTEND;TZID=America/Chicago:20231009T130000
DTSTAMP:20260425T184017
CREATED:20221230T013043Z
LAST-MODIFIED:20221230T013043Z
UID:10001226-1696852800-1696856400@www.calvary-rochester.org
SUMMARY:Alanon
DESCRIPTION:Meets in Menefee Hall\, opposite the church office.
URL:https://www.calvary-rochester.org/event/alanon-3/2023-10-09/
LOCATION:Calvary Episcopal Church\, 111 Third Avenue SW\, Rochester\, MN\, 55902
CATEGORIES:Community
ORGANIZER;CN="Calvary Episcopal Church":MAILTO:office@calvary-rochester.org
GEO:40.602991;-73.959517
X-APPLE-STRUCTURED-LOCATION;VALUE=URI;X-ADDRESS=Calvary Episcopal Church 111 Third Avenue SW Rochester MN 55902;X-APPLE-RADIUS=500;X-TITLE=111 Third Avenue SW:geo:-73.959517,40.602991
END:VEVENT
BEGIN:VEVENT
DTSTART;TZID=America/Chicago:20231010T120000
DTEND;TZID=America/Chicago:20231010T130000
DTSTAMP:20260425T184017
CREATED:20221230T012601Z
LAST-MODIFIED:20221230T012601Z
UID:10001063-1696939200-1696942800@www.calvary-rochester.org
SUMMARY:AA
DESCRIPTION:Freedom from Bondage (FFB)  AA group. This is an open AA meeting. It meets every Monday through Friday from 12:00-1:00 upstairs in Crawford Hall. Anyone suffering from an addiction is welcome.
URL:https://www.calvary-rochester.org/event/aa/2023-10-10/
LOCATION:Calvary Episcopal Church\, 111 Third Avenue SW\, Rochester\, MN\, 55902
CATEGORIES:Community
ORGANIZER;CN="Calvary Episcopal Church":MAILTO:office@calvary-rochester.org
GEO:40.602991;-73.959517
X-APPLE-STRUCTURED-LOCATION;VALUE=URI;X-ADDRESS=Calvary Episcopal Church 111 Third Avenue SW Rochester MN 55902;X-APPLE-RADIUS=500;X-TITLE=111 Third Avenue SW:geo:-73.959517,40.602991
END:VEVENT
BEGIN:VEVENT
DTSTART;TZID=America/Chicago:20231011T120000
DTEND;TZID=America/Chicago:20231011T130000
DTSTAMP:20260425T184017
CREATED:20221230T012601Z
LAST-MODIFIED:20221230T012601Z
UID:10001064-1697025600-1697029200@www.calvary-rochester.org
SUMMARY:AA
DESCRIPTION:Freedom from Bondage (FFB)  AA group. This is an open AA meeting. It meets every Monday through Friday from 12:00-1:00 upstairs in Crawford Hall. Anyone suffering from an addiction is welcome.
URL:https://www.calvary-rochester.org/event/aa/2023-10-11/
LOCATION:Calvary Episcopal Church\, 111 Third Avenue SW\, Rochester\, MN\, 55902
CATEGORIES:Community
ORGANIZER;CN="Calvary Episcopal Church":MAILTO:office@calvary-rochester.org
GEO:40.602991;-73.959517
X-APPLE-STRUCTURED-LOCATION;VALUE=URI;X-ADDRESS=Calvary Episcopal Church 111 Third Avenue SW Rochester MN 55902;X-APPLE-RADIUS=500;X-TITLE=111 Third Avenue SW:geo:-73.959517,40.602991
END:VEVENT
BEGIN:VEVENT
DTSTART;TZID=America/Chicago:20231012T064500
DTEND;TZID=America/Chicago:20231012T074500
DTSTAMP:20260425T184017
CREATED:20221230T014809Z
LAST-MODIFIED:20221230T014809Z
UID:10000510-1697093100-1697096700@www.calvary-rochester.org
SUMMARY:Medical and Professional AA Meeting
DESCRIPTION:This AA meeting meets early to accommodate the schedules of medical professionals\, but anyone who is suffering from an addiction and is an early-riser is welcome. It takes place on the main floor in the Larson Fireside Room.
URL:https://www.calvary-rochester.org/event/medical-and-professional-aa-meeting-2/2023-10-12/
LOCATION:Calvary Episcopal Church\, 111 Third Avenue SW\, Rochester\, MN\, 55902
CATEGORIES:Community
ORGANIZER;CN="Calvary Episcopal Church":MAILTO:office@calvary-rochester.org
GEO:40.602991;-73.959517
X-APPLE-STRUCTURED-LOCATION;VALUE=URI;X-ADDRESS=Calvary Episcopal Church 111 Third Avenue SW Rochester MN 55902;X-APPLE-RADIUS=500;X-TITLE=111 Third Avenue SW:geo:-73.959517,40.602991
END:VEVENT
BEGIN:VEVENT
DTSTART;TZID=America/Chicago:20231012T120000
DTEND;TZID=America/Chicago:20231012T130000
DTSTAMP:20260425T184017
CREATED:20221230T012601Z
LAST-MODIFIED:20221230T012601Z
UID:10001065-1697112000-1697115600@www.calvary-rochester.org
SUMMARY:AA
DESCRIPTION:Freedom from Bondage (FFB)  AA group. This is an open AA meeting. It meets every Monday through Friday from 12:00-1:00 upstairs in Crawford Hall. Anyone suffering from an addiction is welcome.
URL:https://www.calvary-rochester.org/event/aa/2023-10-12/
LOCATION:Calvary Episcopal Church\, 111 Third Avenue SW\, Rochester\, MN\, 55902
CATEGORIES:Community
ORGANIZER;CN="Calvary Episcopal Church":MAILTO:office@calvary-rochester.org
GEO:40.602991;-73.959517
X-APPLE-STRUCTURED-LOCATION;VALUE=URI;X-ADDRESS=Calvary Episcopal Church 111 Third Avenue SW Rochester MN 55902;X-APPLE-RADIUS=500;X-TITLE=111 Third Avenue SW:geo:-73.959517,40.602991
END:VEVENT
BEGIN:VEVENT
DTSTART;TZID=America/Chicago:20231013T120000
DTEND;TZID=America/Chicago:20231013T130000
DTSTAMP:20260425T184017
CREATED:20221230T012601Z
LAST-MODIFIED:20221230T012601Z
UID:10001066-1697198400-1697202000@www.calvary-rochester.org
SUMMARY:AA
DESCRIPTION:Freedom from Bondage (FFB)  AA group. This is an open AA meeting. It meets every Monday through Friday from 12:00-1:00 upstairs in Crawford Hall. Anyone suffering from an addiction is welcome.
URL:https://www.calvary-rochester.org/event/aa/2023-10-13/
LOCATION:Calvary Episcopal Church\, 111 Third Avenue SW\, Rochester\, MN\, 55902
CATEGORIES:Community
ORGANIZER;CN="Calvary Episcopal Church":MAILTO:office@calvary-rochester.org
GEO:40.602991;-73.959517
X-APPLE-STRUCTURED-LOCATION;VALUE=URI;X-ADDRESS=Calvary Episcopal Church 111 Third Avenue SW Rochester MN 55902;X-APPLE-RADIUS=500;X-TITLE=111 Third Avenue SW:geo:-73.959517,40.602991
END:VEVENT
BEGIN:VEVENT
DTSTART;TZID=America/Chicago:20231013T120000
DTEND;TZID=America/Chicago:20231013T130000
DTSTAMP:20260425T184017
CREATED:20221230T012830Z
LAST-MODIFIED:20221230T012830Z
UID:10001174-1697198400-1697202000@www.calvary-rochester.org
SUMMARY:Alanon (Zoom)
DESCRIPTION:Meets via Zoom\nThe email address is: Hopeandhealing22@gmail.com.\nThe meeting ID is: 81344786715\nThe password is: Grateful1
URL:https://www.calvary-rochester.org/event/alanon-zoom/2023-10-13/
LOCATION:Calvary Episcopal Church\, 111 Third Avenue SW\, Rochester\, MN\, 55902
CATEGORIES:Community
ORGANIZER;CN="Calvary Episcopal Church":MAILTO:office@calvary-rochester.org
GEO:40.602991;-73.959517
X-APPLE-STRUCTURED-LOCATION;VALUE=URI;X-ADDRESS=Calvary Episcopal Church 111 Third Avenue SW Rochester MN 55902;X-APPLE-RADIUS=500;X-TITLE=111 Third Avenue SW:geo:-73.959517,40.602991
END:VEVENT
BEGIN:VEVENT
DTSTART;TZID=America/Chicago:20231016T120000
DTEND;TZID=America/Chicago:20231016T130000
DTSTAMP:20260425T184017
CREATED:20221230T012601Z
LAST-MODIFIED:20221230T012601Z
UID:10001067-1697457600-1697461200@www.calvary-rochester.org
SUMMARY:AA
DESCRIPTION:Freedom from Bondage (FFB)  AA group. This is an open AA meeting. It meets every Monday through Friday from 12:00-1:00 upstairs in Crawford Hall. Anyone suffering from an addiction is welcome.
URL:https://www.calvary-rochester.org/event/aa/2023-10-16/
LOCATION:Calvary Episcopal Church\, 111 Third Avenue SW\, Rochester\, MN\, 55902
CATEGORIES:Community
ORGANIZER;CN="Calvary Episcopal Church":MAILTO:office@calvary-rochester.org
GEO:40.602991;-73.959517
X-APPLE-STRUCTURED-LOCATION;VALUE=URI;X-ADDRESS=Calvary Episcopal Church 111 Third Avenue SW Rochester MN 55902;X-APPLE-RADIUS=500;X-TITLE=111 Third Avenue SW:geo:-73.959517,40.602991
END:VEVENT
BEGIN:VEVENT
DTSTART;TZID=America/Chicago:20231016T120000
DTEND;TZID=America/Chicago:20231016T130000
DTSTAMP:20260425T184017
CREATED:20221230T013043Z
LAST-MODIFIED:20221230T013043Z
UID:10001227-1697457600-1697461200@www.calvary-rochester.org
SUMMARY:Alanon
DESCRIPTION:Meets in Menefee Hall\, opposite the church office.
URL:https://www.calvary-rochester.org/event/alanon-3/2023-10-16/
LOCATION:Calvary Episcopal Church\, 111 Third Avenue SW\, Rochester\, MN\, 55902
CATEGORIES:Community
ORGANIZER;CN="Calvary Episcopal Church":MAILTO:office@calvary-rochester.org
GEO:40.602991;-73.959517
X-APPLE-STRUCTURED-LOCATION;VALUE=URI;X-ADDRESS=Calvary Episcopal Church 111 Third Avenue SW Rochester MN 55902;X-APPLE-RADIUS=500;X-TITLE=111 Third Avenue SW:geo:-73.959517,40.602991
END:VEVENT
BEGIN:VEVENT
DTSTART;TZID=America/Chicago:20231017T120000
DTEND;TZID=America/Chicago:20231017T130000
DTSTAMP:20260425T184017
CREATED:20221230T012601Z
LAST-MODIFIED:20221230T012601Z
UID:10001068-1697544000-1697547600@www.calvary-rochester.org
SUMMARY:AA
DESCRIPTION:Freedom from Bondage (FFB)  AA group. This is an open AA meeting. It meets every Monday through Friday from 12:00-1:00 upstairs in Crawford Hall. Anyone suffering from an addiction is welcome.
URL:https://www.calvary-rochester.org/event/aa/2023-10-17/
LOCATION:Calvary Episcopal Church\, 111 Third Avenue SW\, Rochester\, MN\, 55902
CATEGORIES:Community
ORGANIZER;CN="Calvary Episcopal Church":MAILTO:office@calvary-rochester.org
GEO:40.602991;-73.959517
X-APPLE-STRUCTURED-LOCATION;VALUE=URI;X-ADDRESS=Calvary Episcopal Church 111 Third Avenue SW Rochester MN 55902;X-APPLE-RADIUS=500;X-TITLE=111 Third Avenue SW:geo:-73.959517,40.602991
END:VEVENT
BEGIN:VEVENT
DTSTART;TZID=America/Chicago:20231018T120000
DTEND;TZID=America/Chicago:20231018T130000
DTSTAMP:20260425T184017
CREATED:20221230T012601Z
LAST-MODIFIED:20221230T012601Z
UID:10001069-1697630400-1697634000@www.calvary-rochester.org
SUMMARY:AA
DESCRIPTION:Freedom from Bondage (FFB)  AA group. This is an open AA meeting. It meets every Monday through Friday from 12:00-1:00 upstairs in Crawford Hall. Anyone suffering from an addiction is welcome.
URL:https://www.calvary-rochester.org/event/aa/2023-10-18/
LOCATION:Calvary Episcopal Church\, 111 Third Avenue SW\, Rochester\, MN\, 55902
CATEGORIES:Community
ORGANIZER;CN="Calvary Episcopal Church":MAILTO:office@calvary-rochester.org
GEO:40.602991;-73.959517
X-APPLE-STRUCTURED-LOCATION;VALUE=URI;X-ADDRESS=Calvary Episcopal Church 111 Third Avenue SW Rochester MN 55902;X-APPLE-RADIUS=500;X-TITLE=111 Third Avenue SW:geo:-73.959517,40.602991
END:VEVENT
BEGIN:VEVENT
DTSTART;TZID=America/Chicago:20231019T064500
DTEND;TZID=America/Chicago:20231019T074500
DTSTAMP:20260425T184017
CREATED:20221230T014809Z
LAST-MODIFIED:20221230T014809Z
UID:10000511-1697697900-1697701500@www.calvary-rochester.org
SUMMARY:Medical and Professional AA Meeting
DESCRIPTION:This AA meeting meets early to accommodate the schedules of medical professionals\, but anyone who is suffering from an addiction and is an early-riser is welcome. It takes place on the main floor in the Larson Fireside Room.
URL:https://www.calvary-rochester.org/event/medical-and-professional-aa-meeting-2/2023-10-19/
LOCATION:Calvary Episcopal Church\, 111 Third Avenue SW\, Rochester\, MN\, 55902
CATEGORIES:Community
ORGANIZER;CN="Calvary Episcopal Church":MAILTO:office@calvary-rochester.org
GEO:40.602991;-73.959517
X-APPLE-STRUCTURED-LOCATION;VALUE=URI;X-ADDRESS=Calvary Episcopal Church 111 Third Avenue SW Rochester MN 55902;X-APPLE-RADIUS=500;X-TITLE=111 Third Avenue SW:geo:-73.959517,40.602991
END:VEVENT
BEGIN:VEVENT
DTSTART;TZID=America/Chicago:20231019T120000
DTEND;TZID=America/Chicago:20231019T130000
DTSTAMP:20260425T184017
CREATED:20221230T012601Z
LAST-MODIFIED:20221230T012601Z
UID:10001070-1697716800-1697720400@www.calvary-rochester.org
SUMMARY:AA
DESCRIPTION:Freedom from Bondage (FFB)  AA group. This is an open AA meeting. It meets every Monday through Friday from 12:00-1:00 upstairs in Crawford Hall. Anyone suffering from an addiction is welcome.
URL:https://www.calvary-rochester.org/event/aa/2023-10-19/
LOCATION:Calvary Episcopal Church\, 111 Third Avenue SW\, Rochester\, MN\, 55902
CATEGORIES:Community
ORGANIZER;CN="Calvary Episcopal Church":MAILTO:office@calvary-rochester.org
GEO:40.602991;-73.959517
X-APPLE-STRUCTURED-LOCATION;VALUE=URI;X-ADDRESS=Calvary Episcopal Church 111 Third Avenue SW Rochester MN 55902;X-APPLE-RADIUS=500;X-TITLE=111 Third Avenue SW:geo:-73.959517,40.602991
END:VEVENT
BEGIN:VEVENT
DTSTART;TZID=America/Chicago:20231020T120000
DTEND;TZID=America/Chicago:20231020T130000
DTSTAMP:20260425T184017
CREATED:20221230T012601Z
LAST-MODIFIED:20221230T012601Z
UID:10001071-1697803200-1697806800@www.calvary-rochester.org
SUMMARY:AA
DESCRIPTION:Freedom from Bondage (FFB)  AA group. This is an open AA meeting. It meets every Monday through Friday from 12:00-1:00 upstairs in Crawford Hall. Anyone suffering from an addiction is welcome.
URL:https://www.calvary-rochester.org/event/aa/2023-10-20/
LOCATION:Calvary Episcopal Church\, 111 Third Avenue SW\, Rochester\, MN\, 55902
CATEGORIES:Community
ORGANIZER;CN="Calvary Episcopal Church":MAILTO:office@calvary-rochester.org
GEO:40.602991;-73.959517
X-APPLE-STRUCTURED-LOCATION;VALUE=URI;X-ADDRESS=Calvary Episcopal Church 111 Third Avenue SW Rochester MN 55902;X-APPLE-RADIUS=500;X-TITLE=111 Third Avenue SW:geo:-73.959517,40.602991
END:VEVENT
BEGIN:VEVENT
DTSTART;TZID=America/Chicago:20231020T120000
DTEND;TZID=America/Chicago:20231020T130000
DTSTAMP:20260425T184017
CREATED:20221230T012830Z
LAST-MODIFIED:20221230T012830Z
UID:10001175-1697803200-1697806800@www.calvary-rochester.org
SUMMARY:Alanon (Zoom)
DESCRIPTION:Meets via Zoom\nThe email address is: Hopeandhealing22@gmail.com.\nThe meeting ID is: 81344786715\nThe password is: Grateful1
URL:https://www.calvary-rochester.org/event/alanon-zoom/2023-10-20/
LOCATION:Calvary Episcopal Church\, 111 Third Avenue SW\, Rochester\, MN\, 55902
CATEGORIES:Community
ORGANIZER;CN="Calvary Episcopal Church":MAILTO:office@calvary-rochester.org
GEO:40.602991;-73.959517
X-APPLE-STRUCTURED-LOCATION;VALUE=URI;X-ADDRESS=Calvary Episcopal Church 111 Third Avenue SW Rochester MN 55902;X-APPLE-RADIUS=500;X-TITLE=111 Third Avenue SW:geo:-73.959517,40.602991
END:VEVENT
BEGIN:VEVENT
DTSTART;TZID=America/Chicago:20231023T120000
DTEND;TZID=America/Chicago:20231023T130000
DTSTAMP:20260425T184017
CREATED:20221230T012601Z
LAST-MODIFIED:20221230T012601Z
UID:10001072-1698062400-1698066000@www.calvary-rochester.org
SUMMARY:AA
DESCRIPTION:Freedom from Bondage (FFB)  AA group. This is an open AA meeting. It meets every Monday through Friday from 12:00-1:00 upstairs in Crawford Hall. Anyone suffering from an addiction is welcome.
URL:https://www.calvary-rochester.org/event/aa/2023-10-23/
LOCATION:Calvary Episcopal Church\, 111 Third Avenue SW\, Rochester\, MN\, 55902
CATEGORIES:Community
ORGANIZER;CN="Calvary Episcopal Church":MAILTO:office@calvary-rochester.org
GEO:40.602991;-73.959517
X-APPLE-STRUCTURED-LOCATION;VALUE=URI;X-ADDRESS=Calvary Episcopal Church 111 Third Avenue SW Rochester MN 55902;X-APPLE-RADIUS=500;X-TITLE=111 Third Avenue SW:geo:-73.959517,40.602991
END:VEVENT
BEGIN:VEVENT
DTSTART;TZID=America/Chicago:20231023T120000
DTEND;TZID=America/Chicago:20231023T130000
DTSTAMP:20260425T184018
CREATED:20221230T013043Z
LAST-MODIFIED:20221230T013043Z
UID:10001228-1698062400-1698066000@www.calvary-rochester.org
SUMMARY:Alanon
DESCRIPTION:Meets in Menefee Hall\, opposite the church office.
URL:https://www.calvary-rochester.org/event/alanon-3/2023-10-23/
LOCATION:Calvary Episcopal Church\, 111 Third Avenue SW\, Rochester\, MN\, 55902
CATEGORIES:Community
ORGANIZER;CN="Calvary Episcopal Church":MAILTO:office@calvary-rochester.org
GEO:40.602991;-73.959517
X-APPLE-STRUCTURED-LOCATION;VALUE=URI;X-ADDRESS=Calvary Episcopal Church 111 Third Avenue SW Rochester MN 55902;X-APPLE-RADIUS=500;X-TITLE=111 Third Avenue SW:geo:-73.959517,40.602991
END:VEVENT
BEGIN:VEVENT
DTSTART;TZID=America/Chicago:20231024T120000
DTEND;TZID=America/Chicago:20231024T130000
DTSTAMP:20260425T184018
CREATED:20221230T012601Z
LAST-MODIFIED:20221230T012601Z
UID:10001073-1698148800-1698152400@www.calvary-rochester.org
SUMMARY:AA
DESCRIPTION:Freedom from Bondage (FFB)  AA group. This is an open AA meeting. It meets every Monday through Friday from 12:00-1:00 upstairs in Crawford Hall. Anyone suffering from an addiction is welcome.
URL:https://www.calvary-rochester.org/event/aa/2023-10-24/
LOCATION:Calvary Episcopal Church\, 111 Third Avenue SW\, Rochester\, MN\, 55902
CATEGORIES:Community
ORGANIZER;CN="Calvary Episcopal Church":MAILTO:office@calvary-rochester.org
GEO:40.602991;-73.959517
X-APPLE-STRUCTURED-LOCATION;VALUE=URI;X-ADDRESS=Calvary Episcopal Church 111 Third Avenue SW Rochester MN 55902;X-APPLE-RADIUS=500;X-TITLE=111 Third Avenue SW:geo:-73.959517,40.602991
END:VEVENT
BEGIN:VEVENT
DTSTART;TZID=America/Chicago:20231025T120000
DTEND;TZID=America/Chicago:20231025T130000
DTSTAMP:20260425T184018
CREATED:20221230T012601Z
LAST-MODIFIED:20221230T012601Z
UID:10001074-1698235200-1698238800@www.calvary-rochester.org
SUMMARY:AA
DESCRIPTION:Freedom from Bondage (FFB)  AA group. This is an open AA meeting. It meets every Monday through Friday from 12:00-1:00 upstairs in Crawford Hall. Anyone suffering from an addiction is welcome.
URL:https://www.calvary-rochester.org/event/aa/2023-10-25/
LOCATION:Calvary Episcopal Church\, 111 Third Avenue SW\, Rochester\, MN\, 55902
CATEGORIES:Community
ORGANIZER;CN="Calvary Episcopal Church":MAILTO:office@calvary-rochester.org
GEO:40.602991;-73.959517
X-APPLE-STRUCTURED-LOCATION;VALUE=URI;X-ADDRESS=Calvary Episcopal Church 111 Third Avenue SW Rochester MN 55902;X-APPLE-RADIUS=500;X-TITLE=111 Third Avenue SW:geo:-73.959517,40.602991
END:VEVENT
BEGIN:VEVENT
DTSTART;TZID=America/Chicago:20231026T064500
DTEND;TZID=America/Chicago:20231026T074500
DTSTAMP:20260425T184018
CREATED:20221230T014809Z
LAST-MODIFIED:20221230T014809Z
UID:10000512-1698302700-1698306300@www.calvary-rochester.org
SUMMARY:Medical and Professional AA Meeting
DESCRIPTION:This AA meeting meets early to accommodate the schedules of medical professionals\, but anyone who is suffering from an addiction and is an early-riser is welcome. It takes place on the main floor in the Larson Fireside Room.
URL:https://www.calvary-rochester.org/event/medical-and-professional-aa-meeting-2/2023-10-26/
LOCATION:Calvary Episcopal Church\, 111 Third Avenue SW\, Rochester\, MN\, 55902
CATEGORIES:Community
ORGANIZER;CN="Calvary Episcopal Church":MAILTO:office@calvary-rochester.org
GEO:40.602991;-73.959517
X-APPLE-STRUCTURED-LOCATION;VALUE=URI;X-ADDRESS=Calvary Episcopal Church 111 Third Avenue SW Rochester MN 55902;X-APPLE-RADIUS=500;X-TITLE=111 Third Avenue SW:geo:-73.959517,40.602991
END:VEVENT
END:VCALENDAR