BEGIN:VCALENDAR
VERSION:2.0
PRODID:-//Calvary Episcopal Church - ECPv6.15.20//NONSGML v1.0//EN
CALSCALE:GREGORIAN
METHOD:PUBLISH
X-ORIGINAL-URL:https://www.calvary-rochester.org
X-WR-CALDESC:Events for Calvary Episcopal Church
REFRESH-INTERVAL;VALUE=DURATION:PT1H
X-Robots-Tag:noindex
X-PUBLISHED-TTL:PT1H
BEGIN:VTIMEZONE
TZID:America/Chicago
BEGIN:DAYLIGHT
TZOFFSETFROM:-0600
TZOFFSETTO:-0500
TZNAME:CDT
DTSTART:20220313T080000
END:DAYLIGHT
BEGIN:STANDARD
TZOFFSETFROM:-0500
TZOFFSETTO:-0600
TZNAME:CST
DTSTART:20221106T070000
END:STANDARD
BEGIN:DAYLIGHT
TZOFFSETFROM:-0600
TZOFFSETTO:-0500
TZNAME:CDT
DTSTART:20230312T080000
END:DAYLIGHT
BEGIN:STANDARD
TZOFFSETFROM:-0500
TZOFFSETTO:-0600
TZNAME:CST
DTSTART:20231105T070000
END:STANDARD
BEGIN:DAYLIGHT
TZOFFSETFROM:-0600
TZOFFSETTO:-0500
TZNAME:CDT
DTSTART:20240310T080000
END:DAYLIGHT
BEGIN:STANDARD
TZOFFSETFROM:-0500
TZOFFSETTO:-0600
TZNAME:CST
DTSTART:20241103T070000
END:STANDARD
END:VTIMEZONE
BEGIN:VEVENT
DTSTART;TZID=America/Chicago:20231101T120000
DTEND;TZID=America/Chicago:20231101T130000
DTSTAMP:20260425T152900
CREATED:20221230T012601Z
LAST-MODIFIED:20221230T012601Z
UID:10001079-1698840000-1698843600@www.calvary-rochester.org
SUMMARY:AA
DESCRIPTION:Freedom from Bondage (FFB)  AA group. This is an open AA meeting. It meets every Monday through Friday from 12:00-1:00 upstairs in Crawford Hall. Anyone suffering from an addiction is welcome.
URL:https://www.calvary-rochester.org/event/aa/2023-11-01/
LOCATION:Calvary Episcopal Church\, 111 Third Avenue SW\, Rochester\, MN\, 55902
CATEGORIES:Community
ORGANIZER;CN="Calvary Episcopal Church":MAILTO:office@calvary-rochester.org
GEO:40.602991;-73.959517
X-APPLE-STRUCTURED-LOCATION;VALUE=URI;X-ADDRESS=Calvary Episcopal Church 111 Third Avenue SW Rochester MN 55902;X-APPLE-RADIUS=500;X-TITLE=111 Third Avenue SW:geo:-73.959517,40.602991
END:VEVENT
BEGIN:VEVENT
DTSTART;TZID=America/Chicago:20231102T064500
DTEND;TZID=America/Chicago:20231102T074500
DTSTAMP:20260425T152901
CREATED:20221230T014809Z
LAST-MODIFIED:20221230T014809Z
UID:10000513-1698907500-1698911100@www.calvary-rochester.org
SUMMARY:Medical and Professional AA Meeting
DESCRIPTION:This AA meeting meets early to accommodate the schedules of medical professionals\, but anyone who is suffering from an addiction and is an early-riser is welcome. It takes place on the main floor in the Larson Fireside Room.
URL:https://www.calvary-rochester.org/event/medical-and-professional-aa-meeting-2/2023-11-02/
LOCATION:Calvary Episcopal Church\, 111 Third Avenue SW\, Rochester\, MN\, 55902
CATEGORIES:Community
ORGANIZER;CN="Calvary Episcopal Church":MAILTO:office@calvary-rochester.org
GEO:40.602991;-73.959517
X-APPLE-STRUCTURED-LOCATION;VALUE=URI;X-ADDRESS=Calvary Episcopal Church 111 Third Avenue SW Rochester MN 55902;X-APPLE-RADIUS=500;X-TITLE=111 Third Avenue SW:geo:-73.959517,40.602991
END:VEVENT
BEGIN:VEVENT
DTSTART;TZID=America/Chicago:20231102T120000
DTEND;TZID=America/Chicago:20231102T130000
DTSTAMP:20260425T152901
CREATED:20221230T012601Z
LAST-MODIFIED:20221230T012601Z
UID:10001080-1698926400-1698930000@www.calvary-rochester.org
SUMMARY:AA
DESCRIPTION:Freedom from Bondage (FFB)  AA group. This is an open AA meeting. It meets every Monday through Friday from 12:00-1:00 upstairs in Crawford Hall. Anyone suffering from an addiction is welcome.
URL:https://www.calvary-rochester.org/event/aa/2023-11-02/
LOCATION:Calvary Episcopal Church\, 111 Third Avenue SW\, Rochester\, MN\, 55902
CATEGORIES:Community
ORGANIZER;CN="Calvary Episcopal Church":MAILTO:office@calvary-rochester.org
GEO:40.602991;-73.959517
X-APPLE-STRUCTURED-LOCATION;VALUE=URI;X-ADDRESS=Calvary Episcopal Church 111 Third Avenue SW Rochester MN 55902;X-APPLE-RADIUS=500;X-TITLE=111 Third Avenue SW:geo:-73.959517,40.602991
END:VEVENT
BEGIN:VEVENT
DTSTART;TZID=America/Chicago:20231103T120000
DTEND;TZID=America/Chicago:20231103T130000
DTSTAMP:20260425T152901
CREATED:20221230T012601Z
LAST-MODIFIED:20221230T012601Z
UID:10001081-1699012800-1699016400@www.calvary-rochester.org
SUMMARY:AA
DESCRIPTION:Freedom from Bondage (FFB)  AA group. This is an open AA meeting. It meets every Monday through Friday from 12:00-1:00 upstairs in Crawford Hall. Anyone suffering from an addiction is welcome.
URL:https://www.calvary-rochester.org/event/aa/2023-11-03/
LOCATION:Calvary Episcopal Church\, 111 Third Avenue SW\, Rochester\, MN\, 55902
CATEGORIES:Community
ORGANIZER;CN="Calvary Episcopal Church":MAILTO:office@calvary-rochester.org
GEO:40.602991;-73.959517
X-APPLE-STRUCTURED-LOCATION;VALUE=URI;X-ADDRESS=Calvary Episcopal Church 111 Third Avenue SW Rochester MN 55902;X-APPLE-RADIUS=500;X-TITLE=111 Third Avenue SW:geo:-73.959517,40.602991
END:VEVENT
BEGIN:VEVENT
DTSTART;TZID=America/Chicago:20231103T120000
DTEND;TZID=America/Chicago:20231103T130000
DTSTAMP:20260425T152901
CREATED:20221230T012830Z
LAST-MODIFIED:20221230T012830Z
UID:10001177-1699012800-1699016400@www.calvary-rochester.org
SUMMARY:Alanon (Zoom)
DESCRIPTION:Meets via Zoom\nThe email address is: Hopeandhealing22@gmail.com.\nThe meeting ID is: 81344786715\nThe password is: Grateful1
URL:https://www.calvary-rochester.org/event/alanon-zoom/2023-11-03/
LOCATION:Calvary Episcopal Church\, 111 Third Avenue SW\, Rochester\, MN\, 55902
CATEGORIES:Community
ORGANIZER;CN="Calvary Episcopal Church":MAILTO:office@calvary-rochester.org
GEO:40.602991;-73.959517
X-APPLE-STRUCTURED-LOCATION;VALUE=URI;X-ADDRESS=Calvary Episcopal Church 111 Third Avenue SW Rochester MN 55902;X-APPLE-RADIUS=500;X-TITLE=111 Third Avenue SW:geo:-73.959517,40.602991
END:VEVENT
BEGIN:VEVENT
DTSTART;TZID=America/Chicago:20231106T120000
DTEND;TZID=America/Chicago:20231106T130000
DTSTAMP:20260425T152901
CREATED:20221230T012601Z
LAST-MODIFIED:20221230T012601Z
UID:10001082-1699272000-1699275600@www.calvary-rochester.org
SUMMARY:AA
DESCRIPTION:Freedom from Bondage (FFB)  AA group. This is an open AA meeting. It meets every Monday through Friday from 12:00-1:00 upstairs in Crawford Hall. Anyone suffering from an addiction is welcome.
URL:https://www.calvary-rochester.org/event/aa/2023-11-06/
LOCATION:Calvary Episcopal Church\, 111 Third Avenue SW\, Rochester\, MN\, 55902
CATEGORIES:Community
ORGANIZER;CN="Calvary Episcopal Church":MAILTO:office@calvary-rochester.org
GEO:40.602991;-73.959517
X-APPLE-STRUCTURED-LOCATION;VALUE=URI;X-ADDRESS=Calvary Episcopal Church 111 Third Avenue SW Rochester MN 55902;X-APPLE-RADIUS=500;X-TITLE=111 Third Avenue SW:geo:-73.959517,40.602991
END:VEVENT
BEGIN:VEVENT
DTSTART;TZID=America/Chicago:20231106T120000
DTEND;TZID=America/Chicago:20231106T130000
DTSTAMP:20260425T152901
CREATED:20221230T013043Z
LAST-MODIFIED:20221230T013043Z
UID:10001230-1699272000-1699275600@www.calvary-rochester.org
SUMMARY:Alanon
DESCRIPTION:Meets in Menefee Hall\, opposite the church office.
URL:https://www.calvary-rochester.org/event/alanon-3/2023-11-06/
LOCATION:Calvary Episcopal Church\, 111 Third Avenue SW\, Rochester\, MN\, 55902
CATEGORIES:Community
ORGANIZER;CN="Calvary Episcopal Church":MAILTO:office@calvary-rochester.org
GEO:40.602991;-73.959517
X-APPLE-STRUCTURED-LOCATION;VALUE=URI;X-ADDRESS=Calvary Episcopal Church 111 Third Avenue SW Rochester MN 55902;X-APPLE-RADIUS=500;X-TITLE=111 Third Avenue SW:geo:-73.959517,40.602991
END:VEVENT
BEGIN:VEVENT
DTSTART;TZID=America/Chicago:20231107T120000
DTEND;TZID=America/Chicago:20231107T130000
DTSTAMP:20260425T152901
CREATED:20221230T012601Z
LAST-MODIFIED:20221230T012601Z
UID:10001083-1699358400-1699362000@www.calvary-rochester.org
SUMMARY:AA
DESCRIPTION:Freedom from Bondage (FFB)  AA group. This is an open AA meeting. It meets every Monday through Friday from 12:00-1:00 upstairs in Crawford Hall. Anyone suffering from an addiction is welcome.
URL:https://www.calvary-rochester.org/event/aa/2023-11-07/
LOCATION:Calvary Episcopal Church\, 111 Third Avenue SW\, Rochester\, MN\, 55902
CATEGORIES:Community
ORGANIZER;CN="Calvary Episcopal Church":MAILTO:office@calvary-rochester.org
GEO:40.602991;-73.959517
X-APPLE-STRUCTURED-LOCATION;VALUE=URI;X-ADDRESS=Calvary Episcopal Church 111 Third Avenue SW Rochester MN 55902;X-APPLE-RADIUS=500;X-TITLE=111 Third Avenue SW:geo:-73.959517,40.602991
END:VEVENT
BEGIN:VEVENT
DTSTART;TZID=America/Chicago:20231107T190000
DTEND;TZID=America/Chicago:20231107T203000
DTSTAMP:20260425T152901
CREATED:20231031T004036Z
LAST-MODIFIED:20231031T004037Z
UID:10001707-1699383600-1699389000@www.calvary-rochester.org
SUMMARY:Community Thanksgiving Service
DESCRIPTION:Christ United Methodist Church (400 5th Avenue SW) will once again host the Rochester Faith Community Thanksgiving Service. This year’s service will be at 7:00 pm on Tuesday\, November 21. The theme is Connection and Relationship\, and all attending will be hosted at round tables in the fellowship hall for a time of worship\, coffee\, conversation\, and their famous pie. The Rochester Handbell Choir will play and there will be prayer\, readings and brief reflections. All are welcome.
URL:https://www.calvary-rochester.org/event/community-thanksgiving-service/
LOCATION:Christ United Methodist Church\, 400 5th Avenue SW\, Rochester\, MN\, 55902\, United States
CATEGORIES:Community,Home
ATTACH;FMTTYPE=image/png:https://www.calvary-rochester.org/wp-content/uploads/2023/10/CTS-FB.png
END:VEVENT
BEGIN:VEVENT
DTSTART;TZID=America/Chicago:20231108T120000
DTEND;TZID=America/Chicago:20231108T130000
DTSTAMP:20260425T152901
CREATED:20221230T012601Z
LAST-MODIFIED:20221230T012601Z
UID:10001084-1699444800-1699448400@www.calvary-rochester.org
SUMMARY:AA
DESCRIPTION:Freedom from Bondage (FFB)  AA group. This is an open AA meeting. It meets every Monday through Friday from 12:00-1:00 upstairs in Crawford Hall. Anyone suffering from an addiction is welcome.
URL:https://www.calvary-rochester.org/event/aa/2023-11-08/
LOCATION:Calvary Episcopal Church\, 111 Third Avenue SW\, Rochester\, MN\, 55902
CATEGORIES:Community
ORGANIZER;CN="Calvary Episcopal Church":MAILTO:office@calvary-rochester.org
GEO:40.602991;-73.959517
X-APPLE-STRUCTURED-LOCATION;VALUE=URI;X-ADDRESS=Calvary Episcopal Church 111 Third Avenue SW Rochester MN 55902;X-APPLE-RADIUS=500;X-TITLE=111 Third Avenue SW:geo:-73.959517,40.602991
END:VEVENT
BEGIN:VEVENT
DTSTART;TZID=America/Chicago:20231109T064500
DTEND;TZID=America/Chicago:20231109T074500
DTSTAMP:20260425T152901
CREATED:20221230T014809Z
LAST-MODIFIED:20221230T014809Z
UID:10000514-1699512300-1699515900@www.calvary-rochester.org
SUMMARY:Medical and Professional AA Meeting
DESCRIPTION:This AA meeting meets early to accommodate the schedules of medical professionals\, but anyone who is suffering from an addiction and is an early-riser is welcome. It takes place on the main floor in the Larson Fireside Room.
URL:https://www.calvary-rochester.org/event/medical-and-professional-aa-meeting-2/2023-11-09/
LOCATION:Calvary Episcopal Church\, 111 Third Avenue SW\, Rochester\, MN\, 55902
CATEGORIES:Community
ORGANIZER;CN="Calvary Episcopal Church":MAILTO:office@calvary-rochester.org
GEO:40.602991;-73.959517
X-APPLE-STRUCTURED-LOCATION;VALUE=URI;X-ADDRESS=Calvary Episcopal Church 111 Third Avenue SW Rochester MN 55902;X-APPLE-RADIUS=500;X-TITLE=111 Third Avenue SW:geo:-73.959517,40.602991
END:VEVENT
BEGIN:VEVENT
DTSTART;TZID=America/Chicago:20231109T120000
DTEND;TZID=America/Chicago:20231109T130000
DTSTAMP:20260425T152901
CREATED:20221230T012601Z
LAST-MODIFIED:20221230T012601Z
UID:10001085-1699531200-1699534800@www.calvary-rochester.org
SUMMARY:AA
DESCRIPTION:Freedom from Bondage (FFB)  AA group. This is an open AA meeting. It meets every Monday through Friday from 12:00-1:00 upstairs in Crawford Hall. Anyone suffering from an addiction is welcome.
URL:https://www.calvary-rochester.org/event/aa/2023-11-09/
LOCATION:Calvary Episcopal Church\, 111 Third Avenue SW\, Rochester\, MN\, 55902
CATEGORIES:Community
ORGANIZER;CN="Calvary Episcopal Church":MAILTO:office@calvary-rochester.org
GEO:40.602991;-73.959517
X-APPLE-STRUCTURED-LOCATION;VALUE=URI;X-ADDRESS=Calvary Episcopal Church 111 Third Avenue SW Rochester MN 55902;X-APPLE-RADIUS=500;X-TITLE=111 Third Avenue SW:geo:-73.959517,40.602991
END:VEVENT
BEGIN:VEVENT
DTSTART;TZID=America/Chicago:20231110T120000
DTEND;TZID=America/Chicago:20231110T130000
DTSTAMP:20260425T152901
CREATED:20221230T012601Z
LAST-MODIFIED:20221230T012601Z
UID:10001086-1699617600-1699621200@www.calvary-rochester.org
SUMMARY:AA
DESCRIPTION:Freedom from Bondage (FFB)  AA group. This is an open AA meeting. It meets every Monday through Friday from 12:00-1:00 upstairs in Crawford Hall. Anyone suffering from an addiction is welcome.
URL:https://www.calvary-rochester.org/event/aa/2023-11-10/
LOCATION:Calvary Episcopal Church\, 111 Third Avenue SW\, Rochester\, MN\, 55902
CATEGORIES:Community
ORGANIZER;CN="Calvary Episcopal Church":MAILTO:office@calvary-rochester.org
GEO:40.602991;-73.959517
X-APPLE-STRUCTURED-LOCATION;VALUE=URI;X-ADDRESS=Calvary Episcopal Church 111 Third Avenue SW Rochester MN 55902;X-APPLE-RADIUS=500;X-TITLE=111 Third Avenue SW:geo:-73.959517,40.602991
END:VEVENT
BEGIN:VEVENT
DTSTART;TZID=America/Chicago:20231110T120000
DTEND;TZID=America/Chicago:20231110T130000
DTSTAMP:20260425T152901
CREATED:20221230T012830Z
LAST-MODIFIED:20221230T012830Z
UID:10001178-1699617600-1699621200@www.calvary-rochester.org
SUMMARY:Alanon (Zoom)
DESCRIPTION:Meets via Zoom\nThe email address is: Hopeandhealing22@gmail.com.\nThe meeting ID is: 81344786715\nThe password is: Grateful1
URL:https://www.calvary-rochester.org/event/alanon-zoom/2023-11-10/
LOCATION:Calvary Episcopal Church\, 111 Third Avenue SW\, Rochester\, MN\, 55902
CATEGORIES:Community
ORGANIZER;CN="Calvary Episcopal Church":MAILTO:office@calvary-rochester.org
GEO:40.602991;-73.959517
X-APPLE-STRUCTURED-LOCATION;VALUE=URI;X-ADDRESS=Calvary Episcopal Church 111 Third Avenue SW Rochester MN 55902;X-APPLE-RADIUS=500;X-TITLE=111 Third Avenue SW:geo:-73.959517,40.602991
END:VEVENT
BEGIN:VEVENT
DTSTART;TZID=America/Chicago:20231113T120000
DTEND;TZID=America/Chicago:20231113T130000
DTSTAMP:20260425T152901
CREATED:20221230T012601Z
LAST-MODIFIED:20221230T012601Z
UID:10001087-1699876800-1699880400@www.calvary-rochester.org
SUMMARY:AA
DESCRIPTION:Freedom from Bondage (FFB)  AA group. This is an open AA meeting. It meets every Monday through Friday from 12:00-1:00 upstairs in Crawford Hall. Anyone suffering from an addiction is welcome.
URL:https://www.calvary-rochester.org/event/aa/2023-11-13/
LOCATION:Calvary Episcopal Church\, 111 Third Avenue SW\, Rochester\, MN\, 55902
CATEGORIES:Community
ORGANIZER;CN="Calvary Episcopal Church":MAILTO:office@calvary-rochester.org
GEO:40.602991;-73.959517
X-APPLE-STRUCTURED-LOCATION;VALUE=URI;X-ADDRESS=Calvary Episcopal Church 111 Third Avenue SW Rochester MN 55902;X-APPLE-RADIUS=500;X-TITLE=111 Third Avenue SW:geo:-73.959517,40.602991
END:VEVENT
BEGIN:VEVENT
DTSTART;TZID=America/Chicago:20231113T120000
DTEND;TZID=America/Chicago:20231113T130000
DTSTAMP:20260425T152901
CREATED:20221230T013043Z
LAST-MODIFIED:20221230T013043Z
UID:10001231-1699876800-1699880400@www.calvary-rochester.org
SUMMARY:Alanon
DESCRIPTION:Meets in Menefee Hall\, opposite the church office.
URL:https://www.calvary-rochester.org/event/alanon-3/2023-11-13/
LOCATION:Calvary Episcopal Church\, 111 Third Avenue SW\, Rochester\, MN\, 55902
CATEGORIES:Community
ORGANIZER;CN="Calvary Episcopal Church":MAILTO:office@calvary-rochester.org
GEO:40.602991;-73.959517
X-APPLE-STRUCTURED-LOCATION;VALUE=URI;X-ADDRESS=Calvary Episcopal Church 111 Third Avenue SW Rochester MN 55902;X-APPLE-RADIUS=500;X-TITLE=111 Third Avenue SW:geo:-73.959517,40.602991
END:VEVENT
BEGIN:VEVENT
DTSTART;TZID=America/Chicago:20231114T120000
DTEND;TZID=America/Chicago:20231114T130000
DTSTAMP:20260425T152901
CREATED:20221230T012601Z
LAST-MODIFIED:20221230T012601Z
UID:10001088-1699963200-1699966800@www.calvary-rochester.org
SUMMARY:AA
DESCRIPTION:Freedom from Bondage (FFB)  AA group. This is an open AA meeting. It meets every Monday through Friday from 12:00-1:00 upstairs in Crawford Hall. Anyone suffering from an addiction is welcome.
URL:https://www.calvary-rochester.org/event/aa/2023-11-14/
LOCATION:Calvary Episcopal Church\, 111 Third Avenue SW\, Rochester\, MN\, 55902
CATEGORIES:Community
ORGANIZER;CN="Calvary Episcopal Church":MAILTO:office@calvary-rochester.org
GEO:40.602991;-73.959517
X-APPLE-STRUCTURED-LOCATION;VALUE=URI;X-ADDRESS=Calvary Episcopal Church 111 Third Avenue SW Rochester MN 55902;X-APPLE-RADIUS=500;X-TITLE=111 Third Avenue SW:geo:-73.959517,40.602991
END:VEVENT
BEGIN:VEVENT
DTSTART;TZID=America/Chicago:20231115T120000
DTEND;TZID=America/Chicago:20231115T130000
DTSTAMP:20260425T152901
CREATED:20221230T012601Z
LAST-MODIFIED:20221230T012601Z
UID:10001089-1700049600-1700053200@www.calvary-rochester.org
SUMMARY:AA
DESCRIPTION:Freedom from Bondage (FFB)  AA group. This is an open AA meeting. It meets every Monday through Friday from 12:00-1:00 upstairs in Crawford Hall. Anyone suffering from an addiction is welcome.
URL:https://www.calvary-rochester.org/event/aa/2023-11-15/
LOCATION:Calvary Episcopal Church\, 111 Third Avenue SW\, Rochester\, MN\, 55902
CATEGORIES:Community
ORGANIZER;CN="Calvary Episcopal Church":MAILTO:office@calvary-rochester.org
GEO:40.602991;-73.959517
X-APPLE-STRUCTURED-LOCATION;VALUE=URI;X-ADDRESS=Calvary Episcopal Church 111 Third Avenue SW Rochester MN 55902;X-APPLE-RADIUS=500;X-TITLE=111 Third Avenue SW:geo:-73.959517,40.602991
END:VEVENT
BEGIN:VEVENT
DTSTART;TZID=America/Chicago:20231116T064500
DTEND;TZID=America/Chicago:20231116T074500
DTSTAMP:20260425T152901
CREATED:20221230T014809Z
LAST-MODIFIED:20221230T014809Z
UID:10000515-1700117100-1700120700@www.calvary-rochester.org
SUMMARY:Medical and Professional AA Meeting
DESCRIPTION:This AA meeting meets early to accommodate the schedules of medical professionals\, but anyone who is suffering from an addiction and is an early-riser is welcome. It takes place on the main floor in the Larson Fireside Room.
URL:https://www.calvary-rochester.org/event/medical-and-professional-aa-meeting-2/2023-11-16/
LOCATION:Calvary Episcopal Church\, 111 Third Avenue SW\, Rochester\, MN\, 55902
CATEGORIES:Community
ORGANIZER;CN="Calvary Episcopal Church":MAILTO:office@calvary-rochester.org
GEO:40.602991;-73.959517
X-APPLE-STRUCTURED-LOCATION;VALUE=URI;X-ADDRESS=Calvary Episcopal Church 111 Third Avenue SW Rochester MN 55902;X-APPLE-RADIUS=500;X-TITLE=111 Third Avenue SW:geo:-73.959517,40.602991
END:VEVENT
BEGIN:VEVENT
DTSTART;TZID=America/Chicago:20231116T120000
DTEND;TZID=America/Chicago:20231116T130000
DTSTAMP:20260425T152901
CREATED:20221230T012601Z
LAST-MODIFIED:20221230T012601Z
UID:10001090-1700136000-1700139600@www.calvary-rochester.org
SUMMARY:AA
DESCRIPTION:Freedom from Bondage (FFB)  AA group. This is an open AA meeting. It meets every Monday through Friday from 12:00-1:00 upstairs in Crawford Hall. Anyone suffering from an addiction is welcome.
URL:https://www.calvary-rochester.org/event/aa/2023-11-16/
LOCATION:Calvary Episcopal Church\, 111 Third Avenue SW\, Rochester\, MN\, 55902
CATEGORIES:Community
ORGANIZER;CN="Calvary Episcopal Church":MAILTO:office@calvary-rochester.org
GEO:40.602991;-73.959517
X-APPLE-STRUCTURED-LOCATION;VALUE=URI;X-ADDRESS=Calvary Episcopal Church 111 Third Avenue SW Rochester MN 55902;X-APPLE-RADIUS=500;X-TITLE=111 Third Avenue SW:geo:-73.959517,40.602991
END:VEVENT
BEGIN:VEVENT
DTSTART;TZID=America/Chicago:20231117T120000
DTEND;TZID=America/Chicago:20231117T130000
DTSTAMP:20260425T152901
CREATED:20221230T012601Z
LAST-MODIFIED:20221230T012601Z
UID:10001091-1700222400-1700226000@www.calvary-rochester.org
SUMMARY:AA
DESCRIPTION:Freedom from Bondage (FFB)  AA group. This is an open AA meeting. It meets every Monday through Friday from 12:00-1:00 upstairs in Crawford Hall. Anyone suffering from an addiction is welcome.
URL:https://www.calvary-rochester.org/event/aa/2023-11-17/
LOCATION:Calvary Episcopal Church\, 111 Third Avenue SW\, Rochester\, MN\, 55902
CATEGORIES:Community
ORGANIZER;CN="Calvary Episcopal Church":MAILTO:office@calvary-rochester.org
GEO:40.602991;-73.959517
X-APPLE-STRUCTURED-LOCATION;VALUE=URI;X-ADDRESS=Calvary Episcopal Church 111 Third Avenue SW Rochester MN 55902;X-APPLE-RADIUS=500;X-TITLE=111 Third Avenue SW:geo:-73.959517,40.602991
END:VEVENT
BEGIN:VEVENT
DTSTART;TZID=America/Chicago:20231117T120000
DTEND;TZID=America/Chicago:20231117T130000
DTSTAMP:20260425T152901
CREATED:20221230T012830Z
LAST-MODIFIED:20221230T012830Z
UID:10001179-1700222400-1700226000@www.calvary-rochester.org
SUMMARY:Alanon (Zoom)
DESCRIPTION:Meets via Zoom\nThe email address is: Hopeandhealing22@gmail.com.\nThe meeting ID is: 81344786715\nThe password is: Grateful1
URL:https://www.calvary-rochester.org/event/alanon-zoom/2023-11-17/
LOCATION:Calvary Episcopal Church\, 111 Third Avenue SW\, Rochester\, MN\, 55902
CATEGORIES:Community
ORGANIZER;CN="Calvary Episcopal Church":MAILTO:office@calvary-rochester.org
GEO:40.602991;-73.959517
X-APPLE-STRUCTURED-LOCATION;VALUE=URI;X-ADDRESS=Calvary Episcopal Church 111 Third Avenue SW Rochester MN 55902;X-APPLE-RADIUS=500;X-TITLE=111 Third Avenue SW:geo:-73.959517,40.602991
END:VEVENT
BEGIN:VEVENT
DTSTART;TZID=America/Chicago:20231118T090000
DTEND;TZID=America/Chicago:20231118T200000
DTSTAMP:20260425T152901
CREATED:20231018T004140Z
LAST-MODIFIED:20231018T004140Z
UID:10001704-1700298000-1700337600@www.calvary-rochester.org
SUMMARY:Salvation Army Bell-Ringing
DESCRIPTION:The Salvation Army bell-ringing opportunity this year is November 18\, 2023\, at Hy-Vee Crossroads. It is again inside and the Saturday before Thanksgiving – a very busy day for shoppers. \nYou may register for the hour(s) that you would like to ring at the SignUpGenius link here: https://www.signupgenius.com/go/4090F4BABAF2AA3FC1-episcopal \nYour willingness to ring for those in need is very much appreciated. In order to plan\, please reserve your favorite time slot sooner than later! A variety of friends are being invited to join in this year’s event. If the day’s schedule fills up\, I am always able to secure another day. Please be in touch with me at any time. \nWith gratitude\,\nMartha Mangan\n(507) 261-3286
URL:https://www.calvary-rochester.org/event/salvation-army-bell-ringing-2/
LOCATION:Hy-Vee Crossroads\, 500 Crossroads Drive SW\, Rochester\, MN\, 55902\, United States
CATEGORIES:Community,Home
ATTACH;FMTTYPE=image/png:https://www.calvary-rochester.org/wp-content/uploads/2023/10/SA-Bell-Ringing-FB.png
ORGANIZER;CN="Calvary Episcopal Church":MAILTO:office@calvary-rochester.org
END:VEVENT
BEGIN:VEVENT
DTSTART;TZID=America/Chicago:20231120T120000
DTEND;TZID=America/Chicago:20231120T130000
DTSTAMP:20260425T152901
CREATED:20221230T012601Z
LAST-MODIFIED:20221230T012601Z
UID:10001092-1700481600-1700485200@www.calvary-rochester.org
SUMMARY:AA
DESCRIPTION:Freedom from Bondage (FFB)  AA group. This is an open AA meeting. It meets every Monday through Friday from 12:00-1:00 upstairs in Crawford Hall. Anyone suffering from an addiction is welcome.
URL:https://www.calvary-rochester.org/event/aa/2023-11-20/
LOCATION:Calvary Episcopal Church\, 111 Third Avenue SW\, Rochester\, MN\, 55902
CATEGORIES:Community
ORGANIZER;CN="Calvary Episcopal Church":MAILTO:office@calvary-rochester.org
GEO:40.602991;-73.959517
X-APPLE-STRUCTURED-LOCATION;VALUE=URI;X-ADDRESS=Calvary Episcopal Church 111 Third Avenue SW Rochester MN 55902;X-APPLE-RADIUS=500;X-TITLE=111 Third Avenue SW:geo:-73.959517,40.602991
END:VEVENT
BEGIN:VEVENT
DTSTART;TZID=America/Chicago:20231120T120000
DTEND;TZID=America/Chicago:20231120T130000
DTSTAMP:20260425T152901
CREATED:20221230T013043Z
LAST-MODIFIED:20221230T013043Z
UID:10001232-1700481600-1700485200@www.calvary-rochester.org
SUMMARY:Alanon
DESCRIPTION:Meets in Menefee Hall\, opposite the church office.
URL:https://www.calvary-rochester.org/event/alanon-3/2023-11-20/
LOCATION:Calvary Episcopal Church\, 111 Third Avenue SW\, Rochester\, MN\, 55902
CATEGORIES:Community
ORGANIZER;CN="Calvary Episcopal Church":MAILTO:office@calvary-rochester.org
GEO:40.602991;-73.959517
X-APPLE-STRUCTURED-LOCATION;VALUE=URI;X-ADDRESS=Calvary Episcopal Church 111 Third Avenue SW Rochester MN 55902;X-APPLE-RADIUS=500;X-TITLE=111 Third Avenue SW:geo:-73.959517,40.602991
END:VEVENT
BEGIN:VEVENT
DTSTART;TZID=America/Chicago:20231121T120000
DTEND;TZID=America/Chicago:20231121T130000
DTSTAMP:20260425T152901
CREATED:20221230T012601Z
LAST-MODIFIED:20221230T012601Z
UID:10001093-1700568000-1700571600@www.calvary-rochester.org
SUMMARY:AA
DESCRIPTION:Freedom from Bondage (FFB)  AA group. This is an open AA meeting. It meets every Monday through Friday from 12:00-1:00 upstairs in Crawford Hall. Anyone suffering from an addiction is welcome.
URL:https://www.calvary-rochester.org/event/aa/2023-11-21/
LOCATION:Calvary Episcopal Church\, 111 Third Avenue SW\, Rochester\, MN\, 55902
CATEGORIES:Community
ORGANIZER;CN="Calvary Episcopal Church":MAILTO:office@calvary-rochester.org
GEO:40.602991;-73.959517
X-APPLE-STRUCTURED-LOCATION;VALUE=URI;X-ADDRESS=Calvary Episcopal Church 111 Third Avenue SW Rochester MN 55902;X-APPLE-RADIUS=500;X-TITLE=111 Third Avenue SW:geo:-73.959517,40.602991
END:VEVENT
BEGIN:VEVENT
DTSTART;TZID=America/Chicago:20231122T120000
DTEND;TZID=America/Chicago:20231122T130000
DTSTAMP:20260425T152901
CREATED:20221230T012601Z
LAST-MODIFIED:20221230T012601Z
UID:10001094-1700654400-1700658000@www.calvary-rochester.org
SUMMARY:AA
DESCRIPTION:Freedom from Bondage (FFB)  AA group. This is an open AA meeting. It meets every Monday through Friday from 12:00-1:00 upstairs in Crawford Hall. Anyone suffering from an addiction is welcome.
URL:https://www.calvary-rochester.org/event/aa/2023-11-22/
LOCATION:Calvary Episcopal Church\, 111 Third Avenue SW\, Rochester\, MN\, 55902
CATEGORIES:Community
ORGANIZER;CN="Calvary Episcopal Church":MAILTO:office@calvary-rochester.org
GEO:40.602991;-73.959517
X-APPLE-STRUCTURED-LOCATION;VALUE=URI;X-ADDRESS=Calvary Episcopal Church 111 Third Avenue SW Rochester MN 55902;X-APPLE-RADIUS=500;X-TITLE=111 Third Avenue SW:geo:-73.959517,40.602991
END:VEVENT
BEGIN:VEVENT
DTSTART;TZID=America/Chicago:20231123T064500
DTEND;TZID=America/Chicago:20231123T074500
DTSTAMP:20260425T152901
CREATED:20221230T014809Z
LAST-MODIFIED:20221230T014809Z
UID:10000516-1700721900-1700725500@www.calvary-rochester.org
SUMMARY:Medical and Professional AA Meeting
DESCRIPTION:This AA meeting meets early to accommodate the schedules of medical professionals\, but anyone who is suffering from an addiction and is an early-riser is welcome. It takes place on the main floor in the Larson Fireside Room.
URL:https://www.calvary-rochester.org/event/medical-and-professional-aa-meeting-2/2023-11-23/
LOCATION:Calvary Episcopal Church\, 111 Third Avenue SW\, Rochester\, MN\, 55902
CATEGORIES:Community
ORGANIZER;CN="Calvary Episcopal Church":MAILTO:office@calvary-rochester.org
GEO:40.602991;-73.959517
X-APPLE-STRUCTURED-LOCATION;VALUE=URI;X-ADDRESS=Calvary Episcopal Church 111 Third Avenue SW Rochester MN 55902;X-APPLE-RADIUS=500;X-TITLE=111 Third Avenue SW:geo:-73.959517,40.602991
END:VEVENT
BEGIN:VEVENT
DTSTART;TZID=America/Chicago:20231123T120000
DTEND;TZID=America/Chicago:20231123T130000
DTSTAMP:20260425T152901
CREATED:20221230T012601Z
LAST-MODIFIED:20221230T012601Z
UID:10001095-1700740800-1700744400@www.calvary-rochester.org
SUMMARY:AA
DESCRIPTION:Freedom from Bondage (FFB)  AA group. This is an open AA meeting. It meets every Monday through Friday from 12:00-1:00 upstairs in Crawford Hall. Anyone suffering from an addiction is welcome.
URL:https://www.calvary-rochester.org/event/aa/2023-11-23/
LOCATION:Calvary Episcopal Church\, 111 Third Avenue SW\, Rochester\, MN\, 55902
CATEGORIES:Community
ORGANIZER;CN="Calvary Episcopal Church":MAILTO:office@calvary-rochester.org
GEO:40.602991;-73.959517
X-APPLE-STRUCTURED-LOCATION;VALUE=URI;X-ADDRESS=Calvary Episcopal Church 111 Third Avenue SW Rochester MN 55902;X-APPLE-RADIUS=500;X-TITLE=111 Third Avenue SW:geo:-73.959517,40.602991
END:VEVENT
BEGIN:VEVENT
DTSTART;TZID=America/Chicago:20231124T120000
DTEND;TZID=America/Chicago:20231124T130000
DTSTAMP:20260425T152901
CREATED:20221230T012601Z
LAST-MODIFIED:20221230T012601Z
UID:10001096-1700827200-1700830800@www.calvary-rochester.org
SUMMARY:AA
DESCRIPTION:Freedom from Bondage (FFB)  AA group. This is an open AA meeting. It meets every Monday through Friday from 12:00-1:00 upstairs in Crawford Hall. Anyone suffering from an addiction is welcome.
URL:https://www.calvary-rochester.org/event/aa/2023-11-24/
LOCATION:Calvary Episcopal Church\, 111 Third Avenue SW\, Rochester\, MN\, 55902
CATEGORIES:Community
ORGANIZER;CN="Calvary Episcopal Church":MAILTO:office@calvary-rochester.org
GEO:40.602991;-73.959517
X-APPLE-STRUCTURED-LOCATION;VALUE=URI;X-ADDRESS=Calvary Episcopal Church 111 Third Avenue SW Rochester MN 55902;X-APPLE-RADIUS=500;X-TITLE=111 Third Avenue SW:geo:-73.959517,40.602991
END:VEVENT
END:VCALENDAR