BEGIN:VCALENDAR
VERSION:2.0
PRODID:-//Calvary Episcopal Church - ECPv6.15.20//NONSGML v1.0//EN
CALSCALE:GREGORIAN
METHOD:PUBLISH
X-WR-CALNAME:Calvary Episcopal Church
X-ORIGINAL-URL:https://www.calvary-rochester.org
X-WR-CALDESC:Events for Calvary Episcopal Church
REFRESH-INTERVAL;VALUE=DURATION:PT1H
X-Robots-Tag:noindex
X-PUBLISHED-TTL:PT1H
BEGIN:VTIMEZONE
TZID:America/Chicago
BEGIN:DAYLIGHT
TZOFFSETFROM:-0600
TZOFFSETTO:-0500
TZNAME:CDT
DTSTART:20220313T080000
END:DAYLIGHT
BEGIN:STANDARD
TZOFFSETFROM:-0500
TZOFFSETTO:-0600
TZNAME:CST
DTSTART:20221106T070000
END:STANDARD
BEGIN:DAYLIGHT
TZOFFSETFROM:-0600
TZOFFSETTO:-0500
TZNAME:CDT
DTSTART:20230312T080000
END:DAYLIGHT
BEGIN:STANDARD
TZOFFSETFROM:-0500
TZOFFSETTO:-0600
TZNAME:CST
DTSTART:20231105T070000
END:STANDARD
BEGIN:DAYLIGHT
TZOFFSETFROM:-0600
TZOFFSETTO:-0500
TZNAME:CDT
DTSTART:20240310T080000
END:DAYLIGHT
BEGIN:STANDARD
TZOFFSETFROM:-0500
TZOFFSETTO:-0600
TZNAME:CST
DTSTART:20241103T070000
END:STANDARD
END:VTIMEZONE
BEGIN:VEVENT
DTSTART;TZID=America/Chicago:20231201T120000
DTEND;TZID=America/Chicago:20231201T130000
DTSTAMP:20260425T152715
CREATED:20221230T012601Z
LAST-MODIFIED:20221230T012601Z
UID:10001101-1701432000-1701435600@www.calvary-rochester.org
SUMMARY:AA
DESCRIPTION:Freedom from Bondage (FFB)  AA group. This is an open AA meeting. It meets every Monday through Friday from 12:00-1:00 upstairs in Crawford Hall. Anyone suffering from an addiction is welcome.
URL:https://www.calvary-rochester.org/event/aa/2023-12-01/
LOCATION:Calvary Episcopal Church\, 111 Third Avenue SW\, Rochester\, MN\, 55902
CATEGORIES:Community
ORGANIZER;CN="Calvary Episcopal Church":MAILTO:office@calvary-rochester.org
GEO:40.602991;-73.959517
X-APPLE-STRUCTURED-LOCATION;VALUE=URI;X-ADDRESS=Calvary Episcopal Church 111 Third Avenue SW Rochester MN 55902;X-APPLE-RADIUS=500;X-TITLE=111 Third Avenue SW:geo:-73.959517,40.602991
END:VEVENT
BEGIN:VEVENT
DTSTART;TZID=America/Chicago:20231201T120000
DTEND;TZID=America/Chicago:20231201T130000
DTSTAMP:20260425T152715
CREATED:20221230T012830Z
LAST-MODIFIED:20221230T012830Z
UID:10001181-1701432000-1701435600@www.calvary-rochester.org
SUMMARY:Alanon (Zoom)
DESCRIPTION:Meets via Zoom\nThe email address is: Hopeandhealing22@gmail.com.\nThe meeting ID is: 81344786715\nThe password is: Grateful1
URL:https://www.calvary-rochester.org/event/alanon-zoom/2023-12-01/
LOCATION:Calvary Episcopal Church\, 111 Third Avenue SW\, Rochester\, MN\, 55902
CATEGORIES:Community
ORGANIZER;CN="Calvary Episcopal Church":MAILTO:office@calvary-rochester.org
GEO:40.602991;-73.959517
X-APPLE-STRUCTURED-LOCATION;VALUE=URI;X-ADDRESS=Calvary Episcopal Church 111 Third Avenue SW Rochester MN 55902;X-APPLE-RADIUS=500;X-TITLE=111 Third Avenue SW:geo:-73.959517,40.602991
END:VEVENT
BEGIN:VEVENT
DTSTART;TZID=America/Chicago:20231204T120000
DTEND;TZID=America/Chicago:20231204T130000
DTSTAMP:20260425T152715
CREATED:20221230T012601Z
LAST-MODIFIED:20221230T012601Z
UID:10001102-1701691200-1701694800@www.calvary-rochester.org
SUMMARY:AA
DESCRIPTION:Freedom from Bondage (FFB)  AA group. This is an open AA meeting. It meets every Monday through Friday from 12:00-1:00 upstairs in Crawford Hall. Anyone suffering from an addiction is welcome.
URL:https://www.calvary-rochester.org/event/aa/2023-12-04/
LOCATION:Calvary Episcopal Church\, 111 Third Avenue SW\, Rochester\, MN\, 55902
CATEGORIES:Community
ORGANIZER;CN="Calvary Episcopal Church":MAILTO:office@calvary-rochester.org
GEO:40.602991;-73.959517
X-APPLE-STRUCTURED-LOCATION;VALUE=URI;X-ADDRESS=Calvary Episcopal Church 111 Third Avenue SW Rochester MN 55902;X-APPLE-RADIUS=500;X-TITLE=111 Third Avenue SW:geo:-73.959517,40.602991
END:VEVENT
BEGIN:VEVENT
DTSTART;TZID=America/Chicago:20231204T120000
DTEND;TZID=America/Chicago:20231204T130000
DTSTAMP:20260425T152715
CREATED:20221230T013043Z
LAST-MODIFIED:20221230T013043Z
UID:10001234-1701691200-1701694800@www.calvary-rochester.org
SUMMARY:Alanon
DESCRIPTION:Meets in Menefee Hall\, opposite the church office.
URL:https://www.calvary-rochester.org/event/alanon-3/2023-12-04/
LOCATION:Calvary Episcopal Church\, 111 Third Avenue SW\, Rochester\, MN\, 55902
CATEGORIES:Community
ORGANIZER;CN="Calvary Episcopal Church":MAILTO:office@calvary-rochester.org
GEO:40.602991;-73.959517
X-APPLE-STRUCTURED-LOCATION;VALUE=URI;X-ADDRESS=Calvary Episcopal Church 111 Third Avenue SW Rochester MN 55902;X-APPLE-RADIUS=500;X-TITLE=111 Third Avenue SW:geo:-73.959517,40.602991
END:VEVENT
BEGIN:VEVENT
DTSTART;TZID=America/Chicago:20231205T120000
DTEND;TZID=America/Chicago:20231205T130000
DTSTAMP:20260425T152715
CREATED:20221230T012601Z
LAST-MODIFIED:20221230T012601Z
UID:10001103-1701777600-1701781200@www.calvary-rochester.org
SUMMARY:AA
DESCRIPTION:Freedom from Bondage (FFB)  AA group. This is an open AA meeting. It meets every Monday through Friday from 12:00-1:00 upstairs in Crawford Hall. Anyone suffering from an addiction is welcome.
URL:https://www.calvary-rochester.org/event/aa/2023-12-05/
LOCATION:Calvary Episcopal Church\, 111 Third Avenue SW\, Rochester\, MN\, 55902
CATEGORIES:Community
ORGANIZER;CN="Calvary Episcopal Church":MAILTO:office@calvary-rochester.org
GEO:40.602991;-73.959517
X-APPLE-STRUCTURED-LOCATION;VALUE=URI;X-ADDRESS=Calvary Episcopal Church 111 Third Avenue SW Rochester MN 55902;X-APPLE-RADIUS=500;X-TITLE=111 Third Avenue SW:geo:-73.959517,40.602991
END:VEVENT
BEGIN:VEVENT
DTSTART;TZID=America/Chicago:20231206T120000
DTEND;TZID=America/Chicago:20231206T130000
DTSTAMP:20260425T152715
CREATED:20221230T012601Z
LAST-MODIFIED:20221230T012601Z
UID:10001104-1701864000-1701867600@www.calvary-rochester.org
SUMMARY:AA
DESCRIPTION:Freedom from Bondage (FFB)  AA group. This is an open AA meeting. It meets every Monday through Friday from 12:00-1:00 upstairs in Crawford Hall. Anyone suffering from an addiction is welcome.
URL:https://www.calvary-rochester.org/event/aa/2023-12-06/
LOCATION:Calvary Episcopal Church\, 111 Third Avenue SW\, Rochester\, MN\, 55902
CATEGORIES:Community
ORGANIZER;CN="Calvary Episcopal Church":MAILTO:office@calvary-rochester.org
GEO:40.602991;-73.959517
X-APPLE-STRUCTURED-LOCATION;VALUE=URI;X-ADDRESS=Calvary Episcopal Church 111 Third Avenue SW Rochester MN 55902;X-APPLE-RADIUS=500;X-TITLE=111 Third Avenue SW:geo:-73.959517,40.602991
END:VEVENT
BEGIN:VEVENT
DTSTART;TZID=America/Chicago:20231207T064500
DTEND;TZID=America/Chicago:20231207T074500
DTSTAMP:20260425T152716
CREATED:20221230T014809Z
LAST-MODIFIED:20221230T014809Z
UID:10000518-1701931500-1701935100@www.calvary-rochester.org
SUMMARY:Medical and Professional AA Meeting
DESCRIPTION:This AA meeting meets early to accommodate the schedules of medical professionals\, but anyone who is suffering from an addiction and is an early-riser is welcome. It takes place on the main floor in the Larson Fireside Room.
URL:https://www.calvary-rochester.org/event/medical-and-professional-aa-meeting-2/2023-12-07/
LOCATION:Calvary Episcopal Church\, 111 Third Avenue SW\, Rochester\, MN\, 55902
CATEGORIES:Community
ORGANIZER;CN="Calvary Episcopal Church":MAILTO:office@calvary-rochester.org
GEO:40.602991;-73.959517
X-APPLE-STRUCTURED-LOCATION;VALUE=URI;X-ADDRESS=Calvary Episcopal Church 111 Third Avenue SW Rochester MN 55902;X-APPLE-RADIUS=500;X-TITLE=111 Third Avenue SW:geo:-73.959517,40.602991
END:VEVENT
BEGIN:VEVENT
DTSTART;TZID=America/Chicago:20231207T120000
DTEND;TZID=America/Chicago:20231207T130000
DTSTAMP:20260425T152716
CREATED:20221230T012601Z
LAST-MODIFIED:20221230T012601Z
UID:10001105-1701950400-1701954000@www.calvary-rochester.org
SUMMARY:AA
DESCRIPTION:Freedom from Bondage (FFB)  AA group. This is an open AA meeting. It meets every Monday through Friday from 12:00-1:00 upstairs in Crawford Hall. Anyone suffering from an addiction is welcome.
URL:https://www.calvary-rochester.org/event/aa/2023-12-07/
LOCATION:Calvary Episcopal Church\, 111 Third Avenue SW\, Rochester\, MN\, 55902
CATEGORIES:Community
ORGANIZER;CN="Calvary Episcopal Church":MAILTO:office@calvary-rochester.org
GEO:40.602991;-73.959517
X-APPLE-STRUCTURED-LOCATION;VALUE=URI;X-ADDRESS=Calvary Episcopal Church 111 Third Avenue SW Rochester MN 55902;X-APPLE-RADIUS=500;X-TITLE=111 Third Avenue SW:geo:-73.959517,40.602991
END:VEVENT
BEGIN:VEVENT
DTSTART;TZID=America/Chicago:20231208T120000
DTEND;TZID=America/Chicago:20231208T130000
DTSTAMP:20260425T152716
CREATED:20221230T012601Z
LAST-MODIFIED:20221230T012601Z
UID:10001106-1702036800-1702040400@www.calvary-rochester.org
SUMMARY:AA
DESCRIPTION:Freedom from Bondage (FFB)  AA group. This is an open AA meeting. It meets every Monday through Friday from 12:00-1:00 upstairs in Crawford Hall. Anyone suffering from an addiction is welcome.
URL:https://www.calvary-rochester.org/event/aa/2023-12-08/
LOCATION:Calvary Episcopal Church\, 111 Third Avenue SW\, Rochester\, MN\, 55902
CATEGORIES:Community
ORGANIZER;CN="Calvary Episcopal Church":MAILTO:office@calvary-rochester.org
GEO:40.602991;-73.959517
X-APPLE-STRUCTURED-LOCATION;VALUE=URI;X-ADDRESS=Calvary Episcopal Church 111 Third Avenue SW Rochester MN 55902;X-APPLE-RADIUS=500;X-TITLE=111 Third Avenue SW:geo:-73.959517,40.602991
END:VEVENT
BEGIN:VEVENT
DTSTART;TZID=America/Chicago:20231208T120000
DTEND;TZID=America/Chicago:20231208T130000
DTSTAMP:20260425T152716
CREATED:20221230T012830Z
LAST-MODIFIED:20221230T012830Z
UID:10001182-1702036800-1702040400@www.calvary-rochester.org
SUMMARY:Alanon (Zoom)
DESCRIPTION:Meets via Zoom\nThe email address is: Hopeandhealing22@gmail.com.\nThe meeting ID is: 81344786715\nThe password is: Grateful1
URL:https://www.calvary-rochester.org/event/alanon-zoom/2023-12-08/
LOCATION:Calvary Episcopal Church\, 111 Third Avenue SW\, Rochester\, MN\, 55902
CATEGORIES:Community
ORGANIZER;CN="Calvary Episcopal Church":MAILTO:office@calvary-rochester.org
GEO:40.602991;-73.959517
X-APPLE-STRUCTURED-LOCATION;VALUE=URI;X-ADDRESS=Calvary Episcopal Church 111 Third Avenue SW Rochester MN 55902;X-APPLE-RADIUS=500;X-TITLE=111 Third Avenue SW:geo:-73.959517,40.602991
END:VEVENT
BEGIN:VEVENT
DTSTART;TZID=America/Chicago:20231211T120000
DTEND;TZID=America/Chicago:20231211T130000
DTSTAMP:20260425T152716
CREATED:20221230T012601Z
LAST-MODIFIED:20221230T012601Z
UID:10001107-1702296000-1702299600@www.calvary-rochester.org
SUMMARY:AA
DESCRIPTION:Freedom from Bondage (FFB)  AA group. This is an open AA meeting. It meets every Monday through Friday from 12:00-1:00 upstairs in Crawford Hall. Anyone suffering from an addiction is welcome.
URL:https://www.calvary-rochester.org/event/aa/2023-12-11/
LOCATION:Calvary Episcopal Church\, 111 Third Avenue SW\, Rochester\, MN\, 55902
CATEGORIES:Community
ORGANIZER;CN="Calvary Episcopal Church":MAILTO:office@calvary-rochester.org
GEO:40.602991;-73.959517
X-APPLE-STRUCTURED-LOCATION;VALUE=URI;X-ADDRESS=Calvary Episcopal Church 111 Third Avenue SW Rochester MN 55902;X-APPLE-RADIUS=500;X-TITLE=111 Third Avenue SW:geo:-73.959517,40.602991
END:VEVENT
BEGIN:VEVENT
DTSTART;TZID=America/Chicago:20231211T120000
DTEND;TZID=America/Chicago:20231211T130000
DTSTAMP:20260425T152716
CREATED:20221230T013043Z
LAST-MODIFIED:20221230T013043Z
UID:10001235-1702296000-1702299600@www.calvary-rochester.org
SUMMARY:Alanon
DESCRIPTION:Meets in Menefee Hall\, opposite the church office.
URL:https://www.calvary-rochester.org/event/alanon-3/2023-12-11/
LOCATION:Calvary Episcopal Church\, 111 Third Avenue SW\, Rochester\, MN\, 55902
CATEGORIES:Community
ORGANIZER;CN="Calvary Episcopal Church":MAILTO:office@calvary-rochester.org
GEO:40.602991;-73.959517
X-APPLE-STRUCTURED-LOCATION;VALUE=URI;X-ADDRESS=Calvary Episcopal Church 111 Third Avenue SW Rochester MN 55902;X-APPLE-RADIUS=500;X-TITLE=111 Third Avenue SW:geo:-73.959517,40.602991
END:VEVENT
BEGIN:VEVENT
DTSTART;TZID=America/Chicago:20231212T120000
DTEND;TZID=America/Chicago:20231212T130000
DTSTAMP:20260425T152716
CREATED:20221230T012601Z
LAST-MODIFIED:20221230T012601Z
UID:10001108-1702382400-1702386000@www.calvary-rochester.org
SUMMARY:AA
DESCRIPTION:Freedom from Bondage (FFB)  AA group. This is an open AA meeting. It meets every Monday through Friday from 12:00-1:00 upstairs in Crawford Hall. Anyone suffering from an addiction is welcome.
URL:https://www.calvary-rochester.org/event/aa/2023-12-12/
LOCATION:Calvary Episcopal Church\, 111 Third Avenue SW\, Rochester\, MN\, 55902
CATEGORIES:Community
ORGANIZER;CN="Calvary Episcopal Church":MAILTO:office@calvary-rochester.org
GEO:40.602991;-73.959517
X-APPLE-STRUCTURED-LOCATION;VALUE=URI;X-ADDRESS=Calvary Episcopal Church 111 Third Avenue SW Rochester MN 55902;X-APPLE-RADIUS=500;X-TITLE=111 Third Avenue SW:geo:-73.959517,40.602991
END:VEVENT
BEGIN:VEVENT
DTSTART;TZID=America/Chicago:20231213T120000
DTEND;TZID=America/Chicago:20231213T130000
DTSTAMP:20260425T152716
CREATED:20221230T012601Z
LAST-MODIFIED:20221230T012601Z
UID:10001109-1702468800-1702472400@www.calvary-rochester.org
SUMMARY:AA
DESCRIPTION:Freedom from Bondage (FFB)  AA group. This is an open AA meeting. It meets every Monday through Friday from 12:00-1:00 upstairs in Crawford Hall. Anyone suffering from an addiction is welcome.
URL:https://www.calvary-rochester.org/event/aa/2023-12-13/
LOCATION:Calvary Episcopal Church\, 111 Third Avenue SW\, Rochester\, MN\, 55902
CATEGORIES:Community
ORGANIZER;CN="Calvary Episcopal Church":MAILTO:office@calvary-rochester.org
GEO:40.602991;-73.959517
X-APPLE-STRUCTURED-LOCATION;VALUE=URI;X-ADDRESS=Calvary Episcopal Church 111 Third Avenue SW Rochester MN 55902;X-APPLE-RADIUS=500;X-TITLE=111 Third Avenue SW:geo:-73.959517,40.602991
END:VEVENT
BEGIN:VEVENT
DTSTART;TZID=America/Chicago:20231214T064500
DTEND;TZID=America/Chicago:20231214T074500
DTSTAMP:20260425T152716
CREATED:20221230T014809Z
LAST-MODIFIED:20221230T014809Z
UID:10000519-1702536300-1702539900@www.calvary-rochester.org
SUMMARY:Medical and Professional AA Meeting
DESCRIPTION:This AA meeting meets early to accommodate the schedules of medical professionals\, but anyone who is suffering from an addiction and is an early-riser is welcome. It takes place on the main floor in the Larson Fireside Room.
URL:https://www.calvary-rochester.org/event/medical-and-professional-aa-meeting-2/2023-12-14/
LOCATION:Calvary Episcopal Church\, 111 Third Avenue SW\, Rochester\, MN\, 55902
CATEGORIES:Community
ORGANIZER;CN="Calvary Episcopal Church":MAILTO:office@calvary-rochester.org
GEO:40.602991;-73.959517
X-APPLE-STRUCTURED-LOCATION;VALUE=URI;X-ADDRESS=Calvary Episcopal Church 111 Third Avenue SW Rochester MN 55902;X-APPLE-RADIUS=500;X-TITLE=111 Third Avenue SW:geo:-73.959517,40.602991
END:VEVENT
BEGIN:VEVENT
DTSTART;TZID=America/Chicago:20231214T120000
DTEND;TZID=America/Chicago:20231214T130000
DTSTAMP:20260425T152716
CREATED:20221230T012601Z
LAST-MODIFIED:20221230T012601Z
UID:10001110-1702555200-1702558800@www.calvary-rochester.org
SUMMARY:AA
DESCRIPTION:Freedom from Bondage (FFB)  AA group. This is an open AA meeting. It meets every Monday through Friday from 12:00-1:00 upstairs in Crawford Hall. Anyone suffering from an addiction is welcome.
URL:https://www.calvary-rochester.org/event/aa/2023-12-14/
LOCATION:Calvary Episcopal Church\, 111 Third Avenue SW\, Rochester\, MN\, 55902
CATEGORIES:Community
ORGANIZER;CN="Calvary Episcopal Church":MAILTO:office@calvary-rochester.org
GEO:40.602991;-73.959517
X-APPLE-STRUCTURED-LOCATION;VALUE=URI;X-ADDRESS=Calvary Episcopal Church 111 Third Avenue SW Rochester MN 55902;X-APPLE-RADIUS=500;X-TITLE=111 Third Avenue SW:geo:-73.959517,40.602991
END:VEVENT
BEGIN:VEVENT
DTSTART;TZID=America/Chicago:20231215T120000
DTEND;TZID=America/Chicago:20231215T130000
DTSTAMP:20260425T152716
CREATED:20221230T012601Z
LAST-MODIFIED:20221230T012601Z
UID:10001111-1702641600-1702645200@www.calvary-rochester.org
SUMMARY:AA
DESCRIPTION:Freedom from Bondage (FFB)  AA group. This is an open AA meeting. It meets every Monday through Friday from 12:00-1:00 upstairs in Crawford Hall. Anyone suffering from an addiction is welcome.
URL:https://www.calvary-rochester.org/event/aa/2023-12-15/
LOCATION:Calvary Episcopal Church\, 111 Third Avenue SW\, Rochester\, MN\, 55902
CATEGORIES:Community
ORGANIZER;CN="Calvary Episcopal Church":MAILTO:office@calvary-rochester.org
GEO:40.602991;-73.959517
X-APPLE-STRUCTURED-LOCATION;VALUE=URI;X-ADDRESS=Calvary Episcopal Church 111 Third Avenue SW Rochester MN 55902;X-APPLE-RADIUS=500;X-TITLE=111 Third Avenue SW:geo:-73.959517,40.602991
END:VEVENT
BEGIN:VEVENT
DTSTART;TZID=America/Chicago:20231215T120000
DTEND;TZID=America/Chicago:20231215T130000
DTSTAMP:20260425T152716
CREATED:20221230T012830Z
LAST-MODIFIED:20221230T012830Z
UID:10001183-1702641600-1702645200@www.calvary-rochester.org
SUMMARY:Alanon (Zoom)
DESCRIPTION:Meets via Zoom\nThe email address is: Hopeandhealing22@gmail.com.\nThe meeting ID is: 81344786715\nThe password is: Grateful1
URL:https://www.calvary-rochester.org/event/alanon-zoom/2023-12-15/
LOCATION:Calvary Episcopal Church\, 111 Third Avenue SW\, Rochester\, MN\, 55902
CATEGORIES:Community
ORGANIZER;CN="Calvary Episcopal Church":MAILTO:office@calvary-rochester.org
GEO:40.602991;-73.959517
X-APPLE-STRUCTURED-LOCATION;VALUE=URI;X-ADDRESS=Calvary Episcopal Church 111 Third Avenue SW Rochester MN 55902;X-APPLE-RADIUS=500;X-TITLE=111 Third Avenue SW:geo:-73.959517,40.602991
END:VEVENT
BEGIN:VEVENT
DTSTART;TZID=America/Chicago:20231218T120000
DTEND;TZID=America/Chicago:20231218T130000
DTSTAMP:20260425T152716
CREATED:20221230T012601Z
LAST-MODIFIED:20221230T012601Z
UID:10001112-1702900800-1702904400@www.calvary-rochester.org
SUMMARY:AA
DESCRIPTION:Freedom from Bondage (FFB)  AA group. This is an open AA meeting. It meets every Monday through Friday from 12:00-1:00 upstairs in Crawford Hall. Anyone suffering from an addiction is welcome.
URL:https://www.calvary-rochester.org/event/aa/2023-12-18/
LOCATION:Calvary Episcopal Church\, 111 Third Avenue SW\, Rochester\, MN\, 55902
CATEGORIES:Community
ORGANIZER;CN="Calvary Episcopal Church":MAILTO:office@calvary-rochester.org
GEO:40.602991;-73.959517
X-APPLE-STRUCTURED-LOCATION;VALUE=URI;X-ADDRESS=Calvary Episcopal Church 111 Third Avenue SW Rochester MN 55902;X-APPLE-RADIUS=500;X-TITLE=111 Third Avenue SW:geo:-73.959517,40.602991
END:VEVENT
BEGIN:VEVENT
DTSTART;TZID=America/Chicago:20231218T120000
DTEND;TZID=America/Chicago:20231218T130000
DTSTAMP:20260425T152716
CREATED:20221230T013043Z
LAST-MODIFIED:20221230T013043Z
UID:10001236-1702900800-1702904400@www.calvary-rochester.org
SUMMARY:Alanon
DESCRIPTION:Meets in Menefee Hall\, opposite the church office.
URL:https://www.calvary-rochester.org/event/alanon-3/2023-12-18/
LOCATION:Calvary Episcopal Church\, 111 Third Avenue SW\, Rochester\, MN\, 55902
CATEGORIES:Community
ORGANIZER;CN="Calvary Episcopal Church":MAILTO:office@calvary-rochester.org
GEO:40.602991;-73.959517
X-APPLE-STRUCTURED-LOCATION;VALUE=URI;X-ADDRESS=Calvary Episcopal Church 111 Third Avenue SW Rochester MN 55902;X-APPLE-RADIUS=500;X-TITLE=111 Third Avenue SW:geo:-73.959517,40.602991
END:VEVENT
BEGIN:VEVENT
DTSTART;TZID=America/Chicago:20231219T120000
DTEND;TZID=America/Chicago:20231219T130000
DTSTAMP:20260425T152716
CREATED:20221230T012601Z
LAST-MODIFIED:20221230T012601Z
UID:10001113-1702987200-1702990800@www.calvary-rochester.org
SUMMARY:AA
DESCRIPTION:Freedom from Bondage (FFB)  AA group. This is an open AA meeting. It meets every Monday through Friday from 12:00-1:00 upstairs in Crawford Hall. Anyone suffering from an addiction is welcome.
URL:https://www.calvary-rochester.org/event/aa/2023-12-19/
LOCATION:Calvary Episcopal Church\, 111 Third Avenue SW\, Rochester\, MN\, 55902
CATEGORIES:Community
ORGANIZER;CN="Calvary Episcopal Church":MAILTO:office@calvary-rochester.org
GEO:40.602991;-73.959517
X-APPLE-STRUCTURED-LOCATION;VALUE=URI;X-ADDRESS=Calvary Episcopal Church 111 Third Avenue SW Rochester MN 55902;X-APPLE-RADIUS=500;X-TITLE=111 Third Avenue SW:geo:-73.959517,40.602991
END:VEVENT
BEGIN:VEVENT
DTSTART;TZID=America/Chicago:20231220T120000
DTEND;TZID=America/Chicago:20231220T130000
DTSTAMP:20260425T152716
CREATED:20221230T012601Z
LAST-MODIFIED:20221230T012601Z
UID:10001114-1703073600-1703077200@www.calvary-rochester.org
SUMMARY:AA
DESCRIPTION:Freedom from Bondage (FFB)  AA group. This is an open AA meeting. It meets every Monday through Friday from 12:00-1:00 upstairs in Crawford Hall. Anyone suffering from an addiction is welcome.
URL:https://www.calvary-rochester.org/event/aa/2023-12-20/
LOCATION:Calvary Episcopal Church\, 111 Third Avenue SW\, Rochester\, MN\, 55902
CATEGORIES:Community
ORGANIZER;CN="Calvary Episcopal Church":MAILTO:office@calvary-rochester.org
GEO:40.602991;-73.959517
X-APPLE-STRUCTURED-LOCATION;VALUE=URI;X-ADDRESS=Calvary Episcopal Church 111 Third Avenue SW Rochester MN 55902;X-APPLE-RADIUS=500;X-TITLE=111 Third Avenue SW:geo:-73.959517,40.602991
END:VEVENT
BEGIN:VEVENT
DTSTART;TZID=America/Chicago:20231221T064500
DTEND;TZID=America/Chicago:20231221T074500
DTSTAMP:20260425T152716
CREATED:20221230T014809Z
LAST-MODIFIED:20221230T014809Z
UID:10000520-1703141100-1703144700@www.calvary-rochester.org
SUMMARY:Medical and Professional AA Meeting
DESCRIPTION:This AA meeting meets early to accommodate the schedules of medical professionals\, but anyone who is suffering from an addiction and is an early-riser is welcome. It takes place on the main floor in the Larson Fireside Room.
URL:https://www.calvary-rochester.org/event/medical-and-professional-aa-meeting-2/2023-12-21/
LOCATION:Calvary Episcopal Church\, 111 Third Avenue SW\, Rochester\, MN\, 55902
CATEGORIES:Community
ORGANIZER;CN="Calvary Episcopal Church":MAILTO:office@calvary-rochester.org
GEO:40.602991;-73.959517
X-APPLE-STRUCTURED-LOCATION;VALUE=URI;X-ADDRESS=Calvary Episcopal Church 111 Third Avenue SW Rochester MN 55902;X-APPLE-RADIUS=500;X-TITLE=111 Third Avenue SW:geo:-73.959517,40.602991
END:VEVENT
BEGIN:VEVENT
DTSTART;TZID=America/Chicago:20231221T120000
DTEND;TZID=America/Chicago:20231221T130000
DTSTAMP:20260425T152716
CREATED:20221230T012601Z
LAST-MODIFIED:20221230T012601Z
UID:10001115-1703160000-1703163600@www.calvary-rochester.org
SUMMARY:AA
DESCRIPTION:Freedom from Bondage (FFB)  AA group. This is an open AA meeting. It meets every Monday through Friday from 12:00-1:00 upstairs in Crawford Hall. Anyone suffering from an addiction is welcome.
URL:https://www.calvary-rochester.org/event/aa/2023-12-21/
LOCATION:Calvary Episcopal Church\, 111 Third Avenue SW\, Rochester\, MN\, 55902
CATEGORIES:Community
ORGANIZER;CN="Calvary Episcopal Church":MAILTO:office@calvary-rochester.org
GEO:40.602991;-73.959517
X-APPLE-STRUCTURED-LOCATION;VALUE=URI;X-ADDRESS=Calvary Episcopal Church 111 Third Avenue SW Rochester MN 55902;X-APPLE-RADIUS=500;X-TITLE=111 Third Avenue SW:geo:-73.959517,40.602991
END:VEVENT
BEGIN:VEVENT
DTSTART;TZID=America/Chicago:20231222T120000
DTEND;TZID=America/Chicago:20231222T130000
DTSTAMP:20260425T152716
CREATED:20221230T012601Z
LAST-MODIFIED:20221230T012601Z
UID:10001116-1703246400-1703250000@www.calvary-rochester.org
SUMMARY:AA
DESCRIPTION:Freedom from Bondage (FFB)  AA group. This is an open AA meeting. It meets every Monday through Friday from 12:00-1:00 upstairs in Crawford Hall. Anyone suffering from an addiction is welcome.
URL:https://www.calvary-rochester.org/event/aa/2023-12-22/
LOCATION:Calvary Episcopal Church\, 111 Third Avenue SW\, Rochester\, MN\, 55902
CATEGORIES:Community
ORGANIZER;CN="Calvary Episcopal Church":MAILTO:office@calvary-rochester.org
GEO:40.602991;-73.959517
X-APPLE-STRUCTURED-LOCATION;VALUE=URI;X-ADDRESS=Calvary Episcopal Church 111 Third Avenue SW Rochester MN 55902;X-APPLE-RADIUS=500;X-TITLE=111 Third Avenue SW:geo:-73.959517,40.602991
END:VEVENT
BEGIN:VEVENT
DTSTART;TZID=America/Chicago:20231222T120000
DTEND;TZID=America/Chicago:20231222T130000
DTSTAMP:20260425T152716
CREATED:20221230T012830Z
LAST-MODIFIED:20221230T012830Z
UID:10001184-1703246400-1703250000@www.calvary-rochester.org
SUMMARY:Alanon (Zoom)
DESCRIPTION:Meets via Zoom\nThe email address is: Hopeandhealing22@gmail.com.\nThe meeting ID is: 81344786715\nThe password is: Grateful1
URL:https://www.calvary-rochester.org/event/alanon-zoom/2023-12-22/
LOCATION:Calvary Episcopal Church\, 111 Third Avenue SW\, Rochester\, MN\, 55902
CATEGORIES:Community
ORGANIZER;CN="Calvary Episcopal Church":MAILTO:office@calvary-rochester.org
GEO:40.602991;-73.959517
X-APPLE-STRUCTURED-LOCATION;VALUE=URI;X-ADDRESS=Calvary Episcopal Church 111 Third Avenue SW Rochester MN 55902;X-APPLE-RADIUS=500;X-TITLE=111 Third Avenue SW:geo:-73.959517,40.602991
END:VEVENT
BEGIN:VEVENT
DTSTART;TZID=America/Chicago:20231225T120000
DTEND;TZID=America/Chicago:20231225T130000
DTSTAMP:20260425T152716
CREATED:20221230T012601Z
LAST-MODIFIED:20221230T012601Z
UID:10001117-1703505600-1703509200@www.calvary-rochester.org
SUMMARY:AA
DESCRIPTION:Freedom from Bondage (FFB)  AA group. This is an open AA meeting. It meets every Monday through Friday from 12:00-1:00 upstairs in Crawford Hall. Anyone suffering from an addiction is welcome.
URL:https://www.calvary-rochester.org/event/aa/2023-12-25/
LOCATION:Calvary Episcopal Church\, 111 Third Avenue SW\, Rochester\, MN\, 55902
CATEGORIES:Community
ORGANIZER;CN="Calvary Episcopal Church":MAILTO:office@calvary-rochester.org
GEO:40.602991;-73.959517
X-APPLE-STRUCTURED-LOCATION;VALUE=URI;X-ADDRESS=Calvary Episcopal Church 111 Third Avenue SW Rochester MN 55902;X-APPLE-RADIUS=500;X-TITLE=111 Third Avenue SW:geo:-73.959517,40.602991
END:VEVENT
BEGIN:VEVENT
DTSTART;TZID=America/Chicago:20231226T120000
DTEND;TZID=America/Chicago:20231226T130000
DTSTAMP:20260425T152716
CREATED:20221230T012601Z
LAST-MODIFIED:20221230T012601Z
UID:10001118-1703592000-1703595600@www.calvary-rochester.org
SUMMARY:AA
DESCRIPTION:Freedom from Bondage (FFB)  AA group. This is an open AA meeting. It meets every Monday through Friday from 12:00-1:00 upstairs in Crawford Hall. Anyone suffering from an addiction is welcome.
URL:https://www.calvary-rochester.org/event/aa/2023-12-26/
LOCATION:Calvary Episcopal Church\, 111 Third Avenue SW\, Rochester\, MN\, 55902
CATEGORIES:Community
ORGANIZER;CN="Calvary Episcopal Church":MAILTO:office@calvary-rochester.org
GEO:40.602991;-73.959517
X-APPLE-STRUCTURED-LOCATION;VALUE=URI;X-ADDRESS=Calvary Episcopal Church 111 Third Avenue SW Rochester MN 55902;X-APPLE-RADIUS=500;X-TITLE=111 Third Avenue SW:geo:-73.959517,40.602991
END:VEVENT
BEGIN:VEVENT
DTSTART;TZID=America/Chicago:20231227T120000
DTEND;TZID=America/Chicago:20231227T130000
DTSTAMP:20260425T152716
CREATED:20221230T012601Z
LAST-MODIFIED:20221230T012601Z
UID:10001119-1703678400-1703682000@www.calvary-rochester.org
SUMMARY:AA
DESCRIPTION:Freedom from Bondage (FFB)  AA group. This is an open AA meeting. It meets every Monday through Friday from 12:00-1:00 upstairs in Crawford Hall. Anyone suffering from an addiction is welcome.
URL:https://www.calvary-rochester.org/event/aa/2023-12-27/
LOCATION:Calvary Episcopal Church\, 111 Third Avenue SW\, Rochester\, MN\, 55902
CATEGORIES:Community
ORGANIZER;CN="Calvary Episcopal Church":MAILTO:office@calvary-rochester.org
GEO:40.602991;-73.959517
X-APPLE-STRUCTURED-LOCATION;VALUE=URI;X-ADDRESS=Calvary Episcopal Church 111 Third Avenue SW Rochester MN 55902;X-APPLE-RADIUS=500;X-TITLE=111 Third Avenue SW:geo:-73.959517,40.602991
END:VEVENT
BEGIN:VEVENT
DTSTART;TZID=America/Chicago:20231228T064500
DTEND;TZID=America/Chicago:20231228T074500
DTSTAMP:20260425T152716
CREATED:20221230T014809Z
LAST-MODIFIED:20221230T014809Z
UID:10000521-1703745900-1703749500@www.calvary-rochester.org
SUMMARY:Medical and Professional AA Meeting
DESCRIPTION:This AA meeting meets early to accommodate the schedules of medical professionals\, but anyone who is suffering from an addiction and is an early-riser is welcome. It takes place on the main floor in the Larson Fireside Room.
URL:https://www.calvary-rochester.org/event/medical-and-professional-aa-meeting-2/2023-12-28/
LOCATION:Calvary Episcopal Church\, 111 Third Avenue SW\, Rochester\, MN\, 55902
CATEGORIES:Community
ORGANIZER;CN="Calvary Episcopal Church":MAILTO:office@calvary-rochester.org
GEO:40.602991;-73.959517
X-APPLE-STRUCTURED-LOCATION;VALUE=URI;X-ADDRESS=Calvary Episcopal Church 111 Third Avenue SW Rochester MN 55902;X-APPLE-RADIUS=500;X-TITLE=111 Third Avenue SW:geo:-73.959517,40.602991
END:VEVENT
END:VCALENDAR