BEGIN:VCALENDAR
VERSION:2.0
PRODID:-//Calvary Episcopal Church - ECPv6.15.20//NONSGML v1.0//EN
CALSCALE:GREGORIAN
METHOD:PUBLISH
X-ORIGINAL-URL:https://www.calvary-rochester.org
X-WR-CALDESC:Events for Calvary Episcopal Church
REFRESH-INTERVAL;VALUE=DURATION:PT1H
X-Robots-Tag:noindex
X-PUBLISHED-TTL:PT1H
BEGIN:VTIMEZONE
TZID:America/Chicago
BEGIN:DAYLIGHT
TZOFFSETFROM:-0600
TZOFFSETTO:-0500
TZNAME:CDT
DTSTART:20240310T080000
END:DAYLIGHT
BEGIN:STANDARD
TZOFFSETFROM:-0500
TZOFFSETTO:-0600
TZNAME:CST
DTSTART:20241103T070000
END:STANDARD
BEGIN:DAYLIGHT
TZOFFSETFROM:-0600
TZOFFSETTO:-0500
TZNAME:CDT
DTSTART:20250309T080000
END:DAYLIGHT
BEGIN:STANDARD
TZOFFSETFROM:-0500
TZOFFSETTO:-0600
TZNAME:CST
DTSTART:20251102T070000
END:STANDARD
BEGIN:DAYLIGHT
TZOFFSETFROM:-0600
TZOFFSETTO:-0500
TZNAME:CDT
DTSTART:20260308T080000
END:DAYLIGHT
BEGIN:STANDARD
TZOFFSETFROM:-0500
TZOFFSETTO:-0600
TZNAME:CST
DTSTART:20261101T070000
END:STANDARD
END:VTIMEZONE
BEGIN:VEVENT
DTSTART;TZID=America/Chicago:20250902T183000
DTEND;TZID=America/Chicago:20250902T200000
DTSTAMP:20260424T012021
CREATED:20250812T212140Z
LAST-MODIFIED:20250813T144543Z
UID:10003165-1756837800-1756843200@www.calvary-rochester.org
SUMMARY:Community Conversation Invitation
DESCRIPTION:Members of Isaiah MN would like to invite the faith communities of St. Luke’s and Calvary to join us in a community conversation. Some of you may have concerns about our current political climate. And Isaiah MN is here to listen. The goal of this conversation is to listen to the people of Rochester. What issues are important to you? What is important for our community? Our state? \nCome share with us and learn from each other. What can we do to create a just and caring society where everyone is valued?  Join us Tuesday\, September 2\, 2025\, from 6:30 to 8:00 pm in St. Luke’s Fellowship Hall. Pie will be served (Thank you\, Amy Caucutt!) \nWe prefer that you sign up ahead of time\, but you are welcome to show up on the day of as well. Register here. \nIsaiah MN is a multi-faith\, non-partisan organization.  All are welcome. \nIf you have questions\, please contact Colleen Spillers at Calvary or Diane O’Mara at St. Luke’s.
URL:https://www.calvary-rochester.org/event/community-conversation-invitation/
LOCATION:St. Luke’s Episcopal Church\, 1884 22nd Street NW\, Rochester\, MN\, 55901\, United States
CATEGORIES:Community,Home
ATTACH;FMTTYPE=image/png:https://www.calvary-rochester.org/wp-content/uploads/2025/08/1.png
ORGANIZER;CN="Calvary Episcopal Church":MAILTO:office@calvary-rochester.org
END:VEVENT
BEGIN:VEVENT
DTSTART;TZID=America/Chicago:20250914T113000
DTEND;TZID=America/Chicago:20250914T130000
DTSTAMP:20260424T012021
CREATED:20250715T200355Z
LAST-MODIFIED:20250715T200355Z
UID:10003135-1757849400-1757854800@www.calvary-rochester.org
SUMMARY:All-Parish Picnic and the 4th Annual Great Calvary Pie Bake-Off
DESCRIPTION:It’s that time of year again! The All-Parish Picnic is back\, and we are excited to welcome Travis Whaley\, our new minister of music and organist. \nWe are serving boxed lunches\, which will include your choice of ham\, turkey\, or veggie sandwiches\, potato salad\, chips\, and an apple. If you choose the gluten-free option\, your sandwich will be on gluten-free bread. AND we will have homemade pie for dessert! Musician Bob Schlief is entertaining us again this year. \nPlease use this link to sign up online. You can also sign up in Brackenridge\, or call\, text\, or email Cindy Heins at (507) 993-5824 or heins.cynthia@gmail.com. We will be in the courtyard (Brackenridge Hall\, in case of rain) following the 10:30 service. Please bring a lawn chair for yourself and one to share if you can! \nThe cost of each boxed lunch is $14. We would appreciate a donation to defray the cost. There will be a wooden box out on the day of the picnic for donations. You can also use the QR code in the Bulletin and Brackenridge. \n**THE LAST DAY TO SIGN UP IS SUNDAY\, SEPTEMBER 7.** \n\nAnd announcing\, in conjunction with the parish picnic… \nThe Fourth Annual Great Calvary Pie Bake-Off \nCome one\, come all to the fourth annual Great Calvary Pie Bake-Off on September 14! All homemade pies baked by Calvary parishioners are welcome. The Greatest 2025 Pie Baker at Calvary will be crowned in the courtyard following the picnic! Then\, we will all be able to sample the delicious fruits of our pie bakers’ labors.  To enter\, just have your pie at Calvary by 10 am the day of the picnic with your name on the bottom of your pie plate. \nWe are going to judge the pies starting at 10 am to give our panel of celebrity judges time to finish before the 10:30 service\, so please don’t be late. The rules are simple. Your pie must be homemade by you. There is no age limit for our bakers! We welcome all pies! Let the baking begin!
URL:https://www.calvary-rochester.org/event/all-parish-picnic-and-the-4th-annual-great-calvary-pie-bake-off/
LOCATION:Calvary Episcopal Church\, 111 Third Avenue SW\, Rochester\, MN\, 55902
CATEGORIES:Community,Fellowship,Food,Home
ATTACH;FMTTYPE=image/png:https://www.calvary-rochester.org/wp-content/uploads/2025/07/1.png
ORGANIZER;CN="Calvary Episcopal Church":MAILTO:office@calvary-rochester.org
GEO:40.602991;-73.959517
X-APPLE-STRUCTURED-LOCATION;VALUE=URI;X-ADDRESS=Calvary Episcopal Church 111 Third Avenue SW Rochester MN 55902;X-APPLE-RADIUS=500;X-TITLE=111 Third Avenue SW:geo:-73.959517,40.602991
END:VEVENT
END:VCALENDAR