BEGIN:VCALENDAR
VERSION:2.0
PRODID:-//Calvary Episcopal Church - ECPv6.15.20//NONSGML v1.0//EN
CALSCALE:GREGORIAN
METHOD:PUBLISH
X-WR-CALNAME:Calvary Episcopal Church
X-ORIGINAL-URL:https://www.calvary-rochester.org
X-WR-CALDESC:Events for Calvary Episcopal Church
REFRESH-INTERVAL;VALUE=DURATION:PT1H
X-Robots-Tag:noindex
X-PUBLISHED-TTL:PT1H
BEGIN:VTIMEZONE
TZID:America/Chicago
BEGIN:DAYLIGHT
TZOFFSETFROM:-0600
TZOFFSETTO:-0500
TZNAME:CDT
DTSTART:20240310T080000
END:DAYLIGHT
BEGIN:STANDARD
TZOFFSETFROM:-0500
TZOFFSETTO:-0600
TZNAME:CST
DTSTART:20241103T070000
END:STANDARD
BEGIN:DAYLIGHT
TZOFFSETFROM:-0600
TZOFFSETTO:-0500
TZNAME:CDT
DTSTART:20250309T080000
END:DAYLIGHT
BEGIN:STANDARD
TZOFFSETFROM:-0500
TZOFFSETTO:-0600
TZNAME:CST
DTSTART:20251102T070000
END:STANDARD
BEGIN:DAYLIGHT
TZOFFSETFROM:-0600
TZOFFSETTO:-0500
TZNAME:CDT
DTSTART:20260308T080000
END:DAYLIGHT
BEGIN:STANDARD
TZOFFSETFROM:-0500
TZOFFSETTO:-0600
TZNAME:CST
DTSTART:20261101T070000
END:STANDARD
END:VTIMEZONE
BEGIN:VEVENT
DTSTART;TZID=America/Chicago:20251005T103000
DTEND;TZID=America/Chicago:20251005T113000
DTSTAMP:20260423T233241
CREATED:20250923T185107Z
LAST-MODIFIED:20250923T185107Z
UID:10003212-1759660200-1759663800@www.calvary-rochester.org
SUMMARY:Blessing of the Animals
DESCRIPTION:ALL are invited to the Blessing of the Animals and to mark St. Francis of Assisi Day on Sunday\, October 5\, at the 10:30 am service. We will have chaos and prayers\, music and barking\, and a whole lot of fun. Animals will be blessed\, humans will have Holy Communion\, and treats will be liberally shared for dogs and cats and hamsters and guinea pigs and cows\, horses\, chickens and rabbits\, and if they behave\, snakes. \n\nBring your beloved pets\, and bring a friend! This is a favorite\, beloved liturgy. Even if you come with a picture of your cat\, come and share in the joy of God’s creation – ALL of creation!
URL:https://www.calvary-rochester.org/event/blessing-of-the-animals-2/
LOCATION:Calvary Episcopal Church\, 111 Third Avenue SW\, Rochester\, MN\, 55902
CATEGORIES:Community,Home,Worship
ATTACH;FMTTYPE=image/png:https://www.calvary-rochester.org/wp-content/uploads/2025/09/BOTA.png
ORGANIZER;CN="Calvary Episcopal Church":MAILTO:office@calvary-rochester.org
GEO:40.602991;-73.959517
X-APPLE-STRUCTURED-LOCATION;VALUE=URI;X-ADDRESS=Calvary Episcopal Church 111 Third Avenue SW Rochester MN 55902;X-APPLE-RADIUS=500;X-TITLE=111 Third Avenue SW:geo:-73.959517,40.602991
END:VEVENT
BEGIN:VEVENT
DTSTART;TZID=America/Chicago:20251016T171500
DTEND;TZID=America/Chicago:20251016T180000
DTSTAMP:20260423T233241
CREATED:20251013T225829Z
LAST-MODIFIED:20251013T225829Z
UID:10003215-1760634900-1760637600@www.calvary-rochester.org
SUMMARY:Healing Service
DESCRIPTION:Join us in the church each week for a lay-led service of quiet prayer focused on healing and hope. \nAll are welcome!
URL:https://www.calvary-rochester.org/event/healing-service-7/2025-10-16/
LOCATION:Calvary Episcopal Church\, 111 Third Avenue SW\, Rochester\, MN\, 55902
CATEGORIES:Community,Home,Worship
ATTACH;FMTTYPE=image/png:https://www.calvary-rochester.org/wp-content/uploads/2025/10/Healing-Service.png
ORGANIZER;CN="Calvary Episcopal Church":MAILTO:office@calvary-rochester.org
GEO:40.602991;-73.959517
X-APPLE-STRUCTURED-LOCATION;VALUE=URI;X-ADDRESS=Calvary Episcopal Church 111 Third Avenue SW Rochester MN 55902;X-APPLE-RADIUS=500;X-TITLE=111 Third Avenue SW:geo:-73.959517,40.602991
END:VEVENT
BEGIN:VEVENT
DTSTART;TZID=America/Chicago:20251023T171500
DTEND;TZID=America/Chicago:20251023T180000
DTSTAMP:20260423T233241
CREATED:20251013T225829Z
LAST-MODIFIED:20251013T225829Z
UID:10003216-1761239700-1761242400@www.calvary-rochester.org
SUMMARY:Healing Service
DESCRIPTION:Join us in the church each week for a lay-led service of quiet prayer focused on healing and hope. \nAll are welcome!
URL:https://www.calvary-rochester.org/event/healing-service-7/2025-10-23/
LOCATION:Calvary Episcopal Church\, 111 Third Avenue SW\, Rochester\, MN\, 55902
CATEGORIES:Community,Home,Worship
ATTACH;FMTTYPE=image/png:https://www.calvary-rochester.org/wp-content/uploads/2025/10/Healing-Service.png
ORGANIZER;CN="Calvary Episcopal Church":MAILTO:office@calvary-rochester.org
GEO:40.602991;-73.959517
X-APPLE-STRUCTURED-LOCATION;VALUE=URI;X-ADDRESS=Calvary Episcopal Church 111 Third Avenue SW Rochester MN 55902;X-APPLE-RADIUS=500;X-TITLE=111 Third Avenue SW:geo:-73.959517,40.602991
END:VEVENT
BEGIN:VEVENT
DTSTART;TZID=America/Chicago:20251026T150000
DTEND;TZID=America/Chicago:20251026T160000
DTSTAMP:20260423T233241
CREATED:20251001T000911Z
LAST-MODIFIED:20251001T000911Z
UID:10003214-1761490800-1761494400@www.calvary-rochester.org
SUMMARY:Oasis Garden Clean Up
DESCRIPTION:On Sunday\, October 26\, from 3 to 4 pm\, Calvary youth and adults are invited to help put the Oasis Garden to bed for the winter. We’ll pull up the flowers and take them to the city compost. After the garden work\, middle and high schoolers are invited to watch a movie and enjoy pizza at the Rialto movie house in Joan Rabe’s backyard. Wear gardening gloves and clothes you don’t mind getting dirty. Pickup trucks and wheelbarrows are also welcome.\n\nContact Joan if you have questions (507-269-3162\, joan.rabe@icloud.com).
URL:https://www.calvary-rochester.org/event/oasis-garden-clean-up-2/
LOCATION:Calvary Episcopal Church\, 111 Third Avenue SW\, Rochester\, MN\, 55902
CATEGORIES:Community,Fellowship,Home
ATTACH;FMTTYPE=image/png:https://www.calvary-rochester.org/wp-content/uploads/2025/09/OG-Cleanup.png
ORGANIZER;CN="Calvary Episcopal Church":MAILTO:office@calvary-rochester.org
GEO:40.602991;-73.959517
X-APPLE-STRUCTURED-LOCATION;VALUE=URI;X-ADDRESS=Calvary Episcopal Church 111 Third Avenue SW Rochester MN 55902;X-APPLE-RADIUS=500;X-TITLE=111 Third Avenue SW:geo:-73.959517,40.602991
END:VEVENT
END:VCALENDAR