BEGIN:VCALENDAR
VERSION:2.0
PRODID:-//Calvary Episcopal Church - ECPv6.15.20//NONSGML v1.0//EN
CALSCALE:GREGORIAN
METHOD:PUBLISH
X-ORIGINAL-URL:https://www.calvary-rochester.org
X-WR-CALDESC:Events for Calvary Episcopal Church
REFRESH-INTERVAL;VALUE=DURATION:PT1H
X-Robots-Tag:noindex
X-PUBLISHED-TTL:PT1H
BEGIN:VTIMEZONE
TZID:America/Chicago
BEGIN:DAYLIGHT
TZOFFSETFROM:-0600
TZOFFSETTO:-0500
TZNAME:CDT
DTSTART:20220313T080000
END:DAYLIGHT
BEGIN:STANDARD
TZOFFSETFROM:-0500
TZOFFSETTO:-0600
TZNAME:CST
DTSTART:20221106T070000
END:STANDARD
BEGIN:DAYLIGHT
TZOFFSETFROM:-0600
TZOFFSETTO:-0500
TZNAME:CDT
DTSTART:20230312T080000
END:DAYLIGHT
BEGIN:STANDARD
TZOFFSETFROM:-0500
TZOFFSETTO:-0600
TZNAME:CST
DTSTART:20231105T070000
END:STANDARD
BEGIN:DAYLIGHT
TZOFFSETFROM:-0600
TZOFFSETTO:-0500
TZNAME:CDT
DTSTART:20240310T080000
END:DAYLIGHT
BEGIN:STANDARD
TZOFFSETFROM:-0500
TZOFFSETTO:-0600
TZNAME:CST
DTSTART:20241103T070000
END:STANDARD
END:VTIMEZONE
BEGIN:VEVENT
DTSTART;TZID=America/Chicago:20230721T163000
DTEND;TZID=America/Chicago:20230721T183000
DTSTAMP:20260425T224716
CREATED:20230703T162016Z
LAST-MODIFIED:20230703T162016Z
UID:10001624-1689957000-1689964200@www.calvary-rochester.org
SUMMARY:Red\, White\, and Blue Happy Hour
DESCRIPTION:Calvary’s Fellowship Committee is hosting a Red\, White\, and Blue Happy Hour on July 21 from 4:30 pm to 6:30 pm. Wear red\, white\, and blue or come as you are. All are welcome! \nWe will meet at Beetle’s Bar and Grill located two blocks west of Saint Marys Hospital on 2nd Street SW. Please join us for this CFATB gathering. And…the first person to arrive and tell us what CFATB stands for gets a free drink! This will be very informal. Stay for as long as you can. Popcorn and water are free. You can purchase other food and drinks.
URL:https://www.calvary-rochester.org/event/red-white-and-blue-happy-hour/
LOCATION:Beetle’s Bar and Grill\, 230 20th Avenue SW\, Rochester\, Minnesota\, 55902\, United States
CATEGORIES:Fellowship,Home
ATTACH;FMTTYPE=image/png:https://www.calvary-rochester.org/wp-content/uploads/2023/07/RWB-Happy-Hour-FB.png
ORGANIZER;CN="Calvary Episcopal Church":MAILTO:office@calvary-rochester.org
END:VEVENT
END:VCALENDAR