BEGIN:VCALENDAR
VERSION:2.0
PRODID:-//Calvary Episcopal Church - ECPv6.15.20//NONSGML v1.0//EN
CALSCALE:GREGORIAN
METHOD:PUBLISH
X-WR-CALNAME:Calvary Episcopal Church
X-ORIGINAL-URL:https://www.calvary-rochester.org
X-WR-CALDESC:Events for Calvary Episcopal Church
REFRESH-INTERVAL;VALUE=DURATION:PT1H
X-Robots-Tag:noindex
X-PUBLISHED-TTL:PT1H
BEGIN:VTIMEZONE
TZID:America/Chicago
BEGIN:DAYLIGHT
TZOFFSETFROM:-0600
TZOFFSETTO:-0500
TZNAME:CDT
DTSTART:20220313T080000
END:DAYLIGHT
BEGIN:STANDARD
TZOFFSETFROM:-0500
TZOFFSETTO:-0600
TZNAME:CST
DTSTART:20221106T070000
END:STANDARD
BEGIN:DAYLIGHT
TZOFFSETFROM:-0600
TZOFFSETTO:-0500
TZNAME:CDT
DTSTART:20230312T080000
END:DAYLIGHT
BEGIN:STANDARD
TZOFFSETFROM:-0500
TZOFFSETTO:-0600
TZNAME:CST
DTSTART:20231105T070000
END:STANDARD
BEGIN:DAYLIGHT
TZOFFSETFROM:-0600
TZOFFSETTO:-0500
TZNAME:CDT
DTSTART:20240310T080000
END:DAYLIGHT
BEGIN:STANDARD
TZOFFSETFROM:-0500
TZOFFSETTO:-0600
TZNAME:CST
DTSTART:20241103T070000
END:STANDARD
END:VTIMEZONE
BEGIN:VEVENT
DTSTART;TZID=America/Chicago:20230903T133000
DTEND;TZID=America/Chicago:20230903T203000
DTSTAMP:20260425T194825
CREATED:20230815T222507Z
LAST-MODIFIED:20230815T222507Z
UID:10001634-1693747800-1693773000@www.calvary-rochester.org
SUMMARY:San Jose Obrero Mission
DESCRIPTION:It’s time for the annual San Jose Obrero Mission! This is an opportunity in southern Minnesota to provide a meal and worship with migrant workers in Montgomery. Are you willing to serve with us? Here is what you need to know:\n\nWhen: Sunday\, September 3\, 2023.\nWhere: Montgomery\, Minn.\nTime: Caravan leaves from St. Luke’s parking lot by 1:30 PM\nMeals: 4:15/6:00 serve times\nDonations Needed: Desserts\, cold sides\, whole fruits\, bottled beverages\, fresh veggies from your garden! (Lots of tomatoes!  Lettuce\, onions…anything else!)\nVOLUNTEERS TO SERVE ON THAT DAY!\n\nSign up to provide donations or join us using the Sign-Up Genius link: https://www.signupgenius.com/go/10C0844AEAC28A2FC1-sanjose\n\nPlease contact Colleen Spillers (507) 421-6946 or Barbara Solbrig (507) 319-0165 with questions.
URL:https://www.calvary-rochester.org/event/san-jose-obrero-mission/
LOCATION:San Jose Obrero Mission\, Montgomery\, MN\, United States
CATEGORIES:Fellowship,Home
ATTACH;FMTTYPE=image/png:https://www.calvary-rochester.org/wp-content/uploads/2023/08/SJO-FB.png
ORGANIZER;CN="Calvary Episcopal Church":MAILTO:office@calvary-rochester.org
END:VEVENT
BEGIN:VEVENT
DTSTART;TZID=America/Chicago:20230910T113000
DTEND;TZID=America/Chicago:20230910T130000
DTSTAMP:20260425T194825
CREATED:20230703T165155Z
LAST-MODIFIED:20230802T110607Z
UID:10001625-1694345400-1694350800@www.calvary-rochester.org
SUMMARY:All-Parish Picnic and Pie Bake-Off
DESCRIPTION:It’s that time of year again! Musician Bob Schlief will be back this year to entertain us\, and Charlie’s Eatery will again be catering boxed lunches with ham\, turkey\, or veggie sandwiches\, potato salad\, chips\, a pickle\, and a cookie. If you choose the gluten free option\, your choice of ham or turkey will be wrapped in lettuce and the box will include fresh fruit\, a wrapped pickle\, and a gluten free cookie. We will have a jar out to collect free will donations. \nPlease use this link to let us know you are coming! You can also sign up on the sheet in Brackenridge or call\, text\, or email Cindy Heins at (507) 993-5824 or heins.cynthia@gmail.com. We will accept reservations through September 3rd.  \nWe will be in the courtyard (in case of rain we will be inside) following the 10:30 service. Please bring a lawn chair for yourself and one to share if you can. \n— \nAnd now announcing\, in conjunction with the Parish Picnic: \nThe Second Annual Great Calvary Pie Bake-Off\nCome one\, come all armed with your homemade pies! On September 10\, we are going to find out who is the greatest 2023 Pie Baker at Calvary. (Don’t worry! Our 2022 winner\, Lee Gilmore\, has graciously agreed to bow out this year so that the rest of us have a chance.) To enter\, just have your pie at Calvary by 10:00 am. Please put your name on the bottom of your pie plate. \nOur panel of guest judges will taste the pies and choose a winner. We will then serve the pies at the picnic. \nThe rules are simple. Your pie must be homemade by you. There is no age limit for our bakers! We welcome all pies!
URL:https://www.calvary-rochester.org/event/all-parish-picnic-and-pie-bake-off/
LOCATION:Calvary Episcopal Church\, 111 Third Avenue SW\, Rochester\, MN\, 55902
CATEGORIES:Fellowship,Home
ATTACH;FMTTYPE=image/png:https://www.calvary-rochester.org/wp-content/uploads/2023/07/APP-FB.png
ORGANIZER;CN="Calvary Episcopal Church":MAILTO:office@calvary-rochester.org
GEO:40.602991;-73.959517
X-APPLE-STRUCTURED-LOCATION;VALUE=URI;X-ADDRESS=Calvary Episcopal Church 111 Third Avenue SW Rochester MN 55902;X-APPLE-RADIUS=500;X-TITLE=111 Third Avenue SW:geo:-73.959517,40.602991
END:VEVENT
BEGIN:VEVENT
DTSTART;TZID=America/Chicago:20230915T163000
DTEND;TZID=America/Chicago:20230915T183000
DTSTAMP:20260425T194825
CREATED:20230829T181517Z
LAST-MODIFIED:20230829T181517Z
UID:10001635-1694795400-1694802600@www.calvary-rochester.org
SUMMARY:Happy Hour: International Buy a Priest a Beer Day
DESCRIPTION:Calvary’s Fellowship Core cannot resist hosting another Happy Hour to celebrate International Buy a Priest a Beer Day! It only rolls around once a year\, and we’re thrilled to have another reason to get together with our fellow parishioners. The first person to guess what RATTRB means will get a free drink! \nWe will meet at Beetle’s Bar and Grill\, located two blocks west of Saint Marys Hospital on 2nd Street SW. This is informal. Come when you can; stay for as long as you like. Popcorn and water are free. You can purchase other food and drinks. Mark your calendars now and join other Calvary parishioners in toasting our clergy!! We will be collecting donations to Project Legacy’s food pantry. The young people at Project Legacy list worries about rent money and food as two of their top stressors. You can give cash or a check made payable to Project Legacy. Hope to see you all there.
URL:https://www.calvary-rochester.org/event/happy-hour-international-buy-a-priest-a-beer-day/
LOCATION:Beetle’s Bar and Grill\, 230 20th Avenue SW\, Rochester\, Minnesota\, 55902\, United States
CATEGORIES:Fellowship,Home
ATTACH;FMTTYPE=image/png:https://www.calvary-rochester.org/wp-content/uploads/2023/08/BAPABD-HH-FB.png
ORGANIZER;CN="Calvary Episcopal Church":MAILTO:office@calvary-rochester.org
END:VEVENT
END:VCALENDAR