BEGIN:VCALENDAR
VERSION:2.0
PRODID:-//Calvary Episcopal Church - ECPv6.15.20//NONSGML v1.0//EN
CALSCALE:GREGORIAN
METHOD:PUBLISH
X-WR-CALNAME:Calvary Episcopal Church
X-ORIGINAL-URL:https://www.calvary-rochester.org
X-WR-CALDESC:Events for Calvary Episcopal Church
REFRESH-INTERVAL;VALUE=DURATION:PT1H
X-Robots-Tag:noindex
X-PUBLISHED-TTL:PT1H
BEGIN:VTIMEZONE
TZID:America/Chicago
BEGIN:DAYLIGHT
TZOFFSETFROM:-0600
TZOFFSETTO:-0500
TZNAME:CDT
DTSTART:20230312T080000
END:DAYLIGHT
BEGIN:STANDARD
TZOFFSETFROM:-0500
TZOFFSETTO:-0600
TZNAME:CST
DTSTART:20231105T070000
END:STANDARD
BEGIN:DAYLIGHT
TZOFFSETFROM:-0600
TZOFFSETTO:-0500
TZNAME:CDT
DTSTART:20240310T080000
END:DAYLIGHT
BEGIN:STANDARD
TZOFFSETFROM:-0500
TZOFFSETTO:-0600
TZNAME:CST
DTSTART:20241103T070000
END:STANDARD
BEGIN:DAYLIGHT
TZOFFSETFROM:-0600
TZOFFSETTO:-0500
TZNAME:CDT
DTSTART:20250309T080000
END:DAYLIGHT
BEGIN:STANDARD
TZOFFSETFROM:-0500
TZOFFSETTO:-0600
TZNAME:CST
DTSTART:20251102T070000
END:STANDARD
END:VTIMEZONE
BEGIN:VEVENT
DTSTART;TZID=America/Chicago:20240202T163000
DTEND;TZID=America/Chicago:20240202T183000
DTSTAMP:20260425T120528
CREATED:20240117T021556Z
LAST-MODIFIED:20240201T162436Z
UID:10002129-1706891400-1706898600@www.calvary-rochester.org
SUMMARY:Mardi Gras Happy Hour
DESCRIPTION:Start February on the right note (a little jazz might be in order) with your fellow parishioners at the first Calvary happy hour of the year. We will be celebrating Mardi Gras on Friday\, February 2\, from 4:30 pm to 6:30 pm. You don’t even have to travel to New Orleans! \nWe will meet at Beetle’s Bar and Grill located two blocks west of Saint Marys Hospital on 2nd Street SW. Do you know what CHTBMGPOONO stands for? Be the first to tell us and you will get a free drink! This is very informal. Come when you can. Stay for as long as you want. Popcorn and water are free. You can purchase other food and drinks. \nAdded bonus: We can celebrate Groundhog Day together\, too!
URL:https://www.calvary-rochester.org/event/mardi-gras-happy-hour/
LOCATION:Beetle’s Bar and Grill\, 230 20th Avenue SW\, Rochester\, Minnesota\, 55902\, United States
CATEGORIES:Fellowship,Home
ATTACH;FMTTYPE=image/png:https://www.calvary-rochester.org/wp-content/uploads/2024/01/Mardi-Gras-HH-FB.png
ORGANIZER;CN="Calvary Episcopal Church":MAILTO:office@calvary-rochester.org
END:VEVENT
BEGIN:VEVENT
DTSTART;TZID=America/Chicago:20240211T091500
DTEND;TZID=America/Chicago:20240211T101500
DTSTAMP:20260425T120528
CREATED:20240117T023818Z
LAST-MODIFIED:20240117T023818Z
UID:10002130-1707642900-1707646500@www.calvary-rochester.org
SUMMARY:Pancake Power Breakfast
DESCRIPTION:Shrove Sunday is almost here\, which means it is almost time for our Annual Pancake Breakfast! Mark your calendars for Sunday\, February 11. \nThe pancake breakfast is a fundraiser for a local charity of the kids’ choice and is a fun chance for our kids to get together as a community to give back! Thank you so much for supporting the kids at Calvary for this pancake breakfast. If you are able\, please consider signing up for an available role by clicking on the link below to see which one would be a good fit for your talents and skills. If you are unable to do that\, look for our ingredient sign up link below and sign up to donate an ingredient or two! Finally\, if you are unable to do either of these things\, buy a ticket – we look forward to seeing you there! \nMichelle McKean \nClick here for supervisory roles. \nClick here for food donations (to be delivered in advance of the event).
URL:https://www.calvary-rochester.org/event/pancake-power-breakfast/
LOCATION:Calvary Episcopal Church\, 111 Third Avenue SW\, Rochester\, MN\, 55902
CATEGORIES:Fellowship,Food,Home
ATTACH;FMTTYPE=image/png:https://www.calvary-rochester.org/wp-content/uploads/2024/01/Pancake-Power-FB.png
ORGANIZER;CN="Calvary Episcopal Church":MAILTO:office@calvary-rochester.org
GEO:40.602991;-73.959517
X-APPLE-STRUCTURED-LOCATION;VALUE=URI;X-ADDRESS=Calvary Episcopal Church 111 Third Avenue SW Rochester MN 55902;X-APPLE-RADIUS=500;X-TITLE=111 Third Avenue SW:geo:-73.959517,40.602991
END:VEVENT
BEGIN:VEVENT
DTSTART;TZID=America/Chicago:20240225T091500
DTEND;TZID=America/Chicago:20240225T101500
DTSTAMP:20260425T120528
CREATED:20240221T145029Z
LAST-MODIFIED:20240320T133012Z
UID:10002220-1708852500-1708856100@www.calvary-rochester.org
SUMMARY:Lenten Prayer Study
DESCRIPTION:All are invited to a Lenten course on Prayer from 9:15 – 10:15 am on Sundays in the Fireside Room. Please be a part of this learning about prayer as we move toward understanding how important our prayer lives\, both individually and corporately\, are at Calvary and in our work\, family\, and discretionary time.
URL:https://www.calvary-rochester.org/event/lenten-prayer-study/2024-02-25/
LOCATION:Calvary Episcopal Church\, 111 Third Avenue SW\, Rochester\, MN\, 55902
CATEGORIES:Fellowship,Formation,Home
ATTACH;FMTTYPE=image/png:https://www.calvary-rochester.org/wp-content/uploads/2024/02/Prayer-Study-FB.png
ORGANIZER;CN="Calvary Episcopal Church":MAILTO:office@calvary-rochester.org
GEO:40.602991;-73.959517
X-APPLE-STRUCTURED-LOCATION;VALUE=URI;X-ADDRESS=Calvary Episcopal Church 111 Third Avenue SW Rochester MN 55902;X-APPLE-RADIUS=500;X-TITLE=111 Third Avenue SW:geo:-73.959517,40.602991
END:VEVENT
END:VCALENDAR