BEGIN:VCALENDAR
VERSION:2.0
PRODID:-//Calvary Episcopal Church - ECPv6.15.20//NONSGML v1.0//EN
CALSCALE:GREGORIAN
METHOD:PUBLISH
X-ORIGINAL-URL:https://www.calvary-rochester.org
X-WR-CALDESC:Events for Calvary Episcopal Church
REFRESH-INTERVAL;VALUE=DURATION:PT1H
X-Robots-Tag:noindex
X-PUBLISHED-TTL:PT1H
BEGIN:VTIMEZONE
TZID:America/Chicago
BEGIN:DAYLIGHT
TZOFFSETFROM:-0600
TZOFFSETTO:-0500
TZNAME:CDT
DTSTART:20230312T080000
END:DAYLIGHT
BEGIN:STANDARD
TZOFFSETFROM:-0500
TZOFFSETTO:-0600
TZNAME:CST
DTSTART:20231105T070000
END:STANDARD
BEGIN:DAYLIGHT
TZOFFSETFROM:-0600
TZOFFSETTO:-0500
TZNAME:CDT
DTSTART:20240310T080000
END:DAYLIGHT
BEGIN:STANDARD
TZOFFSETFROM:-0500
TZOFFSETTO:-0600
TZNAME:CST
DTSTART:20241103T070000
END:STANDARD
BEGIN:DAYLIGHT
TZOFFSETFROM:-0600
TZOFFSETTO:-0500
TZNAME:CDT
DTSTART:20250309T080000
END:DAYLIGHT
BEGIN:STANDARD
TZOFFSETFROM:-0500
TZOFFSETTO:-0600
TZNAME:CST
DTSTART:20251102T070000
END:STANDARD
END:VTIMEZONE
BEGIN:VEVENT
DTSTART;TZID=America/Chicago:20241006T091500
DTEND;TZID=America/Chicago:20241006T101500
DTSTAMP:20260424T230036
CREATED:20240924T223033Z
LAST-MODIFIED:20240924T223034Z
UID:10002437-1728206100-1728209700@www.calvary-rochester.org
SUMMARY:Parish Listening Session – Director of Music
DESCRIPTION:As part of the process for hiring our next director of music\, we will host a parish listening session at 9:15 am on October 6th in Crawford Hall. We are seeking input from the congregation to inform the drafting of an updated job description for the role. Questions we are seeking input on include: \n\nWhat should the scope of the role be beyond the requirements of planning liturgical music\, directing the choir\, and serving as organist?\nWhat role should the position play in outreach\, fellowship\, and other pillars of parish life?\nWhat could this position do that we are not currently doing and how will that enrich our faith community?\n\nThe listening session will be hosted by vestry member Michelle Ackerman and co-treasurer Darren Cooper\, who\, along with vestry member Anne High and Reverend Beth\, are leading a workgroup to discern the future of the director of music role at Calvary. Please come with your ideas and aspirations for the director of music role. Your input is crucial and we look forward to hearing from you.
URL:https://www.calvary-rochester.org/event/parish-listening-session-director-of-music/
LOCATION:Calvary Episcopal Church\, 111 Third Avenue SW\, Rochester\, MN\, 55902
CATEGORIES:Fellowship,Home
ATTACH;FMTTYPE=image/png:https://www.calvary-rochester.org/wp-content/uploads/2024/09/Listening-Session-FB.png
ORGANIZER;CN="Calvary Episcopal Church":MAILTO:office@calvary-rochester.org
GEO:40.602991;-73.959517
X-APPLE-STRUCTURED-LOCATION;VALUE=URI;X-ADDRESS=Calvary Episcopal Church 111 Third Avenue SW Rochester MN 55902;X-APPLE-RADIUS=500;X-TITLE=111 Third Avenue SW:geo:-73.959517,40.602991
END:VEVENT
BEGIN:VEVENT
DTSTART;TZID=America/Chicago:20241027T090000
DTEND;TZID=America/Chicago:20241027T103000
DTSTAMP:20260424T230036
CREATED:20241009T004630Z
LAST-MODIFIED:20241009T004630Z
UID:10002441-1730019600-1730025000@www.calvary-rochester.org
SUMMARY:Calvary Scones\, Stones\, and Halloween Bones
DESCRIPTION:It’s time for Calvary Scones\, Stones\, and Halloween Bones\, a.k.a. Eat\, Compete\, and Dress Up! \nFall is in the air\, and it is time for Calvary’s Annual Stone Throw. Legend has it that ownership of Calvary’s corner lot rested on a bet made by George Head\, Rochester’s first mayor\, and Henry Benjamin Whipple\, Minnesota’s first Episcopal bishop: whoever threw a massive stone farthest would become the owner. Every year\, we celebrate Bishop Whipple’s historic win with a recreation of the event. Come and see if you are the parishioner who will win the stone throw this year. Many thanks to the Mueller family for organizing the Stone Throw.  \nAnd that’s not all! We are excited to announce that we will be serving homemade scones (probably just like the ones served to Mayor Head and Bishop Whipple) with coffee\, cider\, and hot chocolate. If you would like to contribute homemade scones\, please let Cindy Heins know. Call or text (507) 993-5824 or e-mail heins.cynthia@gmail.com. \nBut wait\, there’s more! It is the Sunday before Halloween\, so we encourage you to wear your Halloween costume to eat\, compete\, and of course attend the 8:30 or 10:30 service.
URL:https://www.calvary-rochester.org/event/calvary-scones-stones-and-halloween-bones-2/
LOCATION:Calvary Episcopal Church\, 111 Third Avenue SW\, Rochester\, MN\, 55902
CATEGORIES:Fellowship,Home
ATTACH;FMTTYPE=image/png:https://www.calvary-rochester.org/wp-content/uploads/2024/10/Stones-Scones-FB.png
ORGANIZER;CN="Calvary Episcopal Church":MAILTO:office@calvary-rochester.org
GEO:40.602991;-73.959517
X-APPLE-STRUCTURED-LOCATION;VALUE=URI;X-ADDRESS=Calvary Episcopal Church 111 Third Avenue SW Rochester MN 55902;X-APPLE-RADIUS=500;X-TITLE=111 Third Avenue SW:geo:-73.959517,40.602991
END:VEVENT
BEGIN:VEVENT
DTSTART;TZID=America/Chicago:20241027T120000
DTEND;TZID=America/Chicago:20241027T140000
DTSTAMP:20260424T230036
CREATED:20241014T144209Z
LAST-MODIFIED:20241014T144209Z
UID:10002442-1730030400-1730037600@www.calvary-rochester.org
SUMMARY:Oasis Garden Clean Up
DESCRIPTION:On Sunday\, October 27\, from noon to 2:00 pm\, Calvary youth will be pulling up the flowers in our Oasis garden to take them to the city compost. All adults are welcome to join them. Wear gardening gloves and clothes you don’t mind getting dirty. Pickup trucks and wheelbarrows are also welcome. Contact Joan Rabe if you have questions ((507) 269-3162\, joan.rabe@icloud.com)
URL:https://www.calvary-rochester.org/event/oasis-garden-clean-up/
LOCATION:Calvary Episcopal Church\, 111 Third Avenue SW\, Rochester\, MN\, 55902
CATEGORIES:Fellowship,Home
ATTACH;FMTTYPE=image/png:https://www.calvary-rochester.org/wp-content/uploads/2024/10/Oasis-Garden-Cleanup-FB.png
ORGANIZER;CN="Calvary Episcopal Church":MAILTO:office@calvary-rochester.org
GEO:40.602991;-73.959517
X-APPLE-STRUCTURED-LOCATION;VALUE=URI;X-ADDRESS=Calvary Episcopal Church 111 Third Avenue SW Rochester MN 55902;X-APPLE-RADIUS=500;X-TITLE=111 Third Avenue SW:geo:-73.959517,40.602991
END:VEVENT
END:VCALENDAR