BEGIN:VCALENDAR
VERSION:2.0
PRODID:-//Calvary Episcopal Church - ECPv6.15.20//NONSGML v1.0//EN
CALSCALE:GREGORIAN
METHOD:PUBLISH
X-WR-CALNAME:Calvary Episcopal Church
X-ORIGINAL-URL:https://www.calvary-rochester.org
X-WR-CALDESC:Events for Calvary Episcopal Church
REFRESH-INTERVAL;VALUE=DURATION:PT1H
X-Robots-Tag:noindex
X-PUBLISHED-TTL:PT1H
BEGIN:VTIMEZONE
TZID:America/Chicago
BEGIN:DAYLIGHT
TZOFFSETFROM:-0600
TZOFFSETTO:-0500
TZNAME:CDT
DTSTART:20240310T080000
END:DAYLIGHT
BEGIN:STANDARD
TZOFFSETFROM:-0500
TZOFFSETTO:-0600
TZNAME:CST
DTSTART:20241103T070000
END:STANDARD
BEGIN:DAYLIGHT
TZOFFSETFROM:-0600
TZOFFSETTO:-0500
TZNAME:CDT
DTSTART:20250309T080000
END:DAYLIGHT
BEGIN:STANDARD
TZOFFSETFROM:-0500
TZOFFSETTO:-0600
TZNAME:CST
DTSTART:20251102T070000
END:STANDARD
BEGIN:DAYLIGHT
TZOFFSETFROM:-0600
TZOFFSETTO:-0500
TZNAME:CDT
DTSTART:20260308T080000
END:DAYLIGHT
BEGIN:STANDARD
TZOFFSETFROM:-0500
TZOFFSETTO:-0600
TZNAME:CST
DTSTART:20261101T070000
END:STANDARD
END:VTIMEZONE
BEGIN:VEVENT
DTSTART;TZID=America/Chicago:20250601T091500
DTEND;TZID=America/Chicago:20250601T101500
DTSTAMP:20260424T084934
CREATED:20250527T203146Z
LAST-MODIFIED:20250527T203147Z
UID:10003132-1748769300-1748772900@www.calvary-rochester.org
SUMMARY:Bylaws Forum
DESCRIPTION:This Sunday\, June 1\, is a parish meeting for all members age 16 and over at Calvary. Please join me in Crawford Hall at 9:15 am to hear about our newly established endowments\, vote on changes in our financial policy\, and vote on the new bylaws we have been working on since January. \nCalvary has been blessed over the past year with financial gifts that allow us to establish two endowment funds\, funds that will benefit Calvary for generations to come. Our finance team has been working very hard over the past couple of months to establish these funds and work on some changes to our financial policy. One fund will be called the Property Preservation Fund\, meant to benefit the integrity of our buildings and grounds. The second fund will be called the Bishop Whipple Calvary Mission Fund\, a general endowment for the mission of the parish. Both funds will be managed professionally and used when interest is generated. \nThe parish meeting will begin promptly at 9:15\, so grab some coffee and come upstairs for this important gathering. We are blessed at Calvary not only with these financial resources but also with the amazing people who are members – and the skills and talents of our finance team are beyond measure. John Winter\, Christie Atwell\, Darren Cooper\, Laurie Leaf\, Tom Abts\, Daniel Borup\, and our co-wardens\, Ellen Youngers and Jean Fox\, have joined together to create something exciting and lasting. I thank God for them. \nIn the name of our risen and living Lord Christ\,\nBeth+
URL:https://www.calvary-rochester.org/event/bylaws-forum/
LOCATION:Calvary Episcopal Church\, 111 Third Avenue SW\, Rochester\, MN\, 55902
CATEGORIES:Fellowship,Home
ATTACH;FMTTYPE=image/png:https://www.calvary-rochester.org/wp-content/uploads/2025/05/Bylaws-Forum.png
ORGANIZER;CN="Calvary Episcopal Church":MAILTO:office@calvary-rochester.org
GEO:40.602991;-73.959517
X-APPLE-STRUCTURED-LOCATION;VALUE=URI;X-ADDRESS=Calvary Episcopal Church 111 Third Avenue SW Rochester MN 55902;X-APPLE-RADIUS=500;X-TITLE=111 Third Avenue SW:geo:-73.959517,40.602991
END:VEVENT
END:VCALENDAR