BEGIN:VCALENDAR
VERSION:2.0
PRODID:-//Calvary Episcopal Church - ECPv6.15.20//NONSGML v1.0//EN
CALSCALE:GREGORIAN
METHOD:PUBLISH
X-WR-CALNAME:Calvary Episcopal Church
X-ORIGINAL-URL:https://www.calvary-rochester.org
X-WR-CALDESC:Events for Calvary Episcopal Church
REFRESH-INTERVAL;VALUE=DURATION:PT1H
X-Robots-Tag:noindex
X-PUBLISHED-TTL:PT1H
BEGIN:VTIMEZONE
TZID:America/Chicago
BEGIN:DAYLIGHT
TZOFFSETFROM:-0600
TZOFFSETTO:-0500
TZNAME:CDT
DTSTART:20240310T080000
END:DAYLIGHT
BEGIN:STANDARD
TZOFFSETFROM:-0500
TZOFFSETTO:-0600
TZNAME:CST
DTSTART:20241103T070000
END:STANDARD
BEGIN:DAYLIGHT
TZOFFSETFROM:-0600
TZOFFSETTO:-0500
TZNAME:CDT
DTSTART:20250309T080000
END:DAYLIGHT
BEGIN:STANDARD
TZOFFSETFROM:-0500
TZOFFSETTO:-0600
TZNAME:CST
DTSTART:20251102T070000
END:STANDARD
BEGIN:DAYLIGHT
TZOFFSETFROM:-0600
TZOFFSETTO:-0500
TZNAME:CDT
DTSTART:20260308T080000
END:DAYLIGHT
BEGIN:STANDARD
TZOFFSETFROM:-0500
TZOFFSETTO:-0600
TZNAME:CST
DTSTART:20261101T070000
END:STANDARD
END:VTIMEZONE
BEGIN:VEVENT
DTSTART;TZID=America/Chicago:20251026T090000
DTEND;TZID=America/Chicago:20251026T103000
DTSTAMP:20260424T020106
CREATED:20250930T235707Z
LAST-MODIFIED:20250930T235707Z
UID:10003213-1761469200-1761474600@www.calvary-rochester.org
SUMMARY:Stones\, Scones\, and Halloween Bones
DESCRIPTION:Calvary Scones\, Stones\, and Halloween Bones\,\naka Eat\, Compete\, and Dress Up\nSunday\, October 26\, from 9:00 to 10:30 in the courtyard \nFall is in the air\, and it is time for Calvary’s annual Stone Throw. Legend has it that ownership of Calvary’s corner lot rested on a bet made by George Head\, Rochester’s first mayor\, and Benjamin Whipple\, Minnesota’s first Episcopal Bishop: whoever threw a massive stone farthest would become the owner. Every year\, we celebrate Bishop Whipple’s historic win with a recreation of the event. Come and see if you are the parishioner who will win the stone throw this year. Many thanks to the Mueller family for organizing the Stone Throw. \nAnd that’s not all! We are excited to announce that we will be serving homemade scones (just like the ones served to Mayor Head and Bishop Whipple) with coffee\, cider\, and hot chocolate. If you would like to contribute homemade scones\, please let Cindy Heins know at (507) 993-5824 or heins.cynthia@gmail.com. \nBut wait\, there’s more! It is the Sunday before Halloween\, so we encourage you to wear your Halloween costume to eat\, compete\, and of course\, attend the 8:30 or 10:30 service.
URL:https://www.calvary-rochester.org/event/stones-scones-and-halloween-bones/
LOCATION:Calvary Episcopal Church\, 111 Third Avenue SW\, Rochester\, MN\, 55902
CATEGORIES:Fellowship,Food,Home
ATTACH;FMTTYPE=image/png:https://www.calvary-rochester.org/wp-content/uploads/2025/09/SSHB.png
ORGANIZER;CN="Calvary Episcopal Church":MAILTO:office@calvary-rochester.org
GEO:40.602991;-73.959517
X-APPLE-STRUCTURED-LOCATION;VALUE=URI;X-ADDRESS=Calvary Episcopal Church 111 Third Avenue SW Rochester MN 55902;X-APPLE-RADIUS=500;X-TITLE=111 Third Avenue SW:geo:-73.959517,40.602991
END:VEVENT
BEGIN:VEVENT
DTSTART;TZID=America/Chicago:20251026T150000
DTEND;TZID=America/Chicago:20251026T160000
DTSTAMP:20260424T020106
CREATED:20251001T000911Z
LAST-MODIFIED:20251001T000911Z
UID:10003214-1761490800-1761494400@www.calvary-rochester.org
SUMMARY:Oasis Garden Clean Up
DESCRIPTION:On Sunday\, October 26\, from 3 to 4 pm\, Calvary youth and adults are invited to help put the Oasis Garden to bed for the winter. We’ll pull up the flowers and take them to the city compost. After the garden work\, middle and high schoolers are invited to watch a movie and enjoy pizza at the Rialto movie house in Joan Rabe’s backyard. Wear gardening gloves and clothes you don’t mind getting dirty. Pickup trucks and wheelbarrows are also welcome.\n\nContact Joan if you have questions (507-269-3162\, joan.rabe@icloud.com).
URL:https://www.calvary-rochester.org/event/oasis-garden-clean-up-2/
LOCATION:Calvary Episcopal Church\, 111 Third Avenue SW\, Rochester\, MN\, 55902
CATEGORIES:Community,Fellowship,Home
ATTACH;FMTTYPE=image/png:https://www.calvary-rochester.org/wp-content/uploads/2025/09/OG-Cleanup.png
ORGANIZER;CN="Calvary Episcopal Church":MAILTO:office@calvary-rochester.org
GEO:40.602991;-73.959517
X-APPLE-STRUCTURED-LOCATION;VALUE=URI;X-ADDRESS=Calvary Episcopal Church 111 Third Avenue SW Rochester MN 55902;X-APPLE-RADIUS=500;X-TITLE=111 Third Avenue SW:geo:-73.959517,40.602991
END:VEVENT
END:VCALENDAR