BEGIN:VCALENDAR
VERSION:2.0
PRODID:-//Calvary Episcopal Church - ECPv6.15.20//NONSGML v1.0//EN
CALSCALE:GREGORIAN
METHOD:PUBLISH
X-ORIGINAL-URL:https://www.calvary-rochester.org
X-WR-CALDESC:Events for Calvary Episcopal Church
REFRESH-INTERVAL;VALUE=DURATION:PT1H
X-Robots-Tag:noindex
X-PUBLISHED-TTL:PT1H
BEGIN:VTIMEZONE
TZID:America/Chicago
BEGIN:DAYLIGHT
TZOFFSETFROM:-0600
TZOFFSETTO:-0500
TZNAME:CDT
DTSTART:20240310T080000
END:DAYLIGHT
BEGIN:STANDARD
TZOFFSETFROM:-0500
TZOFFSETTO:-0600
TZNAME:CST
DTSTART:20241103T070000
END:STANDARD
BEGIN:DAYLIGHT
TZOFFSETFROM:-0600
TZOFFSETTO:-0500
TZNAME:CDT
DTSTART:20250309T080000
END:DAYLIGHT
BEGIN:STANDARD
TZOFFSETFROM:-0500
TZOFFSETTO:-0600
TZNAME:CST
DTSTART:20251102T070000
END:STANDARD
BEGIN:DAYLIGHT
TZOFFSETFROM:-0600
TZOFFSETTO:-0500
TZNAME:CDT
DTSTART:20260308T080000
END:DAYLIGHT
BEGIN:STANDARD
TZOFFSETFROM:-0500
TZOFFSETTO:-0600
TZNAME:CST
DTSTART:20261101T070000
END:STANDARD
END:VTIMEZONE
BEGIN:VEVENT
DTSTART;TZID=America/Chicago:20251114T163000
DTEND;TZID=America/Chicago:20251114T183000
DTSTAMP:20260424T002330
CREATED:20251021T214222Z
LAST-MODIFIED:20251021T214222Z
UID:10003225-1763137800-1763145000@www.calvary-rochester.org
SUMMARY:Veterans Day Happy Hour
DESCRIPTION:Calvary’s Fellowship Committee is hosting a Veterans Day happy hour on November 14 from 4:30 pm to 6:30 pm. \nJoin your fellow parishioners at Beetle’s Bar and Grill\, located several blocks west of Saint Marys Hospital on 2nd Street SW. Can you figure out this acronym?: TYFYSV. The first person to arrive and tell us what TYFYSV stands for gets a free drink! \nThis will be very informal. Stay for as long as you can.   Popcorn and water are free. You can purchase other food and drinks.
URL:https://www.calvary-rochester.org/event/veterans-day-happy-hour-2/
LOCATION:Beetle’s Bar and Grill\, 230 20th Avenue SW\, Rochester\, Minnesota\, 55902\, United States
CATEGORIES:Community,Fellowship,Home
ATTACH;FMTTYPE=image/png:https://www.calvary-rochester.org/wp-content/uploads/2025/10/Veterans-Day-Happy-Hour.png
ORGANIZER;CN="Calvary Episcopal Church":MAILTO:office@calvary-rochester.org
END:VEVENT
END:VCALENDAR