BEGIN:VCALENDAR
VERSION:2.0
PRODID:-//Calvary Episcopal Church - ECPv6.15.20//NONSGML v1.0//EN
CALSCALE:GREGORIAN
METHOD:PUBLISH
X-WR-CALNAME:Calvary Episcopal Church
X-ORIGINAL-URL:https://www.calvary-rochester.org
X-WR-CALDESC:Events for Calvary Episcopal Church
REFRESH-INTERVAL;VALUE=DURATION:PT1H
X-Robots-Tag:noindex
X-PUBLISHED-TTL:PT1H
BEGIN:VTIMEZONE
TZID:America/Chicago
BEGIN:DAYLIGHT
TZOFFSETFROM:-0600
TZOFFSETTO:-0500
TZNAME:CDT
DTSTART:20220313T080000
END:DAYLIGHT
BEGIN:STANDARD
TZOFFSETFROM:-0500
TZOFFSETTO:-0600
TZNAME:CST
DTSTART:20221106T070000
END:STANDARD
BEGIN:DAYLIGHT
TZOFFSETFROM:-0600
TZOFFSETTO:-0500
TZNAME:CDT
DTSTART:20230312T080000
END:DAYLIGHT
BEGIN:STANDARD
TZOFFSETFROM:-0500
TZOFFSETTO:-0600
TZNAME:CST
DTSTART:20231105T070000
END:STANDARD
BEGIN:DAYLIGHT
TZOFFSETFROM:-0600
TZOFFSETTO:-0500
TZNAME:CDT
DTSTART:20240310T080000
END:DAYLIGHT
BEGIN:STANDARD
TZOFFSETFROM:-0500
TZOFFSETTO:-0600
TZNAME:CST
DTSTART:20241103T070000
END:STANDARD
END:VTIMEZONE
BEGIN:VEVENT
DTSTART;TZID=America/Chicago:20231210T093000
DTEND;TZID=America/Chicago:20231210T101500
DTSTAMP:20260425T221051
CREATED:20231031T201231Z
LAST-MODIFIED:20231107T210257Z
UID:10001708-1702200600-1702203300@www.calvary-rochester.org
SUMMARY:Bake Sale
DESCRIPTION:On December 10\, Calvary’s Kids will be hosting a Cookie bake sale to raise funds to equip the kids’ rooms with Roku TVs so that teachers are able to stream clips and music for the kids from the internet instead of using their phones! The kids will be meeting the day before to bake cookies; however\, we will need extra cookies baked to support our efforts as well as plenty of people to buy our delicious treats! Please include our Cookie bake sale in your Christmas baking/purchasing plans! If you have little time to bake yourself\, this is the perfect opportunity to buy some homemade treats for the holidays! If you are interested in helping out by either helping supervise the Bake Off or helping with the sale itself\, please take a moment to sign up using the link in The Visitor. We look forward to seeing you there! \nFaith Formation Special Event Sign-Up
URL:https://www.calvary-rochester.org/event/bake-sale/
LOCATION:Calvary Episcopal Church\, 111 Third Avenue SW\, Rochester\, MN\, 55902
CATEGORIES:Food,Formation,Home
ATTACH;FMTTYPE=image/png:https://www.calvary-rochester.org/wp-content/uploads/2023/10/Bake-Sale-FB.png
ORGANIZER;CN="Calvary Episcopal Church":MAILTO:office@calvary-rochester.org
GEO:40.602991;-73.959517
X-APPLE-STRUCTURED-LOCATION;VALUE=URI;X-ADDRESS=Calvary Episcopal Church 111 Third Avenue SW Rochester MN 55902;X-APPLE-RADIUS=500;X-TITLE=111 Third Avenue SW:geo:-73.959517,40.602991
END:VEVENT
BEGIN:VEVENT
DTSTART;TZID=America/Chicago:20231210T113000
DTEND;TZID=America/Chicago:20231210T123000
DTSTAMP:20260425T221051
CREATED:20231121T225131Z
LAST-MODIFIED:20231121T225654Z
UID:10001712-1702207800-1702211400@www.calvary-rochester.org
SUMMARY:Soup Lunch\, the Greening of the Church\, and Decorating the Brackenridge Tree
DESCRIPTION:On December 10 at 11:30 am\, you are invited to join fellow parishioners at Calvary to prepare the church for Christmas. This is an intergenerational event with activities for all ages. We will enjoy a soup lunch\, hang fresh greens in the sanctuary\, make Christmas crafts\, and decorate the tree in Brackenridge. \nIf you can attend\, please sign up in Brackenridge or use this link to sign up with Google forms. You can also sign up by calling\, texting or emailing Cindy Heins at heins.cynthia@gmail.com or (507) 993-5824. Please indicate the number who will be attending and let us know if you can bring soup\, help with the greening\, and/or help with kitchen clean up after lunch.
URL:https://www.calvary-rochester.org/event/soup-lunch-the-greening-of-the-church-and-decorating-the-brackenridge-tree/
LOCATION:Calvary Episcopal Church\, 111 Third Avenue SW\, Rochester\, MN\, 55902
CATEGORIES:Advent and Christmas,Fellowship,Food,Formation,Worship
ATTACH;FMTTYPE=image/png:https://www.calvary-rochester.org/wp-content/uploads/2023/11/Greening-FB.png
ORGANIZER;CN="Calvary Episcopal Church":MAILTO:office@calvary-rochester.org
GEO:40.602991;-73.959517
X-APPLE-STRUCTURED-LOCATION;VALUE=URI;X-ADDRESS=Calvary Episcopal Church 111 Third Avenue SW Rochester MN 55902;X-APPLE-RADIUS=500;X-TITLE=111 Third Avenue SW:geo:-73.959517,40.602991
END:VEVENT
END:VCALENDAR