BEGIN:VCALENDAR
VERSION:2.0
PRODID:-//Calvary Episcopal Church - ECPv6.15.20//NONSGML v1.0//EN
CALSCALE:GREGORIAN
METHOD:PUBLISH
X-ORIGINAL-URL:https://www.calvary-rochester.org
X-WR-CALDESC:Events for Calvary Episcopal Church
REFRESH-INTERVAL;VALUE=DURATION:PT1H
X-Robots-Tag:noindex
X-PUBLISHED-TTL:PT1H
BEGIN:VTIMEZONE
TZID:America/Chicago
BEGIN:DAYLIGHT
TZOFFSETFROM:-0600
TZOFFSETTO:-0500
TZNAME:CDT
DTSTART:20220313T080000
END:DAYLIGHT
BEGIN:STANDARD
TZOFFSETFROM:-0500
TZOFFSETTO:-0600
TZNAME:CST
DTSTART:20221106T070000
END:STANDARD
BEGIN:DAYLIGHT
TZOFFSETFROM:-0600
TZOFFSETTO:-0500
TZNAME:CDT
DTSTART:20230312T080000
END:DAYLIGHT
BEGIN:STANDARD
TZOFFSETFROM:-0500
TZOFFSETTO:-0600
TZNAME:CST
DTSTART:20231105T070000
END:STANDARD
BEGIN:DAYLIGHT
TZOFFSETFROM:-0600
TZOFFSETTO:-0500
TZNAME:CDT
DTSTART:20240310T080000
END:DAYLIGHT
BEGIN:STANDARD
TZOFFSETFROM:-0500
TZOFFSETTO:-0600
TZNAME:CST
DTSTART:20241103T070000
END:STANDARD
END:VTIMEZONE
BEGIN:VEVENT
DTSTART;TZID=America/Chicago:20230610T170000
DTEND;TZID=America/Chicago:20230610T183000
DTSTAMP:20260425T224554
CREATED:20230531T001406Z
LAST-MODIFIED:20230531T162951Z
UID:10001617-1686416400-1686421800@www.calvary-rochester.org
SUMMARY:Benedictine Way Dinner at The Landing
DESCRIPTION:The Benedictine Way small group will be providing a 5:00 pm evening meal at The Landing MN\, a local day center for those experiencing homelessness\, on Saturday\, June 10. \nThe summer picnic menu will include grilled burgers and brats\, along with chips\, fresh fruit\, cookies\, and bottled water. If you would like to participate in any way\, please be in touch with Martha Mangan at mart188@charter.net\, the Rev. Paul Ehling at paehling@icloud.com\, Colleen Spillers at colleenspillers@gmail.com\, or Patty Arndt\, our parish administrator\, at office@calvary-rochester.org.
URL:https://www.calvary-rochester.org/event/benedictine-way-dinner-at-the-landing/
LOCATION:The Landing MN\, 426 3rd Ave SE\, Rochester\, MN\, 55904\, United States
CATEGORIES:Formation,Home,Outreach
ATTACH;FMTTYPE=image/png:https://www.calvary-rochester.org/wp-content/uploads/2023/05/Landing-Dinner-FB.png
ORGANIZER;CN="Calvary Episcopal Church":MAILTO:office@calvary-rochester.org
END:VEVENT
BEGIN:VEVENT
DTSTART;TZID=America/Chicago:20230625T160000
DTEND;TZID=America/Chicago:20230625T180000
DTSTAMP:20260425T224554
CREATED:20230531T163056Z
LAST-MODIFIED:20230531T163057Z
UID:10001431-1687708800-1687716000@www.calvary-rochester.org
SUMMARY:Benedictine Way
DESCRIPTION:While living in Rome during troubled times in the 6th century\, Benedict of Nursia wrote a Rule for community living. He sought peace\, meaning and purpose for his life. Others joined him and ultimately he founded 12 monastic communities. Benedictine spirituality flows from three vows: stability\, obedience\, and conversion of life\, all grounded in the Bible/Gospels\, the Rule of St. Benedict\, personal prayer\, and community living. \nBenedictine spirituality has been a part of Anglican/Episcopal liturgies for centuries. St. Augustine\, the first Archbishop of Canterbury\, was a Benedictine monk. Thomas Cranmer\, Archbishop of Canterbury in 1533\, incorporated the divine office (morning prayer\, evening prayer and compline along with the Psalms) into the Book of Common Prayer\, following the influence of Augustine. \nThe Benedictine Way Group is an opportunity for people to come together to discover guided balance in our lives through prayer (Evening Prayer and Compline)\, study (of the Bible/Gospels and the Rule)\, and community gathering. The group formed in 2007 and has met monthly with 9-12 members. We listen\, share\, and integrate aspects of the Benedictine monastic tradition into our daily lives to better live out the Gospel in today’s challenging world. \nJoin us on the fourth Sunday of every month in the Larson Fireside Room from 4:00 pm to 6:00 pm. All are welcome!
URL:https://www.calvary-rochester.org/event/benedictine-way-2/2023-06-25/
LOCATION:Calvary Episcopal Church\, 111 Third Avenue SW\, Rochester\, MN\, 55902
CATEGORIES:Formation,Home,Worship
ATTACH;FMTTYPE=image/png:https://www.calvary-rochester.org/wp-content/uploads/2022/10/Benedictine-Way-FB-1.png
ORGANIZER;CN="Calvary Episcopal Church":MAILTO:office@calvary-rochester.org
GEO:40.602991;-73.959517
X-APPLE-STRUCTURED-LOCATION;VALUE=URI;X-ADDRESS=Calvary Episcopal Church 111 Third Avenue SW Rochester MN 55902;X-APPLE-RADIUS=500;X-TITLE=111 Third Avenue SW:geo:-73.959517,40.602991
END:VEVENT
END:VCALENDAR