BEGIN:VCALENDAR
VERSION:2.0
PRODID:-//Calvary Episcopal Church - ECPv6.15.20//NONSGML v1.0//EN
CALSCALE:GREGORIAN
METHOD:PUBLISH
X-WR-CALNAME:Calvary Episcopal Church
X-ORIGINAL-URL:https://www.calvary-rochester.org
X-WR-CALDESC:Events for Calvary Episcopal Church
REFRESH-INTERVAL;VALUE=DURATION:PT1H
X-Robots-Tag:noindex
X-PUBLISHED-TTL:PT1H
BEGIN:VTIMEZONE
TZID:America/Chicago
BEGIN:DAYLIGHT
TZOFFSETFROM:-0600
TZOFFSETTO:-0500
TZNAME:CDT
DTSTART:20220313T080000
END:DAYLIGHT
BEGIN:STANDARD
TZOFFSETFROM:-0500
TZOFFSETTO:-0600
TZNAME:CST
DTSTART:20221106T070000
END:STANDARD
BEGIN:DAYLIGHT
TZOFFSETFROM:-0600
TZOFFSETTO:-0500
TZNAME:CDT
DTSTART:20230312T080000
END:DAYLIGHT
BEGIN:STANDARD
TZOFFSETFROM:-0500
TZOFFSETTO:-0600
TZNAME:CST
DTSTART:20231105T070000
END:STANDARD
BEGIN:DAYLIGHT
TZOFFSETFROM:-0600
TZOFFSETTO:-0500
TZNAME:CDT
DTSTART:20240310T080000
END:DAYLIGHT
BEGIN:STANDARD
TZOFFSETFROM:-0500
TZOFFSETTO:-0600
TZNAME:CST
DTSTART:20241103T070000
END:STANDARD
END:VTIMEZONE
BEGIN:VEVENT
DTSTART;TZID=America/Chicago:20231001T091500
DTEND;TZID=America/Chicago:20231001T101500
DTSTAMP:20260425T164333
CREATED:20230919T213407Z
LAST-MODIFIED:20230919T213407Z
UID:10001698-1696151700-1696155300@www.calvary-rochester.org
SUMMARY:Children's Church
DESCRIPTION:This is an exciting time where we all come together to have fun and worship God together! The theme for our first Children’s Church will be “Trust in God” – we hope to see you there!
URL:https://www.calvary-rochester.org/event/childrens-church-2/
LOCATION:Calvary Episcopal Church\, 111 Third Avenue SW\, Rochester\, MN\, 55902
CATEGORIES:Formation,Home
ATTACH;FMTTYPE=image/png:https://www.calvary-rochester.org/wp-content/uploads/2023/09/Childrens-Church-FB.png
ORGANIZER;CN="Calvary Episcopal Church":MAILTO:office@calvary-rochester.org
GEO:40.602991;-73.959517
X-APPLE-STRUCTURED-LOCATION;VALUE=URI;X-ADDRESS=Calvary Episcopal Church 111 Third Avenue SW Rochester MN 55902;X-APPLE-RADIUS=500;X-TITLE=111 Third Avenue SW:geo:-73.959517,40.602991
END:VEVENT
BEGIN:VEVENT
DTSTART;TZID=America/Chicago:20231002T190000
DTEND;TZID=America/Chicago:20231002T200000
DTSTAMP:20260425T164334
CREATED:20230903T181442Z
LAST-MODIFIED:20230903T181510Z
UID:10001638-1696273200-1696276800@www.calvary-rochester.org
SUMMARY:Bible Study on the Gospel according to Luke
DESCRIPTION:Mondays from September 18 to November 21\, online at 7:00 pm \nAll are invited to a study of the Gospel according to Luke that will be led by a group of Calvary laypeople and clergy. We will be joining in with many others in the Episcopal Diocese of Minnesota in this study\, invited by Bishop Loya\, who sees great value in such a communal experiment and experience. The entire series will be on Zoom so that everyone who is interested can take part. Facilitators will be using the “Interpretation Bible Studies” on Luke by Thomas W. Walker. Participants may purchase this resource if they wish\, but the most important thing is to participate\, and if possible\, bring a Bible (any edition) to the study. \nInterested? Please email Rev. Beth at rector@calvary-rochester.org by September 15 to receive the Zoom link.
URL:https://www.calvary-rochester.org/event/bible-study-on-the-gospel-according-to-luke/2023-10-02/
LOCATION:Online
CATEGORIES:Formation,Home
ATTACH;FMTTYPE=image/png:https://www.calvary-rochester.org/wp-content/uploads/2023/09/Luke-Study-FB.png
ORGANIZER;CN="Calvary Episcopal Church":MAILTO:office@calvary-rochester.org
END:VEVENT
BEGIN:VEVENT
DTSTART;TZID=America/Chicago:20231007T100000
DTEND;TZID=America/Chicago:20231007T120000
DTSTAMP:20260425T164334
CREATED:20230919T214242Z
LAST-MODIFIED:20230919T214242Z
UID:10001699-1696672800-1696680000@www.calvary-rochester.org
SUMMARY:Garden Clean-Up Challenge & Chalk-the-Walk
DESCRIPTION:Join us for the fall Garden Cleanup Challenge/Chalk-the-Walk with messages of hope for Mayo employees and patients! Come meet at the church to do fall cleanup of the beautiful garden that has been lovingly maintained all summer! Once that is finished take a break\, have a snack\, and then take a minute to explore your artistic side to write creative messages of hope to Mayo staff and patients on the sidewalk beside the church that faces Mayo. Let’s put some love out into our community – all hands that are able to work are welcome!
URL:https://www.calvary-rochester.org/event/garden-clean-up-challenge-chalk-the-walk/
LOCATION:Calvary Episcopal Church\, 111 Third Avenue SW\, Rochester\, MN\, 55902
CATEGORIES:Formation,Home
ATTACH;FMTTYPE=image/png:https://www.calvary-rochester.org/wp-content/uploads/2023/09/CTW-FB.png
ORGANIZER;CN="Calvary Episcopal Church":MAILTO:office@calvary-rochester.org
GEO:40.602991;-73.959517
X-APPLE-STRUCTURED-LOCATION;VALUE=URI;X-ADDRESS=Calvary Episcopal Church 111 Third Avenue SW Rochester MN 55902;X-APPLE-RADIUS=500;X-TITLE=111 Third Avenue SW:geo:-73.959517,40.602991
END:VEVENT
BEGIN:VEVENT
DTSTART;TZID=America/Chicago:20231009T190000
DTEND;TZID=America/Chicago:20231009T200000
DTSTAMP:20260425T164334
CREATED:20230903T181442Z
LAST-MODIFIED:20230903T181510Z
UID:10001639-1696878000-1696881600@www.calvary-rochester.org
SUMMARY:Bible Study on the Gospel according to Luke
DESCRIPTION:Mondays from September 18 to November 21\, online at 7:00 pm \nAll are invited to a study of the Gospel according to Luke that will be led by a group of Calvary laypeople and clergy. We will be joining in with many others in the Episcopal Diocese of Minnesota in this study\, invited by Bishop Loya\, who sees great value in such a communal experiment and experience. The entire series will be on Zoom so that everyone who is interested can take part. Facilitators will be using the “Interpretation Bible Studies” on Luke by Thomas W. Walker. Participants may purchase this resource if they wish\, but the most important thing is to participate\, and if possible\, bring a Bible (any edition) to the study. \nInterested? Please email Rev. Beth at rector@calvary-rochester.org by September 15 to receive the Zoom link.
URL:https://www.calvary-rochester.org/event/bible-study-on-the-gospel-according-to-luke/2023-10-09/
LOCATION:Online
CATEGORIES:Formation,Home
ATTACH;FMTTYPE=image/png:https://www.calvary-rochester.org/wp-content/uploads/2023/09/Luke-Study-FB.png
ORGANIZER;CN="Calvary Episcopal Church":MAILTO:office@calvary-rochester.org
END:VEVENT
BEGIN:VEVENT
DTSTART;TZID=America/Chicago:20231016T190000
DTEND;TZID=America/Chicago:20231016T200000
DTSTAMP:20260425T164334
CREATED:20230903T181442Z
LAST-MODIFIED:20230903T181510Z
UID:10001640-1697482800-1697486400@www.calvary-rochester.org
SUMMARY:Bible Study on the Gospel according to Luke
DESCRIPTION:Mondays from September 18 to November 21\, online at 7:00 pm \nAll are invited to a study of the Gospel according to Luke that will be led by a group of Calvary laypeople and clergy. We will be joining in with many others in the Episcopal Diocese of Minnesota in this study\, invited by Bishop Loya\, who sees great value in such a communal experiment and experience. The entire series will be on Zoom so that everyone who is interested can take part. Facilitators will be using the “Interpretation Bible Studies” on Luke by Thomas W. Walker. Participants may purchase this resource if they wish\, but the most important thing is to participate\, and if possible\, bring a Bible (any edition) to the study. \nInterested? Please email Rev. Beth at rector@calvary-rochester.org by September 15 to receive the Zoom link.
URL:https://www.calvary-rochester.org/event/bible-study-on-the-gospel-according-to-luke/2023-10-16/
LOCATION:Online
CATEGORIES:Formation,Home
ATTACH;FMTTYPE=image/png:https://www.calvary-rochester.org/wp-content/uploads/2023/09/Luke-Study-FB.png
ORGANIZER;CN="Calvary Episcopal Church":MAILTO:office@calvary-rochester.org
END:VEVENT
BEGIN:VEVENT
DTSTART;TZID=America/Chicago:20231022T160000
DTEND;TZID=America/Chicago:20231022T180000
DTSTAMP:20260425T164334
CREATED:20230725T200317Z
LAST-MODIFIED:20230725T200318Z
UID:10001435-1697990400-1697997600@www.calvary-rochester.org
SUMMARY:Benedictine Way
DESCRIPTION:While living in Rome during troubled times in the 6th century\, Benedict of Nursia wrote a Rule for community living. He sought peace\, meaning and purpose for his life. Others joined him and ultimately he founded 12 monastic communities. Benedictine spirituality flows from three vows: stability\, obedience\, and conversion of life\, all grounded in the Bible/Gospels\, the Rule of St. Benedict\, personal prayer\, and community living. \nBenedictine spirituality has been a part of Anglican/Episcopal liturgies for centuries. St. Augustine\, the first Archbishop of Canterbury\, was a Benedictine monk. Thomas Cranmer\, Archbishop of Canterbury in 1533\, incorporated the divine office (morning prayer\, evening prayer and compline along with the Psalms) into the Book of Common Prayer\, following the influence of Augustine. \nThe Benedictine Way Group is an opportunity for people to come together to discover guided balance in our lives through prayer (Evening Prayer and Compline)\, study (of the Bible/Gospels and the Rule)\, and community gathering. The group formed in 2007 and has met monthly with 9-12 members. We listen\, share\, and integrate aspects of the Benedictine monastic tradition into our daily lives to better live out the Gospel in today’s challenging world. \nJoin us on the fourth Sunday of every month in the Larson Fireside Room from 4:00 pm to 6:00 pm. All are welcome!
URL:https://www.calvary-rochester.org/event/benedictine-way-2-2/2023-10-22/
LOCATION:Calvary Episcopal Church\, 111 Third Avenue SW\, Rochester\, MN\, 55902
CATEGORIES:Formation,Home,Worship
ATTACH;FMTTYPE=image/png:https://www.calvary-rochester.org/wp-content/uploads/2022/10/Benedictine-Way-FB-1.png
ORGANIZER;CN="Calvary Episcopal Church":MAILTO:office@calvary-rochester.org
GEO:40.602991;-73.959517
X-APPLE-STRUCTURED-LOCATION;VALUE=URI;X-ADDRESS=Calvary Episcopal Church 111 Third Avenue SW Rochester MN 55902;X-APPLE-RADIUS=500;X-TITLE=111 Third Avenue SW:geo:-73.959517,40.602991
END:VEVENT
BEGIN:VEVENT
DTSTART;TZID=America/Chicago:20231023T190000
DTEND;TZID=America/Chicago:20231023T200000
DTSTAMP:20260425T164334
CREATED:20230903T181442Z
LAST-MODIFIED:20230903T181510Z
UID:10001641-1698087600-1698091200@www.calvary-rochester.org
SUMMARY:Bible Study on the Gospel according to Luke
DESCRIPTION:Mondays from September 18 to November 21\, online at 7:00 pm \nAll are invited to a study of the Gospel according to Luke that will be led by a group of Calvary laypeople and clergy. We will be joining in with many others in the Episcopal Diocese of Minnesota in this study\, invited by Bishop Loya\, who sees great value in such a communal experiment and experience. The entire series will be on Zoom so that everyone who is interested can take part. Facilitators will be using the “Interpretation Bible Studies” on Luke by Thomas W. Walker. Participants may purchase this resource if they wish\, but the most important thing is to participate\, and if possible\, bring a Bible (any edition) to the study. \nInterested? Please email Rev. Beth at rector@calvary-rochester.org by September 15 to receive the Zoom link.
URL:https://www.calvary-rochester.org/event/bible-study-on-the-gospel-according-to-luke/2023-10-23/
LOCATION:Online
CATEGORIES:Formation,Home
ATTACH;FMTTYPE=image/png:https://www.calvary-rochester.org/wp-content/uploads/2023/09/Luke-Study-FB.png
ORGANIZER;CN="Calvary Episcopal Church":MAILTO:office@calvary-rochester.org
END:VEVENT
BEGIN:VEVENT
DTSTART;TZID=America/Chicago:20231030T190000
DTEND;TZID=America/Chicago:20231030T200000
DTSTAMP:20260425T164334
CREATED:20230903T181442Z
LAST-MODIFIED:20230903T181510Z
UID:10001642-1698692400-1698696000@www.calvary-rochester.org
SUMMARY:Bible Study on the Gospel according to Luke
DESCRIPTION:Mondays from September 18 to November 21\, online at 7:00 pm \nAll are invited to a study of the Gospel according to Luke that will be led by a group of Calvary laypeople and clergy. We will be joining in with many others in the Episcopal Diocese of Minnesota in this study\, invited by Bishop Loya\, who sees great value in such a communal experiment and experience. The entire series will be on Zoom so that everyone who is interested can take part. Facilitators will be using the “Interpretation Bible Studies” on Luke by Thomas W. Walker. Participants may purchase this resource if they wish\, but the most important thing is to participate\, and if possible\, bring a Bible (any edition) to the study. \nInterested? Please email Rev. Beth at rector@calvary-rochester.org by September 15 to receive the Zoom link.
URL:https://www.calvary-rochester.org/event/bible-study-on-the-gospel-according-to-luke/2023-10-30/
LOCATION:Online
CATEGORIES:Formation,Home
ATTACH;FMTTYPE=image/png:https://www.calvary-rochester.org/wp-content/uploads/2023/09/Luke-Study-FB.png
ORGANIZER;CN="Calvary Episcopal Church":MAILTO:office@calvary-rochester.org
END:VEVENT
END:VCALENDAR