BEGIN:VCALENDAR
VERSION:2.0
PRODID:-//Calvary Episcopal Church - ECPv6.15.20//NONSGML v1.0//EN
CALSCALE:GREGORIAN
METHOD:PUBLISH
X-WR-CALNAME:Calvary Episcopal Church
X-ORIGINAL-URL:https://www.calvary-rochester.org
X-WR-CALDESC:Events for Calvary Episcopal Church
REFRESH-INTERVAL;VALUE=DURATION:PT1H
X-Robots-Tag:noindex
X-PUBLISHED-TTL:PT1H
BEGIN:VTIMEZONE
TZID:America/Chicago
BEGIN:DAYLIGHT
TZOFFSETFROM:-0600
TZOFFSETTO:-0500
TZNAME:CDT
DTSTART:20220313T080000
END:DAYLIGHT
BEGIN:STANDARD
TZOFFSETFROM:-0500
TZOFFSETTO:-0600
TZNAME:CST
DTSTART:20221106T070000
END:STANDARD
BEGIN:DAYLIGHT
TZOFFSETFROM:-0600
TZOFFSETTO:-0500
TZNAME:CDT
DTSTART:20230312T080000
END:DAYLIGHT
BEGIN:STANDARD
TZOFFSETFROM:-0500
TZOFFSETTO:-0600
TZNAME:CST
DTSTART:20231105T070000
END:STANDARD
BEGIN:DAYLIGHT
TZOFFSETFROM:-0600
TZOFFSETTO:-0500
TZNAME:CDT
DTSTART:20240310T080000
END:DAYLIGHT
BEGIN:STANDARD
TZOFFSETFROM:-0500
TZOFFSETTO:-0600
TZNAME:CST
DTSTART:20241103T070000
END:STANDARD
END:VTIMEZONE
BEGIN:VEVENT
DTSTART;TZID=America/Chicago:20231105T091500
DTEND;TZID=America/Chicago:20231105T101500
DTSTAMP:20260425T150711
CREATED:20231025T002757Z
LAST-MODIFIED:20231025T004548Z
UID:10001706-1699175700-1699179300@www.calvary-rochester.org
SUMMARY:Stronger Together Forum
DESCRIPTION:At 9:15 am\, join us for an enlightening educational hour this All Saints’ Sunday\, November 5\, exploring our Stewardship 2024 theme\, “Stronger Together”. As we remember the Calvary saints of the past and commit ourselves to helping raise up and form those of the present and future\, we’ll recommit ourselves to the unchanging call to serve and love God’s people. \nDiscover the power of our connections and the strength we find when we unite. Identify the groups you’re part of\, from Calvary Groups to Choirs and Committees. Engage in hopeful and grounded discussion about our future together. We’ll shed light on Calvary’s needs and the financial outlook for 2024. Let’s come together to embrace spiritual optimism and support our vibrant community. We are Stronger Together!
URL:https://www.calvary-rochester.org/event/stronger-together-forum/
LOCATION:Calvary Episcopal Church\, 111 Third Avenue SW\, Rochester\, MN\, 55902
CATEGORIES:Fellowship,Formation,Home
ATTACH;FMTTYPE=image/png:https://www.calvary-rochester.org/wp-content/uploads/2023/10/ST-Forum-FB.png
ORGANIZER;CN="Calvary Episcopal Church":MAILTO:office@calvary-rochester.org
GEO:40.602991;-73.959517
X-APPLE-STRUCTURED-LOCATION;VALUE=URI;X-ADDRESS=Calvary Episcopal Church 111 Third Avenue SW Rochester MN 55902;X-APPLE-RADIUS=500;X-TITLE=111 Third Avenue SW:geo:-73.959517,40.602991
END:VEVENT
BEGIN:VEVENT
DTSTART;TZID=America/Chicago:20231106T190000
DTEND;TZID=America/Chicago:20231106T200000
DTSTAMP:20260425T150711
CREATED:20230903T181442Z
LAST-MODIFIED:20230903T181510Z
UID:10001643-1699297200-1699300800@www.calvary-rochester.org
SUMMARY:Bible Study on the Gospel according to Luke
DESCRIPTION:Mondays from September 18 to November 21\, online at 7:00 pm \nAll are invited to a study of the Gospel according to Luke that will be led by a group of Calvary laypeople and clergy. We will be joining in with many others in the Episcopal Diocese of Minnesota in this study\, invited by Bishop Loya\, who sees great value in such a communal experiment and experience. The entire series will be on Zoom so that everyone who is interested can take part. Facilitators will be using the “Interpretation Bible Studies” on Luke by Thomas W. Walker. Participants may purchase this resource if they wish\, but the most important thing is to participate\, and if possible\, bring a Bible (any edition) to the study. \nInterested? Please email Rev. Beth at rector@calvary-rochester.org by September 15 to receive the Zoom link.
URL:https://www.calvary-rochester.org/event/bible-study-on-the-gospel-according-to-luke/2023-11-06/
LOCATION:Online
CATEGORIES:Formation,Home
ATTACH;FMTTYPE=image/png:https://www.calvary-rochester.org/wp-content/uploads/2023/09/Luke-Study-FB.png
ORGANIZER;CN="Calvary Episcopal Church":MAILTO:office@calvary-rochester.org
END:VEVENT
BEGIN:VEVENT
DTSTART;TZID=America/Chicago:20231113T190000
DTEND;TZID=America/Chicago:20231113T200000
DTSTAMP:20260425T150711
CREATED:20230903T181442Z
LAST-MODIFIED:20230903T181510Z
UID:10001644-1699902000-1699905600@www.calvary-rochester.org
SUMMARY:Bible Study on the Gospel according to Luke
DESCRIPTION:Mondays from September 18 to November 21\, online at 7:00 pm \nAll are invited to a study of the Gospel according to Luke that will be led by a group of Calvary laypeople and clergy. We will be joining in with many others in the Episcopal Diocese of Minnesota in this study\, invited by Bishop Loya\, who sees great value in such a communal experiment and experience. The entire series will be on Zoom so that everyone who is interested can take part. Facilitators will be using the “Interpretation Bible Studies” on Luke by Thomas W. Walker. Participants may purchase this resource if they wish\, but the most important thing is to participate\, and if possible\, bring a Bible (any edition) to the study. \nInterested? Please email Rev. Beth at rector@calvary-rochester.org by September 15 to receive the Zoom link.
URL:https://www.calvary-rochester.org/event/bible-study-on-the-gospel-according-to-luke/2023-11-13/
LOCATION:Online
CATEGORIES:Formation,Home
ATTACH;FMTTYPE=image/png:https://www.calvary-rochester.org/wp-content/uploads/2023/09/Luke-Study-FB.png
ORGANIZER;CN="Calvary Episcopal Church":MAILTO:office@calvary-rochester.org
END:VEVENT
BEGIN:VEVENT
DTSTART;TZID=America/Chicago:20231120T190000
DTEND;TZID=America/Chicago:20231120T200000
DTSTAMP:20260425T150711
CREATED:20230903T181442Z
LAST-MODIFIED:20230903T181510Z
UID:10001645-1700506800-1700510400@www.calvary-rochester.org
SUMMARY:Bible Study on the Gospel according to Luke
DESCRIPTION:Mondays from September 18 to November 21\, online at 7:00 pm \nAll are invited to a study of the Gospel according to Luke that will be led by a group of Calvary laypeople and clergy. We will be joining in with many others in the Episcopal Diocese of Minnesota in this study\, invited by Bishop Loya\, who sees great value in such a communal experiment and experience. The entire series will be on Zoom so that everyone who is interested can take part. Facilitators will be using the “Interpretation Bible Studies” on Luke by Thomas W. Walker. Participants may purchase this resource if they wish\, but the most important thing is to participate\, and if possible\, bring a Bible (any edition) to the study. \nInterested? Please email Rev. Beth at rector@calvary-rochester.org by September 15 to receive the Zoom link.
URL:https://www.calvary-rochester.org/event/bible-study-on-the-gospel-according-to-luke/2023-11-20/
LOCATION:Online
CATEGORIES:Formation,Home
ATTACH;FMTTYPE=image/png:https://www.calvary-rochester.org/wp-content/uploads/2023/09/Luke-Study-FB.png
ORGANIZER;CN="Calvary Episcopal Church":MAILTO:office@calvary-rochester.org
END:VEVENT
BEGIN:VEVENT
DTSTART;TZID=America/Chicago:20231126T160000
DTEND;TZID=America/Chicago:20231126T180000
DTSTAMP:20260425T150711
CREATED:20230725T200317Z
LAST-MODIFIED:20230725T200318Z
UID:10001436-1701014400-1701021600@www.calvary-rochester.org
SUMMARY:Benedictine Way
DESCRIPTION:While living in Rome during troubled times in the 6th century\, Benedict of Nursia wrote a Rule for community living. He sought peace\, meaning and purpose for his life. Others joined him and ultimately he founded 12 monastic communities. Benedictine spirituality flows from three vows: stability\, obedience\, and conversion of life\, all grounded in the Bible/Gospels\, the Rule of St. Benedict\, personal prayer\, and community living. \nBenedictine spirituality has been a part of Anglican/Episcopal liturgies for centuries. St. Augustine\, the first Archbishop of Canterbury\, was a Benedictine monk. Thomas Cranmer\, Archbishop of Canterbury in 1533\, incorporated the divine office (morning prayer\, evening prayer and compline along with the Psalms) into the Book of Common Prayer\, following the influence of Augustine. \nThe Benedictine Way Group is an opportunity for people to come together to discover guided balance in our lives through prayer (Evening Prayer and Compline)\, study (of the Bible/Gospels and the Rule)\, and community gathering. The group formed in 2007 and has met monthly with 9-12 members. We listen\, share\, and integrate aspects of the Benedictine monastic tradition into our daily lives to better live out the Gospel in today’s challenging world. \nJoin us on the fourth Sunday of every month in the Larson Fireside Room from 4:00 pm to 6:00 pm. All are welcome!
URL:https://www.calvary-rochester.org/event/benedictine-way-2-2/2023-11-26/
LOCATION:Calvary Episcopal Church\, 111 Third Avenue SW\, Rochester\, MN\, 55902
CATEGORIES:Formation,Home,Worship
ATTACH;FMTTYPE=image/png:https://www.calvary-rochester.org/wp-content/uploads/2022/10/Benedictine-Way-FB-1.png
ORGANIZER;CN="Calvary Episcopal Church":MAILTO:office@calvary-rochester.org
GEO:40.602991;-73.959517
X-APPLE-STRUCTURED-LOCATION;VALUE=URI;X-ADDRESS=Calvary Episcopal Church 111 Third Avenue SW Rochester MN 55902;X-APPLE-RADIUS=500;X-TITLE=111 Third Avenue SW:geo:-73.959517,40.602991
END:VEVENT
END:VCALENDAR