BEGIN:VCALENDAR
VERSION:2.0
PRODID:-//Calvary Episcopal Church - ECPv6.15.20//NONSGML v1.0//EN
CALSCALE:GREGORIAN
METHOD:PUBLISH
X-WR-CALNAME:Calvary Episcopal Church
X-ORIGINAL-URL:https://www.calvary-rochester.org
X-WR-CALDESC:Events for Calvary Episcopal Church
REFRESH-INTERVAL;VALUE=DURATION:PT1H
X-Robots-Tag:noindex
X-PUBLISHED-TTL:PT1H
BEGIN:VTIMEZONE
TZID:America/Chicago
BEGIN:DAYLIGHT
TZOFFSETFROM:-0600
TZOFFSETTO:-0500
TZNAME:CDT
DTSTART:20230312T080000
END:DAYLIGHT
BEGIN:STANDARD
TZOFFSETFROM:-0500
TZOFFSETTO:-0600
TZNAME:CST
DTSTART:20231105T070000
END:STANDARD
BEGIN:DAYLIGHT
TZOFFSETFROM:-0600
TZOFFSETTO:-0500
TZNAME:CDT
DTSTART:20240310T080000
END:DAYLIGHT
BEGIN:STANDARD
TZOFFSETFROM:-0500
TZOFFSETTO:-0600
TZNAME:CST
DTSTART:20241103T070000
END:STANDARD
BEGIN:DAYLIGHT
TZOFFSETFROM:-0600
TZOFFSETTO:-0500
TZNAME:CDT
DTSTART:20250309T080000
END:DAYLIGHT
BEGIN:STANDARD
TZOFFSETFROM:-0500
TZOFFSETTO:-0600
TZNAME:CST
DTSTART:20251102T070000
END:STANDARD
END:VTIMEZONE
BEGIN:VEVENT
DTSTART;TZID=America/Chicago:20240303T091500
DTEND;TZID=America/Chicago:20240303T101500
DTSTAMP:20260425T070857
CREATED:20240221T145029Z
LAST-MODIFIED:20240320T133012Z
UID:10002221-1709457300-1709460900@www.calvary-rochester.org
SUMMARY:Lenten Prayer Study
DESCRIPTION:All are invited to a Lenten course on Prayer from 9:15 – 10:15 am on Sundays in the Fireside Room. Please be a part of this learning about prayer as we move toward understanding how important our prayer lives\, both individually and corporately\, are at Calvary and in our work\, family\, and discretionary time.
URL:https://www.calvary-rochester.org/event/lenten-prayer-study/2024-03-03/
LOCATION:Calvary Episcopal Church\, 111 Third Avenue SW\, Rochester\, MN\, 55902
CATEGORIES:Fellowship,Formation,Home
ATTACH;FMTTYPE=image/png:https://www.calvary-rochester.org/wp-content/uploads/2024/02/Prayer-Study-FB.png
ORGANIZER;CN="Calvary Episcopal Church":MAILTO:office@calvary-rochester.org
GEO:40.602991;-73.959517
X-APPLE-STRUCTURED-LOCATION;VALUE=URI;X-ADDRESS=Calvary Episcopal Church 111 Third Avenue SW Rochester MN 55902;X-APPLE-RADIUS=500;X-TITLE=111 Third Avenue SW:geo:-73.959517,40.602991
END:VEVENT
BEGIN:VEVENT
DTSTART;TZID=America/Chicago:20240303T091500
DTEND;TZID=America/Chicago:20240303T101500
DTSTAMP:20260425T070857
CREATED:20240305T121815Z
LAST-MODIFIED:20240305T121815Z
UID:10002203-1709457300-1709460900@www.calvary-rochester.org
SUMMARY:Children's Formation and Activities
DESCRIPTION:Join us every Sunday through Easter for fun children’s formation and activities!
URL:https://www.calvary-rochester.org/event/childrens-formation-and-activities/2024-03-03/
LOCATION:Calvary Episcopal Church\, 111 Third Avenue SW\, Rochester\, MN\, 55902
CATEGORIES:Formation,Home
ATTACH;FMTTYPE=image/png:https://www.calvary-rochester.org/wp-content/uploads/2024/02/Formation-FB.png
ORGANIZER;CN="Calvary Episcopal Church":MAILTO:office@calvary-rochester.org
GEO:40.602991;-73.959517
X-APPLE-STRUCTURED-LOCATION;VALUE=URI;X-ADDRESS=Calvary Episcopal Church 111 Third Avenue SW Rochester MN 55902;X-APPLE-RADIUS=500;X-TITLE=111 Third Avenue SW:geo:-73.959517,40.602991
END:VEVENT
BEGIN:VEVENT
DTSTART;TZID=America/Chicago:20240310T091500
DTEND;TZID=America/Chicago:20240310T101500
DTSTAMP:20260425T070857
CREATED:20240221T145029Z
LAST-MODIFIED:20240320T133012Z
UID:10002222-1710062100-1710065700@www.calvary-rochester.org
SUMMARY:Lenten Prayer Study
DESCRIPTION:All are invited to a Lenten course on Prayer from 9:15 – 10:15 am on Sundays in the Fireside Room. Please be a part of this learning about prayer as we move toward understanding how important our prayer lives\, both individually and corporately\, are at Calvary and in our work\, family\, and discretionary time.
URL:https://www.calvary-rochester.org/event/lenten-prayer-study/2024-03-10/
LOCATION:Calvary Episcopal Church\, 111 Third Avenue SW\, Rochester\, MN\, 55902
CATEGORIES:Fellowship,Formation,Home
ATTACH;FMTTYPE=image/png:https://www.calvary-rochester.org/wp-content/uploads/2024/02/Prayer-Study-FB.png
ORGANIZER;CN="Calvary Episcopal Church":MAILTO:office@calvary-rochester.org
GEO:40.602991;-73.959517
X-APPLE-STRUCTURED-LOCATION;VALUE=URI;X-ADDRESS=Calvary Episcopal Church 111 Third Avenue SW Rochester MN 55902;X-APPLE-RADIUS=500;X-TITLE=111 Third Avenue SW:geo:-73.959517,40.602991
END:VEVENT
BEGIN:VEVENT
DTSTART;TZID=America/Chicago:20240310T091500
DTEND;TZID=America/Chicago:20240310T101500
DTSTAMP:20260425T070857
CREATED:20240305T121815Z
LAST-MODIFIED:20240305T121815Z
UID:10002204-1710062100-1710065700@www.calvary-rochester.org
SUMMARY:Children's Formation and Activities
DESCRIPTION:Join us every Sunday through Easter for fun children’s formation and activities!
URL:https://www.calvary-rochester.org/event/childrens-formation-and-activities/2024-03-10/
LOCATION:Calvary Episcopal Church\, 111 Third Avenue SW\, Rochester\, MN\, 55902
CATEGORIES:Formation,Home
ATTACH;FMTTYPE=image/png:https://www.calvary-rochester.org/wp-content/uploads/2024/02/Formation-FB.png
ORGANIZER;CN="Calvary Episcopal Church":MAILTO:office@calvary-rochester.org
GEO:40.602991;-73.959517
X-APPLE-STRUCTURED-LOCATION;VALUE=URI;X-ADDRESS=Calvary Episcopal Church 111 Third Avenue SW Rochester MN 55902;X-APPLE-RADIUS=500;X-TITLE=111 Third Avenue SW:geo:-73.959517,40.602991
END:VEVENT
BEGIN:VEVENT
DTSTART;TZID=America/Chicago:20240317T091500
DTEND;TZID=America/Chicago:20240317T101500
DTSTAMP:20260425T070857
CREATED:20240221T145029Z
LAST-MODIFIED:20240320T133012Z
UID:10002223-1710666900-1710670500@www.calvary-rochester.org
SUMMARY:Lenten Prayer Study
DESCRIPTION:All are invited to a Lenten course on Prayer from 9:15 – 10:15 am on Sundays in the Fireside Room. Please be a part of this learning about prayer as we move toward understanding how important our prayer lives\, both individually and corporately\, are at Calvary and in our work\, family\, and discretionary time.
URL:https://www.calvary-rochester.org/event/lenten-prayer-study/2024-03-17/
LOCATION:Calvary Episcopal Church\, 111 Third Avenue SW\, Rochester\, MN\, 55902
CATEGORIES:Fellowship,Formation,Home
ATTACH;FMTTYPE=image/png:https://www.calvary-rochester.org/wp-content/uploads/2024/02/Prayer-Study-FB.png
ORGANIZER;CN="Calvary Episcopal Church":MAILTO:office@calvary-rochester.org
GEO:40.602991;-73.959517
X-APPLE-STRUCTURED-LOCATION;VALUE=URI;X-ADDRESS=Calvary Episcopal Church 111 Third Avenue SW Rochester MN 55902;X-APPLE-RADIUS=500;X-TITLE=111 Third Avenue SW:geo:-73.959517,40.602991
END:VEVENT
BEGIN:VEVENT
DTSTART;TZID=America/Chicago:20240317T091500
DTEND;TZID=America/Chicago:20240317T101500
DTSTAMP:20260425T070857
CREATED:20240305T121815Z
LAST-MODIFIED:20240305T121815Z
UID:10002205-1710666900-1710670500@www.calvary-rochester.org
SUMMARY:Children's Formation and Activities
DESCRIPTION:Join us every Sunday through Easter for fun children’s formation and activities!
URL:https://www.calvary-rochester.org/event/childrens-formation-and-activities/2024-03-17/
LOCATION:Calvary Episcopal Church\, 111 Third Avenue SW\, Rochester\, MN\, 55902
CATEGORIES:Formation,Home
ATTACH;FMTTYPE=image/png:https://www.calvary-rochester.org/wp-content/uploads/2024/02/Formation-FB.png
ORGANIZER;CN="Calvary Episcopal Church":MAILTO:office@calvary-rochester.org
GEO:40.602991;-73.959517
X-APPLE-STRUCTURED-LOCATION;VALUE=URI;X-ADDRESS=Calvary Episcopal Church 111 Third Avenue SW Rochester MN 55902;X-APPLE-RADIUS=500;X-TITLE=111 Third Avenue SW:geo:-73.959517,40.602991
END:VEVENT
BEGIN:VEVENT
DTSTART;TZID=America/Chicago:20240324T091500
DTEND;TZID=America/Chicago:20240324T101500
DTSTAMP:20260425T070857
CREATED:20240305T123609Z
LAST-MODIFIED:20240305T123718Z
UID:10002206-1711271700-1711275300@www.calvary-rochester.org
SUMMARY:Children's Formation and Activities: Stations of the Cross
DESCRIPTION:On Palm Sunday (March 24\, 2024)\, from 9:15 am to 10:15 am\, Children’s Formation will be hosting an immersive Stations of the Cross for the kids. We are in need of seven volunteers to monitor the fourteen different stations (there will be two stations set up per room). If you are able to help out in this respect\, please talk to Michelle McKean or sign up using the link here: Stations of the Cross Sign-up
URL:https://www.calvary-rochester.org/event/childrens-formation-and-activities-3/
LOCATION:Calvary Episcopal Church\, 111 Third Avenue SW\, Rochester\, MN\, 55902
CATEGORIES:Formation,Home
ATTACH;FMTTYPE=image/png:https://www.calvary-rochester.org/wp-content/uploads/2024/02/Formation-FB.png
ORGANIZER;CN="Calvary Episcopal Church":MAILTO:office@calvary-rochester.org
GEO:40.602991;-73.959517
X-APPLE-STRUCTURED-LOCATION;VALUE=URI;X-ADDRESS=Calvary Episcopal Church 111 Third Avenue SW Rochester MN 55902;X-APPLE-RADIUS=500;X-TITLE=111 Third Avenue SW:geo:-73.959517,40.602991
END:VEVENT
BEGIN:VEVENT
DTSTART;TZID=America/Chicago:20240331T091500
DTEND;TZID=America/Chicago:20240331T101500
DTSTAMP:20260425T070857
CREATED:20240305T123234Z
LAST-MODIFIED:20240305T123411Z
UID:10002207-1711876500-1711880100@www.calvary-rochester.org
SUMMARY:Children's Formation and Activity: Easter Egg Hunt!
DESCRIPTION:On Easter Sunday (March 31\, 2024)\, from 9:15 am to 10:15 am\, we will be hosting our annual Easter Egg Hunt for the kids in the courtyard outside the church! In the case of inclement weather\, the hunt will be moved inside. \nPlease bring your younger children to this event! Wait….What about the older kids you ask? Well\, we are delighted to also host an egg decorating activity in Brackenridge Hall at the same time for those who would like to participate but have perhaps outgrown the hunting age. \nPlease contact Michelle McKean with questions or details. We look forward to seeing you there!
URL:https://www.calvary-rochester.org/event/childrens-formation-and-activities-2/
LOCATION:Calvary Episcopal Church\, 111 Third Avenue SW\, Rochester\, MN\, 55902
CATEGORIES:Formation,Home
ATTACH;FMTTYPE=image/png:https://www.calvary-rochester.org/wp-content/uploads/2024/02/Formation-FB.png
ORGANIZER;CN="Calvary Episcopal Church":MAILTO:office@calvary-rochester.org
GEO:40.602991;-73.959517
X-APPLE-STRUCTURED-LOCATION;VALUE=URI;X-ADDRESS=Calvary Episcopal Church 111 Third Avenue SW Rochester MN 55902;X-APPLE-RADIUS=500;X-TITLE=111 Third Avenue SW:geo:-73.959517,40.602991
END:VEVENT
END:VCALENDAR