BEGIN:VCALENDAR
VERSION:2.0
PRODID:-//Calvary Episcopal Church - ECPv6.15.20//NONSGML v1.0//EN
CALSCALE:GREGORIAN
METHOD:PUBLISH
X-WR-CALNAME:Calvary Episcopal Church
X-ORIGINAL-URL:https://www.calvary-rochester.org
X-WR-CALDESC:Events for Calvary Episcopal Church
REFRESH-INTERVAL;VALUE=DURATION:PT1H
X-Robots-Tag:noindex
X-PUBLISHED-TTL:PT1H
BEGIN:VTIMEZONE
TZID:America/Chicago
BEGIN:DAYLIGHT
TZOFFSETFROM:-0600
TZOFFSETTO:-0500
TZNAME:CDT
DTSTART:20230312T080000
END:DAYLIGHT
BEGIN:STANDARD
TZOFFSETFROM:-0500
TZOFFSETTO:-0600
TZNAME:CST
DTSTART:20231105T070000
END:STANDARD
BEGIN:DAYLIGHT
TZOFFSETFROM:-0600
TZOFFSETTO:-0500
TZNAME:CDT
DTSTART:20240310T080000
END:DAYLIGHT
BEGIN:STANDARD
TZOFFSETFROM:-0500
TZOFFSETTO:-0600
TZNAME:CST
DTSTART:20241103T070000
END:STANDARD
BEGIN:DAYLIGHT
TZOFFSETFROM:-0600
TZOFFSETTO:-0500
TZNAME:CDT
DTSTART:20250309T080000
END:DAYLIGHT
BEGIN:STANDARD
TZOFFSETFROM:-0500
TZOFFSETTO:-0600
TZNAME:CST
DTSTART:20251102T070000
END:STANDARD
END:VTIMEZONE
BEGIN:VEVENT
DTSTART;TZID=America/Chicago:20240415T183000
DTEND;TZID=America/Chicago:20240415T194500
DTSTAMP:20260425T053007
CREATED:20240327T011400Z
LAST-MODIFIED:20240327T011400Z
UID:10002233-1713205800-1713210300@www.calvary-rochester.org
SUMMARY:Acts of the Apostles Study
DESCRIPTION:What came after Jesus’ post-resurrection appearances to his disciples? What happened to those disciples\, and how did we evolve from a small band of Jews following Jesus to being called Christians? You are invited to a study of the Acts of the Apostles – a book of the Bible that we read in worship throughout the Great Fifty Days of Easter\, but don’t really spend much time with. As St. Luke’s “second chapter” after his gospel account of Jesus’ life\, the story of the Acts of the Apostles is the natural study to follow our study of the Gospel according to Luke that we did last fall. Bishop Loya has invited all of us in the Episcopal Church in Minnesota to study Acts during this Eastertide.\n\nWe will begin on Monday\, April 15\, and meet together\, all on Zoom\, every Monday through May 20 from 6:30pm to 7:45-ish.  Two resources are recommended: Acts (Interpretation Bible Studies)\, by Charles C. Williamson and Acts from Scratch\, by Donald L. Griggs and Paul W. Waleskey. We will also use our Bibles!\n\nIf you are interested in this study\, please email Rev. Beth at rector@calvary-rochester.org\, so that you can receive the Zoom link.
URL:https://www.calvary-rochester.org/event/acts-of-the-apostles-study/2024-04-15/
LOCATION:Online
CATEGORIES:Formation,Home
ATTACH;FMTTYPE=image/png:https://www.calvary-rochester.org/wp-content/uploads/2024/03/Acts-Study-FB.png
ORGANIZER;CN="Calvary Episcopal Church":MAILTO:office@calvary-rochester.org
END:VEVENT
BEGIN:VEVENT
DTSTART;TZID=America/Chicago:20240422T183000
DTEND;TZID=America/Chicago:20240422T194500
DTSTAMP:20260425T053007
CREATED:20240327T011400Z
LAST-MODIFIED:20240327T011400Z
UID:10002234-1713810600-1713815100@www.calvary-rochester.org
SUMMARY:Acts of the Apostles Study
DESCRIPTION:What came after Jesus’ post-resurrection appearances to his disciples? What happened to those disciples\, and how did we evolve from a small band of Jews following Jesus to being called Christians? You are invited to a study of the Acts of the Apostles – a book of the Bible that we read in worship throughout the Great Fifty Days of Easter\, but don’t really spend much time with. As St. Luke’s “second chapter” after his gospel account of Jesus’ life\, the story of the Acts of the Apostles is the natural study to follow our study of the Gospel according to Luke that we did last fall. Bishop Loya has invited all of us in the Episcopal Church in Minnesota to study Acts during this Eastertide.\n\nWe will begin on Monday\, April 15\, and meet together\, all on Zoom\, every Monday through May 20 from 6:30pm to 7:45-ish.  Two resources are recommended: Acts (Interpretation Bible Studies)\, by Charles C. Williamson and Acts from Scratch\, by Donald L. Griggs and Paul W. Waleskey. We will also use our Bibles!\n\nIf you are interested in this study\, please email Rev. Beth at rector@calvary-rochester.org\, so that you can receive the Zoom link.
URL:https://www.calvary-rochester.org/event/acts-of-the-apostles-study/2024-04-22/
LOCATION:Online
CATEGORIES:Formation,Home
ATTACH;FMTTYPE=image/png:https://www.calvary-rochester.org/wp-content/uploads/2024/03/Acts-Study-FB.png
ORGANIZER;CN="Calvary Episcopal Church":MAILTO:office@calvary-rochester.org
END:VEVENT
BEGIN:VEVENT
DTSTART;TZID=America/Chicago:20240427T100000
DTEND;TZID=America/Chicago:20240427T110000
DTSTAMP:20260425T053007
CREATED:20240424T004858Z
LAST-MODIFIED:20240424T004858Z
UID:10002239-1714212000-1714215600@www.calvary-rochester.org
SUMMARY:Litter Bit Better
DESCRIPTION:Calvary has signed up to participate in the Litter Bit Better Spring Clean Up Event with the city on April 27\, 2024\, at 10:00 am at St. Mary’s Park. This is a wonderful chance to participate positively in our community and we look forward to seeing you there!
URL:https://www.calvary-rochester.org/event/litter-bit-better/
LOCATION:St. Mary’s Park\, 901 4th Street SW\, Rochester\, MN\, 55904\, United States
CATEGORIES:Community,Formation,Home
ATTACH;FMTTYPE=image/png:https://www.calvary-rochester.org/wp-content/uploads/2024/04/Litter-Bit-Better-FB.png
ORGANIZER;CN="Calvary Episcopal Church":MAILTO:office@calvary-rochester.org
END:VEVENT
BEGIN:VEVENT
DTSTART;TZID=America/Chicago:20240428T091500
DTEND;TZID=America/Chicago:20240428T101500
DTSTAMP:20260425T053007
CREATED:20240424T010510Z
LAST-MODIFIED:20240424T014835Z
UID:10002240-1714295700-1714299300@www.calvary-rochester.org
SUMMARY:Children's Church
DESCRIPTION:April 28\, 2024\, is a Children’s Church Day! Please bring your children to join in with fun activities as we learn about Philip and the Ethiopian and how God is the vine and we are the branches!
URL:https://www.calvary-rochester.org/event/childrens-church-3/
LOCATION:Calvary Episcopal Church\, 111 Third Avenue SW\, Rochester\, MN\, 55902
CATEGORIES:Formation,Home
ATTACH;FMTTYPE=image/png:https://www.calvary-rochester.org/wp-content/uploads/2024/04/April-Childrens-Church-FB-1.png
ORGANIZER;CN="Calvary Episcopal Church":MAILTO:office@calvary-rochester.org
GEO:40.602991;-73.959517
X-APPLE-STRUCTURED-LOCATION;VALUE=URI;X-ADDRESS=Calvary Episcopal Church 111 Third Avenue SW Rochester MN 55902;X-APPLE-RADIUS=500;X-TITLE=111 Third Avenue SW:geo:-73.959517,40.602991
END:VEVENT
BEGIN:VEVENT
DTSTART;TZID=America/Chicago:20240429T183000
DTEND;TZID=America/Chicago:20240429T194500
DTSTAMP:20260425T053007
CREATED:20240327T011400Z
LAST-MODIFIED:20240327T011400Z
UID:10002235-1714415400-1714419900@www.calvary-rochester.org
SUMMARY:Acts of the Apostles Study
DESCRIPTION:What came after Jesus’ post-resurrection appearances to his disciples? What happened to those disciples\, and how did we evolve from a small band of Jews following Jesus to being called Christians? You are invited to a study of the Acts of the Apostles – a book of the Bible that we read in worship throughout the Great Fifty Days of Easter\, but don’t really spend much time with. As St. Luke’s “second chapter” after his gospel account of Jesus’ life\, the story of the Acts of the Apostles is the natural study to follow our study of the Gospel according to Luke that we did last fall. Bishop Loya has invited all of us in the Episcopal Church in Minnesota to study Acts during this Eastertide.\n\nWe will begin on Monday\, April 15\, and meet together\, all on Zoom\, every Monday through May 20 from 6:30pm to 7:45-ish.  Two resources are recommended: Acts (Interpretation Bible Studies)\, by Charles C. Williamson and Acts from Scratch\, by Donald L. Griggs and Paul W. Waleskey. We will also use our Bibles!\n\nIf you are interested in this study\, please email Rev. Beth at rector@calvary-rochester.org\, so that you can receive the Zoom link.
URL:https://www.calvary-rochester.org/event/acts-of-the-apostles-study/2024-04-29/
LOCATION:Online
CATEGORIES:Formation,Home
ATTACH;FMTTYPE=image/png:https://www.calvary-rochester.org/wp-content/uploads/2024/03/Acts-Study-FB.png
ORGANIZER;CN="Calvary Episcopal Church":MAILTO:office@calvary-rochester.org
END:VEVENT
END:VCALENDAR