BEGIN:VCALENDAR
VERSION:2.0
PRODID:-//Calvary Episcopal Church - ECPv6.15.20//NONSGML v1.0//EN
CALSCALE:GREGORIAN
METHOD:PUBLISH
X-WR-CALNAME:Calvary Episcopal Church
X-ORIGINAL-URL:https://www.calvary-rochester.org
X-WR-CALDESC:Events for Calvary Episcopal Church
REFRESH-INTERVAL;VALUE=DURATION:PT1H
X-Robots-Tag:noindex
X-PUBLISHED-TTL:PT1H
BEGIN:VTIMEZONE
TZID:America/Chicago
BEGIN:DAYLIGHT
TZOFFSETFROM:-0600
TZOFFSETTO:-0500
TZNAME:CDT
DTSTART:20230312T080000
END:DAYLIGHT
BEGIN:STANDARD
TZOFFSETFROM:-0500
TZOFFSETTO:-0600
TZNAME:CST
DTSTART:20231105T070000
END:STANDARD
BEGIN:DAYLIGHT
TZOFFSETFROM:-0600
TZOFFSETTO:-0500
TZNAME:CDT
DTSTART:20240310T080000
END:DAYLIGHT
BEGIN:STANDARD
TZOFFSETFROM:-0500
TZOFFSETTO:-0600
TZNAME:CST
DTSTART:20241103T070000
END:STANDARD
BEGIN:DAYLIGHT
TZOFFSETFROM:-0600
TZOFFSETTO:-0500
TZNAME:CDT
DTSTART:20250309T080000
END:DAYLIGHT
BEGIN:STANDARD
TZOFFSETFROM:-0500
TZOFFSETTO:-0600
TZNAME:CST
DTSTART:20251102T070000
END:STANDARD
END:VTIMEZONE
BEGIN:VEVENT
DTSTART;TZID=America/Chicago:20240504T130000
DTEND;TZID=America/Chicago:20240504T150000
DTSTAMP:20260425T053005
CREATED:20240424T013040Z
LAST-MODIFIED:20240424T013040Z
UID:10002242-1714827600-1714834800@www.calvary-rochester.org
SUMMARY:Teacher Appreciation Preparation
DESCRIPTION:Parents\, please save the dates of May 4\, 2024\, at 1:00 pm – 3:00 pm and May 5\, 2024\, 11:30 – 12:30 pm. We are planning a special meal to say thank you to the teachers who have worked so tirelessly over the past school year and who have so willingly volunteered their time for the children/teens at our church. Thus\, the Middle Schoolers and any High Schoolers who want to join in will be meeting on May 4th at 1:00 pm in the kitchen to make food for the next day\, and will supervise the younger kids in setting up and serving the teachers\, class helpers\, and  their significant others if they choose. The menu will be: soup\, salad\, homemade bread or dinner rolls and a dessert. May 5th will also be the End-of-Year party for the kids\, so it will be a busy day! Will be sending out a Sign-Up for ingredients next week so keep an eye out for it!
URL:https://www.calvary-rochester.org/event/teacher-appreciation-preparation/
LOCATION:Calvary Episcopal Church\, 111 Third Avenue SW\, Rochester\, MN\, 55902
CATEGORIES:Food,Formation,Home
ATTACH;FMTTYPE=image/png:https://www.calvary-rochester.org/wp-content/uploads/2024/04/TAP-FB.png
ORGANIZER;CN="Calvary Episcopal Church":MAILTO:office@calvary-rochester.org
GEO:40.602991;-73.959517
X-APPLE-STRUCTURED-LOCATION;VALUE=URI;X-ADDRESS=Calvary Episcopal Church 111 Third Avenue SW Rochester MN 55902;X-APPLE-RADIUS=500;X-TITLE=111 Third Avenue SW:geo:-73.959517,40.602991
END:VEVENT
BEGIN:VEVENT
DTSTART;TZID=America/Chicago:20240505T091500
DTEND;TZID=America/Chicago:20240505T101500
DTSTAMP:20260425T053005
CREATED:20240424T012434Z
LAST-MODIFIED:20240424T012434Z
UID:10002241-1714900500-1714904100@www.calvary-rochester.org
SUMMARY:Children's Formation End-of-Year Party
DESCRIPTION:Join us as we participate in fun games for the younger kids\, an ugly t-shirt contest for the older kids\, and for those who want they are welcome to bring a football along to throw around as well. Best of all\, there will be an ice cream bar at the end which will include the traditional favorite – Cookie Monster!!
URL:https://www.calvary-rochester.org/event/childrens-formation-end-of-year-party/
LOCATION:Calvary Episcopal Church\, 111 Third Avenue SW\, Rochester\, MN\, 55902
CATEGORIES:Formation,Home
ATTACH;FMTTYPE=image/png:https://www.calvary-rochester.org/wp-content/uploads/2024/04/EOYP-FB.png
ORGANIZER;CN="Calvary Episcopal Church":MAILTO:office@calvary-rochester.org
GEO:40.602991;-73.959517
X-APPLE-STRUCTURED-LOCATION;VALUE=URI;X-ADDRESS=Calvary Episcopal Church 111 Third Avenue SW Rochester MN 55902;X-APPLE-RADIUS=500;X-TITLE=111 Third Avenue SW:geo:-73.959517,40.602991
END:VEVENT
BEGIN:VEVENT
DTSTART;TZID=America/Chicago:20240505T113000
DTEND;TZID=America/Chicago:20240505T123000
DTSTAMP:20260425T053005
CREATED:20240424T020537Z
LAST-MODIFIED:20240424T020537Z
UID:10002244-1714908600-1714912200@www.calvary-rochester.org
SUMMARY:Teacher Appreciation Day
DESCRIPTION:Parents\, please save the dates of May 4\, 2024\, at 1:00 pm – 3:00 pm and May 5\, 2024\, 11:30 – 12:30 pm. We are planning a special meal to say thank you to the teachers who have worked so tirelessly over the past school year and who have so willingly volunteered their time for the children/teens at our church. Thus\, the Middle Schoolers and any High Schoolers who want to join in will be meeting on May 4th at 1:00 pm in the kitchen to make food for the next day\, and will supervise the younger kids in setting up and serving the teachers\, class helpers\, and their significant others if they choose. The menu will be: soup\, salad\, homemade bread or dinner rolls and a dessert. May 5th will also be the End-of-Year party for the kids\, so it will be a busy day! Will be sending out a Sign-Up for ingredients next week so keep an eye out for it!
URL:https://www.calvary-rochester.org/event/teacher-appreciation-day/
LOCATION:Calvary Episcopal Church\, 111 Third Avenue SW\, Rochester\, MN\, 55902
CATEGORIES:Food,Formation,Home
ATTACH;FMTTYPE=image/png:https://www.calvary-rochester.org/wp-content/uploads/2024/04/TAD-FB.png
ORGANIZER;CN="Calvary Episcopal Church":MAILTO:office@calvary-rochester.org
GEO:40.602991;-73.959517
X-APPLE-STRUCTURED-LOCATION;VALUE=URI;X-ADDRESS=Calvary Episcopal Church 111 Third Avenue SW Rochester MN 55902;X-APPLE-RADIUS=500;X-TITLE=111 Third Avenue SW:geo:-73.959517,40.602991
END:VEVENT
BEGIN:VEVENT
DTSTART;TZID=America/Chicago:20240506T183000
DTEND;TZID=America/Chicago:20240506T194500
DTSTAMP:20260425T053005
CREATED:20240327T011400Z
LAST-MODIFIED:20240327T011400Z
UID:10002236-1715020200-1715024700@www.calvary-rochester.org
SUMMARY:Acts of the Apostles Study
DESCRIPTION:What came after Jesus’ post-resurrection appearances to his disciples? What happened to those disciples\, and how did we evolve from a small band of Jews following Jesus to being called Christians? You are invited to a study of the Acts of the Apostles – a book of the Bible that we read in worship throughout the Great Fifty Days of Easter\, but don’t really spend much time with. As St. Luke’s “second chapter” after his gospel account of Jesus’ life\, the story of the Acts of the Apostles is the natural study to follow our study of the Gospel according to Luke that we did last fall. Bishop Loya has invited all of us in the Episcopal Church in Minnesota to study Acts during this Eastertide.\n\nWe will begin on Monday\, April 15\, and meet together\, all on Zoom\, every Monday through May 20 from 6:30pm to 7:45-ish.  Two resources are recommended: Acts (Interpretation Bible Studies)\, by Charles C. Williamson and Acts from Scratch\, by Donald L. Griggs and Paul W. Waleskey. We will also use our Bibles!\n\nIf you are interested in this study\, please email Rev. Beth at rector@calvary-rochester.org\, so that you can receive the Zoom link.
URL:https://www.calvary-rochester.org/event/acts-of-the-apostles-study/2024-05-06/
LOCATION:Online
CATEGORIES:Formation,Home
ATTACH;FMTTYPE=image/png:https://www.calvary-rochester.org/wp-content/uploads/2024/03/Acts-Study-FB.png
ORGANIZER;CN="Calvary Episcopal Church":MAILTO:office@calvary-rochester.org
END:VEVENT
BEGIN:VEVENT
DTSTART;TZID=America/Chicago:20240512T093000
DTEND;TZID=America/Chicago:20240512T101500
DTSTAMP:20260425T053005
CREATED:20240501T124506Z
LAST-MODIFIED:20240501T124506Z
UID:10002245-1715506200-1715508900@www.calvary-rochester.org
SUMMARY:Parish Meeting
DESCRIPTION:All are invited to a parish meeting from 9:30 to 10:15 am on Sunday\, May 12\, in Crawford Hall. This will give everyone time to grab a cup of coffee and a doughnut and head upstairs for an update on the parking plan during the initial stages of the Mayo Expansion project\, as well as a few other updates from the “Nuts and Bolts” Team of the Calvary response. The meeting will not be livestreamed. 
URL:https://www.calvary-rochester.org/event/parish-meeting-2/
LOCATION:Calvary Episcopal Church\, 111 Third Avenue SW\, Rochester\, MN\, 55902
CATEGORIES:Fellowship,Formation,Home
ATTACH;FMTTYPE=image/png:https://www.calvary-rochester.org/wp-content/uploads/2024/05/Parish-Meeting-May-FB.png
ORGANIZER;CN="Calvary Episcopal Church":MAILTO:office@calvary-rochester.org
GEO:40.602991;-73.959517
X-APPLE-STRUCTURED-LOCATION;VALUE=URI;X-ADDRESS=Calvary Episcopal Church 111 Third Avenue SW Rochester MN 55902;X-APPLE-RADIUS=500;X-TITLE=111 Third Avenue SW:geo:-73.959517,40.602991
END:VEVENT
BEGIN:VEVENT
DTSTART;TZID=America/Chicago:20240513T183000
DTEND;TZID=America/Chicago:20240513T194500
DTSTAMP:20260425T053005
CREATED:20240327T011400Z
LAST-MODIFIED:20240327T011400Z
UID:10002237-1715625000-1715629500@www.calvary-rochester.org
SUMMARY:Acts of the Apostles Study
DESCRIPTION:What came after Jesus’ post-resurrection appearances to his disciples? What happened to those disciples\, and how did we evolve from a small band of Jews following Jesus to being called Christians? You are invited to a study of the Acts of the Apostles – a book of the Bible that we read in worship throughout the Great Fifty Days of Easter\, but don’t really spend much time with. As St. Luke’s “second chapter” after his gospel account of Jesus’ life\, the story of the Acts of the Apostles is the natural study to follow our study of the Gospel according to Luke that we did last fall. Bishop Loya has invited all of us in the Episcopal Church in Minnesota to study Acts during this Eastertide.\n\nWe will begin on Monday\, April 15\, and meet together\, all on Zoom\, every Monday through May 20 from 6:30pm to 7:45-ish.  Two resources are recommended: Acts (Interpretation Bible Studies)\, by Charles C. Williamson and Acts from Scratch\, by Donald L. Griggs and Paul W. Waleskey. We will also use our Bibles!\n\nIf you are interested in this study\, please email Rev. Beth at rector@calvary-rochester.org\, so that you can receive the Zoom link.
URL:https://www.calvary-rochester.org/event/acts-of-the-apostles-study/2024-05-13/
LOCATION:Online
CATEGORIES:Formation,Home
ATTACH;FMTTYPE=image/png:https://www.calvary-rochester.org/wp-content/uploads/2024/03/Acts-Study-FB.png
ORGANIZER;CN="Calvary Episcopal Church":MAILTO:office@calvary-rochester.org
END:VEVENT
BEGIN:VEVENT
DTSTART;TZID=America/Chicago:20240520T183000
DTEND;TZID=America/Chicago:20240520T194500
DTSTAMP:20260425T053005
CREATED:20240327T011400Z
LAST-MODIFIED:20240327T011400Z
UID:10002238-1716229800-1716234300@www.calvary-rochester.org
SUMMARY:Acts of the Apostles Study
DESCRIPTION:What came after Jesus’ post-resurrection appearances to his disciples? What happened to those disciples\, and how did we evolve from a small band of Jews following Jesus to being called Christians? You are invited to a study of the Acts of the Apostles – a book of the Bible that we read in worship throughout the Great Fifty Days of Easter\, but don’t really spend much time with. As St. Luke’s “second chapter” after his gospel account of Jesus’ life\, the story of the Acts of the Apostles is the natural study to follow our study of the Gospel according to Luke that we did last fall. Bishop Loya has invited all of us in the Episcopal Church in Minnesota to study Acts during this Eastertide.\n\nWe will begin on Monday\, April 15\, and meet together\, all on Zoom\, every Monday through May 20 from 6:30pm to 7:45-ish.  Two resources are recommended: Acts (Interpretation Bible Studies)\, by Charles C. Williamson and Acts from Scratch\, by Donald L. Griggs and Paul W. Waleskey. We will also use our Bibles!\n\nIf you are interested in this study\, please email Rev. Beth at rector@calvary-rochester.org\, so that you can receive the Zoom link.
URL:https://www.calvary-rochester.org/event/acts-of-the-apostles-study/2024-05-20/
LOCATION:Online
CATEGORIES:Formation,Home
ATTACH;FMTTYPE=image/png:https://www.calvary-rochester.org/wp-content/uploads/2024/03/Acts-Study-FB.png
ORGANIZER;CN="Calvary Episcopal Church":MAILTO:office@calvary-rochester.org
END:VEVENT
END:VCALENDAR