BEGIN:VCALENDAR
VERSION:2.0
PRODID:-//Calvary Episcopal Church - ECPv6.15.20//NONSGML v1.0//EN
CALSCALE:GREGORIAN
METHOD:PUBLISH
X-ORIGINAL-URL:https://www.calvary-rochester.org
X-WR-CALDESC:Events for Calvary Episcopal Church
REFRESH-INTERVAL;VALUE=DURATION:PT1H
X-Robots-Tag:noindex
X-PUBLISHED-TTL:PT1H
BEGIN:VTIMEZONE
TZID:America/Chicago
BEGIN:DAYLIGHT
TZOFFSETFROM:-0600
TZOFFSETTO:-0500
TZNAME:CDT
DTSTART:20230312T080000
END:DAYLIGHT
BEGIN:STANDARD
TZOFFSETFROM:-0500
TZOFFSETTO:-0600
TZNAME:CST
DTSTART:20231105T070000
END:STANDARD
BEGIN:DAYLIGHT
TZOFFSETFROM:-0600
TZOFFSETTO:-0500
TZNAME:CDT
DTSTART:20240310T080000
END:DAYLIGHT
BEGIN:STANDARD
TZOFFSETFROM:-0500
TZOFFSETTO:-0600
TZNAME:CST
DTSTART:20241103T070000
END:STANDARD
BEGIN:DAYLIGHT
TZOFFSETFROM:-0600
TZOFFSETTO:-0500
TZNAME:CDT
DTSTART:20250309T080000
END:DAYLIGHT
BEGIN:STANDARD
TZOFFSETFROM:-0500
TZOFFSETTO:-0600
TZNAME:CST
DTSTART:20251102T070000
END:STANDARD
END:VTIMEZONE
BEGIN:VEVENT
DTSTART;TZID=America/Chicago:20240804T091500
DTEND;TZID=America/Chicago:20240804T103000
DTSTAMP:20260424T225929
CREATED:20240618T205140Z
LAST-MODIFIED:20240618T205140Z
UID:10002352-1722762900-1722767400@www.calvary-rochester.org
SUMMARY:Adult Enquirers Class
DESCRIPTION:If you are interested in confirmation or reception into The Episcopal Church\, or reaffirmation of your faith journey\, an adult enquirers class will be offered by the rector on Sunday mornings in August from 9:15 am to 10:15 am\, in anticipation of Bishop Loya’s visit to Calvary on Holy Cross Sunday\, September 15.\n\nPlease let Rev. Beth know if you are interested in this offering as soon as possible by emailing her at rector@calvary-rochester.org or calling the church office at 507-282-9429. If you would just like to learn more about The Episcopal Church\, this class is for you\, too.
URL:https://www.calvary-rochester.org/event/adult-enquirers-class/2024-08-04/
LOCATION:Calvary Episcopal Church\, 111 Third Avenue SW\, Rochester\, MN\, 55902
CATEGORIES:Formation,Home
ATTACH;FMTTYPE=image/png:https://www.calvary-rochester.org/wp-content/uploads/2024/06/AEC-FB.png
ORGANIZER;CN="Calvary Episcopal Church":MAILTO:office@calvary-rochester.org
GEO:40.602991;-73.959517
X-APPLE-STRUCTURED-LOCATION;VALUE=URI;X-ADDRESS=Calvary Episcopal Church 111 Third Avenue SW Rochester MN 55902;X-APPLE-RADIUS=500;X-TITLE=111 Third Avenue SW:geo:-73.959517,40.602991
END:VEVENT
BEGIN:VEVENT
DTSTART;TZID=America/Chicago:20240804T160000
DTEND;TZID=America/Chicago:20240804T170000
DTSTAMP:20260424T225929
CREATED:20240618T204204Z
LAST-MODIFIED:20240618T204205Z
UID:10002348-1722787200-1722790800@www.calvary-rochester.org
SUMMARY:Confirmation Class
DESCRIPTION:Bishop Loya will be making his official visit to Calvary on Holy Cross Sunday\, September 15. Part of our worship celebration with the Bishop will be the liturgy of confirmation\, reception\, and reaffirmation. \nA confirmation class for all 9th – 12th graders who have not yet been confirmed will be offered on the four Sundays of August: August 4\, 11\, 18\, and 25 from 4:00 pm to 5:00 pm (with snacks!) in preparation for the bishop’s visit. If you would like your young family member to be a part of that class\, please email Rev. Beth as soon as possible at rector@calvary-rochester.org\, or call the church office at 507-282-9429.
URL:https://www.calvary-rochester.org/event/confirmation-class/2024-08-04/
LOCATION:Calvary Episcopal Church\, 111 Third Avenue SW\, Rochester\, MN\, 55902
CATEGORIES:Formation,Home
ATTACH;FMTTYPE=image/png:https://www.calvary-rochester.org/wp-content/uploads/2024/06/Confirmation-FB.png
ORGANIZER;CN="Calvary Episcopal Church":MAILTO:office@calvary-rochester.org
GEO:40.602991;-73.959517
X-APPLE-STRUCTURED-LOCATION;VALUE=URI;X-ADDRESS=Calvary Episcopal Church 111 Third Avenue SW Rochester MN 55902;X-APPLE-RADIUS=500;X-TITLE=111 Third Avenue SW:geo:-73.959517,40.602991
END:VEVENT
BEGIN:VEVENT
DTSTART;TZID=America/Chicago:20240811T091500
DTEND;TZID=America/Chicago:20240811T101500
DTSTAMP:20260424T225930
CREATED:20240717T142055Z
LAST-MODIFIED:20240717T142056Z
UID:10002357-1723367700-1723371300@www.calvary-rochester.org
SUMMARY:Stained Glass Windows Forum
DESCRIPTION:Join us Sunday\, August 11\, at 9:15 am in Crawford Hall for an update on efforts to protect Calvary’s stained glass windows during Mayo Clinic’s Bold\, Forward\, Unbound project. Al Palmer\, owner of Gaytee-Palmer Stained Glass Studios in Minneapolis\, will provide an overview of the process for removing\, conserving\, and restoring this important part of Calvary’s heritage and worship experience.
URL:https://www.calvary-rochester.org/event/stained-glass-windows-forum/
LOCATION:Calvary Episcopal Church\, 111 Third Avenue SW\, Rochester\, MN\, 55902
CATEGORIES:Fellowship,Formation,Home
ATTACH;FMTTYPE=image/png:https://www.calvary-rochester.org/wp-content/uploads/2024/07/Stained-Glass-Windows-Forum-FB.png
ORGANIZER;CN="Calvary Episcopal Church":MAILTO:office@calvary-rochester.org
GEO:40.602991;-73.959517
X-APPLE-STRUCTURED-LOCATION;VALUE=URI;X-ADDRESS=Calvary Episcopal Church 111 Third Avenue SW Rochester MN 55902;X-APPLE-RADIUS=500;X-TITLE=111 Third Avenue SW:geo:-73.959517,40.602991
END:VEVENT
BEGIN:VEVENT
DTSTART;TZID=America/Chicago:20240811T091500
DTEND;TZID=America/Chicago:20240811T103000
DTSTAMP:20260424T225930
CREATED:20240618T205140Z
LAST-MODIFIED:20240618T205140Z
UID:10002353-1723367700-1723372200@www.calvary-rochester.org
SUMMARY:Adult Enquirers Class
DESCRIPTION:If you are interested in confirmation or reception into The Episcopal Church\, or reaffirmation of your faith journey\, an adult enquirers class will be offered by the rector on Sunday mornings in August from 9:15 am to 10:15 am\, in anticipation of Bishop Loya’s visit to Calvary on Holy Cross Sunday\, September 15.\n\nPlease let Rev. Beth know if you are interested in this offering as soon as possible by emailing her at rector@calvary-rochester.org or calling the church office at 507-282-9429. If you would just like to learn more about The Episcopal Church\, this class is for you\, too.
URL:https://www.calvary-rochester.org/event/adult-enquirers-class/2024-08-11/
LOCATION:Calvary Episcopal Church\, 111 Third Avenue SW\, Rochester\, MN\, 55902
CATEGORIES:Formation,Home
ATTACH;FMTTYPE=image/png:https://www.calvary-rochester.org/wp-content/uploads/2024/06/AEC-FB.png
ORGANIZER;CN="Calvary Episcopal Church":MAILTO:office@calvary-rochester.org
GEO:40.602991;-73.959517
X-APPLE-STRUCTURED-LOCATION;VALUE=URI;X-ADDRESS=Calvary Episcopal Church 111 Third Avenue SW Rochester MN 55902;X-APPLE-RADIUS=500;X-TITLE=111 Third Avenue SW:geo:-73.959517,40.602991
END:VEVENT
BEGIN:VEVENT
DTSTART;TZID=America/Chicago:20240811T160000
DTEND;TZID=America/Chicago:20240811T170000
DTSTAMP:20260424T225930
CREATED:20240618T204204Z
LAST-MODIFIED:20240618T204205Z
UID:10002349-1723392000-1723395600@www.calvary-rochester.org
SUMMARY:Confirmation Class
DESCRIPTION:Bishop Loya will be making his official visit to Calvary on Holy Cross Sunday\, September 15. Part of our worship celebration with the Bishop will be the liturgy of confirmation\, reception\, and reaffirmation. \nA confirmation class for all 9th – 12th graders who have not yet been confirmed will be offered on the four Sundays of August: August 4\, 11\, 18\, and 25 from 4:00 pm to 5:00 pm (with snacks!) in preparation for the bishop’s visit. If you would like your young family member to be a part of that class\, please email Rev. Beth as soon as possible at rector@calvary-rochester.org\, or call the church office at 507-282-9429.
URL:https://www.calvary-rochester.org/event/confirmation-class/2024-08-11/
LOCATION:Calvary Episcopal Church\, 111 Third Avenue SW\, Rochester\, MN\, 55902
CATEGORIES:Formation,Home
ATTACH;FMTTYPE=image/png:https://www.calvary-rochester.org/wp-content/uploads/2024/06/Confirmation-FB.png
ORGANIZER;CN="Calvary Episcopal Church":MAILTO:office@calvary-rochester.org
GEO:40.602991;-73.959517
X-APPLE-STRUCTURED-LOCATION;VALUE=URI;X-ADDRESS=Calvary Episcopal Church 111 Third Avenue SW Rochester MN 55902;X-APPLE-RADIUS=500;X-TITLE=111 Third Avenue SW:geo:-73.959517,40.602991
END:VEVENT
BEGIN:VEVENT
DTSTART;TZID=America/Chicago:20240818T091500
DTEND;TZID=America/Chicago:20240818T103000
DTSTAMP:20260424T225930
CREATED:20240618T205140Z
LAST-MODIFIED:20240618T205140Z
UID:10002354-1723972500-1723977000@www.calvary-rochester.org
SUMMARY:Adult Enquirers Class
DESCRIPTION:If you are interested in confirmation or reception into The Episcopal Church\, or reaffirmation of your faith journey\, an adult enquirers class will be offered by the rector on Sunday mornings in August from 9:15 am to 10:15 am\, in anticipation of Bishop Loya’s visit to Calvary on Holy Cross Sunday\, September 15.\n\nPlease let Rev. Beth know if you are interested in this offering as soon as possible by emailing her at rector@calvary-rochester.org or calling the church office at 507-282-9429. If you would just like to learn more about The Episcopal Church\, this class is for you\, too.
URL:https://www.calvary-rochester.org/event/adult-enquirers-class/2024-08-18/
LOCATION:Calvary Episcopal Church\, 111 Third Avenue SW\, Rochester\, MN\, 55902
CATEGORIES:Formation,Home
ATTACH;FMTTYPE=image/png:https://www.calvary-rochester.org/wp-content/uploads/2024/06/AEC-FB.png
ORGANIZER;CN="Calvary Episcopal Church":MAILTO:office@calvary-rochester.org
GEO:40.602991;-73.959517
X-APPLE-STRUCTURED-LOCATION;VALUE=URI;X-ADDRESS=Calvary Episcopal Church 111 Third Avenue SW Rochester MN 55902;X-APPLE-RADIUS=500;X-TITLE=111 Third Avenue SW:geo:-73.959517,40.602991
END:VEVENT
BEGIN:VEVENT
DTSTART;TZID=America/Chicago:20240818T160000
DTEND;TZID=America/Chicago:20240818T170000
DTSTAMP:20260424T225930
CREATED:20240618T204204Z
LAST-MODIFIED:20240618T204205Z
UID:10002350-1723996800-1724000400@www.calvary-rochester.org
SUMMARY:Confirmation Class
DESCRIPTION:Bishop Loya will be making his official visit to Calvary on Holy Cross Sunday\, September 15. Part of our worship celebration with the Bishop will be the liturgy of confirmation\, reception\, and reaffirmation. \nA confirmation class for all 9th – 12th graders who have not yet been confirmed will be offered on the four Sundays of August: August 4\, 11\, 18\, and 25 from 4:00 pm to 5:00 pm (with snacks!) in preparation for the bishop’s visit. If you would like your young family member to be a part of that class\, please email Rev. Beth as soon as possible at rector@calvary-rochester.org\, or call the church office at 507-282-9429.
URL:https://www.calvary-rochester.org/event/confirmation-class/2024-08-18/
LOCATION:Calvary Episcopal Church\, 111 Third Avenue SW\, Rochester\, MN\, 55902
CATEGORIES:Formation,Home
ATTACH;FMTTYPE=image/png:https://www.calvary-rochester.org/wp-content/uploads/2024/06/Confirmation-FB.png
ORGANIZER;CN="Calvary Episcopal Church":MAILTO:office@calvary-rochester.org
GEO:40.602991;-73.959517
X-APPLE-STRUCTURED-LOCATION;VALUE=URI;X-ADDRESS=Calvary Episcopal Church 111 Third Avenue SW Rochester MN 55902;X-APPLE-RADIUS=500;X-TITLE=111 Third Avenue SW:geo:-73.959517,40.602991
END:VEVENT
BEGIN:VEVENT
DTSTART;TZID=America/Chicago:20240825T091500
DTEND;TZID=America/Chicago:20240825T103000
DTSTAMP:20260424T225930
CREATED:20240618T205140Z
LAST-MODIFIED:20240618T205140Z
UID:10002355-1724577300-1724581800@www.calvary-rochester.org
SUMMARY:Adult Enquirers Class
DESCRIPTION:If you are interested in confirmation or reception into The Episcopal Church\, or reaffirmation of your faith journey\, an adult enquirers class will be offered by the rector on Sunday mornings in August from 9:15 am to 10:15 am\, in anticipation of Bishop Loya’s visit to Calvary on Holy Cross Sunday\, September 15.\n\nPlease let Rev. Beth know if you are interested in this offering as soon as possible by emailing her at rector@calvary-rochester.org or calling the church office at 507-282-9429. If you would just like to learn more about The Episcopal Church\, this class is for you\, too.
URL:https://www.calvary-rochester.org/event/adult-enquirers-class/2024-08-25/
LOCATION:Calvary Episcopal Church\, 111 Third Avenue SW\, Rochester\, MN\, 55902
CATEGORIES:Formation,Home
ATTACH;FMTTYPE=image/png:https://www.calvary-rochester.org/wp-content/uploads/2024/06/AEC-FB.png
ORGANIZER;CN="Calvary Episcopal Church":MAILTO:office@calvary-rochester.org
GEO:40.602991;-73.959517
X-APPLE-STRUCTURED-LOCATION;VALUE=URI;X-ADDRESS=Calvary Episcopal Church 111 Third Avenue SW Rochester MN 55902;X-APPLE-RADIUS=500;X-TITLE=111 Third Avenue SW:geo:-73.959517,40.602991
END:VEVENT
BEGIN:VEVENT
DTSTART;TZID=America/Chicago:20240825T091500
DTEND;TZID=America/Chicago:20240825T103000
DTSTAMP:20260424T225930
CREATED:20240814T011032Z
LAST-MODIFIED:20240814T011032Z
UID:10002360-1724577300-1724581800@www.calvary-rochester.org
SUMMARY:Parents Meeting - New to Formation
DESCRIPTION:Welcome back from all your summer ventures! I hope you have all had a restful time! We will be resuming children’s formation on Sunday\, September 15\, at 9:15 am with Sunday School registration on September 8\, also at 9:15 am. For parents new to formation or those who have questions\, I will be holding a parent meeting on Sunday\, August 25\, in Crawford Hall at 9:15 am. We are excited to see everyone after our summer away!
URL:https://www.calvary-rochester.org/event/parents-meeting-new-to-formation/
LOCATION:Calvary Episcopal Church\, 111 Third Avenue SW\, Rochester\, MN\, 55902
CATEGORIES:Formation,Home
ATTACH;FMTTYPE=image/png:https://www.calvary-rochester.org/wp-content/uploads/2024/08/Parents-Meeting-FB.png
ORGANIZER;CN="Calvary Episcopal Church":MAILTO:office@calvary-rochester.org
GEO:40.602991;-73.959517
X-APPLE-STRUCTURED-LOCATION;VALUE=URI;X-ADDRESS=Calvary Episcopal Church 111 Third Avenue SW Rochester MN 55902;X-APPLE-RADIUS=500;X-TITLE=111 Third Avenue SW:geo:-73.959517,40.602991
END:VEVENT
BEGIN:VEVENT
DTSTART;TZID=America/Chicago:20240825T160000
DTEND;TZID=America/Chicago:20240825T170000
DTSTAMP:20260424T225930
CREATED:20240618T204204Z
LAST-MODIFIED:20240618T204205Z
UID:10002351-1724601600-1724605200@www.calvary-rochester.org
SUMMARY:Confirmation Class
DESCRIPTION:Bishop Loya will be making his official visit to Calvary on Holy Cross Sunday\, September 15. Part of our worship celebration with the Bishop will be the liturgy of confirmation\, reception\, and reaffirmation. \nA confirmation class for all 9th – 12th graders who have not yet been confirmed will be offered on the four Sundays of August: August 4\, 11\, 18\, and 25 from 4:00 pm to 5:00 pm (with snacks!) in preparation for the bishop’s visit. If you would like your young family member to be a part of that class\, please email Rev. Beth as soon as possible at rector@calvary-rochester.org\, or call the church office at 507-282-9429.
URL:https://www.calvary-rochester.org/event/confirmation-class/2024-08-25/
LOCATION:Calvary Episcopal Church\, 111 Third Avenue SW\, Rochester\, MN\, 55902
CATEGORIES:Formation,Home
ATTACH;FMTTYPE=image/png:https://www.calvary-rochester.org/wp-content/uploads/2024/06/Confirmation-FB.png
ORGANIZER;CN="Calvary Episcopal Church":MAILTO:office@calvary-rochester.org
GEO:40.602991;-73.959517
X-APPLE-STRUCTURED-LOCATION;VALUE=URI;X-ADDRESS=Calvary Episcopal Church 111 Third Avenue SW Rochester MN 55902;X-APPLE-RADIUS=500;X-TITLE=111 Third Avenue SW:geo:-73.959517,40.602991
END:VEVENT
END:VCALENDAR