BEGIN:VCALENDAR
VERSION:2.0
PRODID:-//Calvary Episcopal Church - ECPv6.15.20//NONSGML v1.0//EN
CALSCALE:GREGORIAN
METHOD:PUBLISH
X-ORIGINAL-URL:https://www.calvary-rochester.org
X-WR-CALDESC:Events for Calvary Episcopal Church
REFRESH-INTERVAL;VALUE=DURATION:PT1H
X-Robots-Tag:noindex
X-PUBLISHED-TTL:PT1H
BEGIN:VTIMEZONE
TZID:America/Chicago
BEGIN:DAYLIGHT
TZOFFSETFROM:-0600
TZOFFSETTO:-0500
TZNAME:CDT
DTSTART:20240310T080000
END:DAYLIGHT
BEGIN:STANDARD
TZOFFSETFROM:-0500
TZOFFSETTO:-0600
TZNAME:CST
DTSTART:20241103T070000
END:STANDARD
BEGIN:DAYLIGHT
TZOFFSETFROM:-0600
TZOFFSETTO:-0500
TZNAME:CDT
DTSTART:20250309T080000
END:DAYLIGHT
BEGIN:STANDARD
TZOFFSETFROM:-0500
TZOFFSETTO:-0600
TZNAME:CST
DTSTART:20251102T070000
END:STANDARD
BEGIN:DAYLIGHT
TZOFFSETFROM:-0600
TZOFFSETTO:-0500
TZNAME:CDT
DTSTART:20260308T080000
END:DAYLIGHT
BEGIN:STANDARD
TZOFFSETFROM:-0500
TZOFFSETTO:-0600
TZNAME:CST
DTSTART:20261101T070000
END:STANDARD
END:VTIMEZONE
BEGIN:VEVENT
DTSTART;TZID=America/Chicago:20250406T091500
DTEND;TZID=America/Chicago:20250406T101500
DTSTAMP:20260424T073442
CREATED:20250303T204538Z
LAST-MODIFIED:20250303T204732Z
UID:10002727-1743930900-1743934500@www.calvary-rochester.org
SUMMARY:Rooted: An Episcopal Discipleship Group with an Introduction to Eucharistic Visitor Training
DESCRIPTION:Please join us in the Larson Fireside Room each Sunday at 9:15 AM for this small group study. The dates will be Sunday\, March 9th through Sunday\, April 13th. (Except for Sunday\, March 16) \nRooted is a course designed on our diocese’s Faith+Lead platform to help Minnesota Episcopalians learn more about the Christian faith and participate more fully in God’s life by engaging in daily spiritual practices. Our hope is that by the end of this course you will not only know more about God and the shape of the Christian life\, but also have a relationship with God\, and with a small group where you will receive and give encouragement\, support\, and accountability. \nIn addition to the Rooted curriculum\, we will be introducing aspects of our Eucharistic Visitor ministry. In addition to learning pastoral care skills\, this will be a great opportunity to learn about an important sacramental ministry to members of our church and to Episcopal hospital patients who come here from all over the world. \nRegistration is not required for this small group. It is something that anyone can participate in. You can attend just one session or all the sessions. Visitors to the church are welcome to attend. For those that do desire to take a deeper dive in the Rooted program or for those who want to express interest in becoming a Eucharistic Visitor\, please send an email to Rev. Nathan at nathanmichaelblack@gmail.com.
URL:https://www.calvary-rochester.org/event/rooted-an-episcopal-discipleship-group-with-an-introduction-to-eucharistic-visitor-training/2025-04-06/
LOCATION:Calvary Episcopal Church\, 111 Third Avenue SW\, Rochester\, MN\, 55902
CATEGORIES:Formation,Home
ATTACH;FMTTYPE=image/png:https://www.calvary-rochester.org/wp-content/uploads/2025/03/Rooted-FB.png
ORGANIZER;CN="Calvary Episcopal Church":MAILTO:office@calvary-rochester.org
GEO:40.602991;-73.959517
X-APPLE-STRUCTURED-LOCATION;VALUE=URI;X-ADDRESS=Calvary Episcopal Church 111 Third Avenue SW Rochester MN 55902;X-APPLE-RADIUS=500;X-TITLE=111 Third Avenue SW:geo:-73.959517,40.602991
END:VEVENT
BEGIN:VEVENT
DTSTART;TZID=America/Chicago:20250406T091500
DTEND;TZID=America/Chicago:20250406T101500
DTSTAMP:20260424T073442
CREATED:20250304T233748Z
LAST-MODIFIED:20250304T233748Z
UID:10002736-1743930900-1743934500@www.calvary-rochester.org
SUMMARY:Children's Formation and Activities
DESCRIPTION:
URL:https://www.calvary-rochester.org/event/childrens-formation-and-activities-4/2025-04-06/
LOCATION:Calvary Episcopal Church\, 111 Third Avenue SW\, Rochester\, MN\, 55902
CATEGORIES:Formation,Holy Week,Home,Worship
ATTACH;FMTTYPE=image/png:https://www.calvary-rochester.org/wp-content/uploads/2025/03/Lent-Formation-FB.png
ORGANIZER;CN="Calvary Episcopal Church":MAILTO:office@calvary-rochester.org
GEO:40.602991;-73.959517
X-APPLE-STRUCTURED-LOCATION;VALUE=URI;X-ADDRESS=Calvary Episcopal Church 111 Third Avenue SW Rochester MN 55902;X-APPLE-RADIUS=500;X-TITLE=111 Third Avenue SW:geo:-73.959517,40.602991
END:VEVENT
BEGIN:VEVENT
DTSTART;TZID=America/Chicago:20250413T091500
DTEND;TZID=America/Chicago:20250413T101500
DTSTAMP:20260424T073442
CREATED:20250303T204538Z
LAST-MODIFIED:20250303T204732Z
UID:10002728-1744535700-1744539300@www.calvary-rochester.org
SUMMARY:Rooted: An Episcopal Discipleship Group with an Introduction to Eucharistic Visitor Training
DESCRIPTION:Please join us in the Larson Fireside Room each Sunday at 9:15 AM for this small group study. The dates will be Sunday\, March 9th through Sunday\, April 13th. (Except for Sunday\, March 16) \nRooted is a course designed on our diocese’s Faith+Lead platform to help Minnesota Episcopalians learn more about the Christian faith and participate more fully in God’s life by engaging in daily spiritual practices. Our hope is that by the end of this course you will not only know more about God and the shape of the Christian life\, but also have a relationship with God\, and with a small group where you will receive and give encouragement\, support\, and accountability. \nIn addition to the Rooted curriculum\, we will be introducing aspects of our Eucharistic Visitor ministry. In addition to learning pastoral care skills\, this will be a great opportunity to learn about an important sacramental ministry to members of our church and to Episcopal hospital patients who come here from all over the world. \nRegistration is not required for this small group. It is something that anyone can participate in. You can attend just one session or all the sessions. Visitors to the church are welcome to attend. For those that do desire to take a deeper dive in the Rooted program or for those who want to express interest in becoming a Eucharistic Visitor\, please send an email to Rev. Nathan at nathanmichaelblack@gmail.com.
URL:https://www.calvary-rochester.org/event/rooted-an-episcopal-discipleship-group-with-an-introduction-to-eucharistic-visitor-training/2025-04-13/
LOCATION:Calvary Episcopal Church\, 111 Third Avenue SW\, Rochester\, MN\, 55902
CATEGORIES:Formation,Home
ATTACH;FMTTYPE=image/png:https://www.calvary-rochester.org/wp-content/uploads/2025/03/Rooted-FB.png
ORGANIZER;CN="Calvary Episcopal Church":MAILTO:office@calvary-rochester.org
GEO:40.602991;-73.959517
X-APPLE-STRUCTURED-LOCATION;VALUE=URI;X-ADDRESS=Calvary Episcopal Church 111 Third Avenue SW Rochester MN 55902;X-APPLE-RADIUS=500;X-TITLE=111 Third Avenue SW:geo:-73.959517,40.602991
END:VEVENT
END:VCALENDAR