BEGIN:VCALENDAR
VERSION:2.0
PRODID:-//Calvary Episcopal Church - ECPv6.15.20//NONSGML v1.0//EN
CALSCALE:GREGORIAN
METHOD:PUBLISH
X-WR-CALNAME:Calvary Episcopal Church
X-ORIGINAL-URL:https://www.calvary-rochester.org
X-WR-CALDESC:Events for Calvary Episcopal Church
REFRESH-INTERVAL;VALUE=DURATION:PT1H
X-Robots-Tag:noindex
X-PUBLISHED-TTL:PT1H
BEGIN:VTIMEZONE
TZID:America/Chicago
BEGIN:DAYLIGHT
TZOFFSETFROM:-0600
TZOFFSETTO:-0500
TZNAME:CDT
DTSTART:20240310T080000
END:DAYLIGHT
BEGIN:STANDARD
TZOFFSETFROM:-0500
TZOFFSETTO:-0600
TZNAME:CST
DTSTART:20241103T070000
END:STANDARD
BEGIN:DAYLIGHT
TZOFFSETFROM:-0600
TZOFFSETTO:-0500
TZNAME:CDT
DTSTART:20250309T080000
END:DAYLIGHT
BEGIN:STANDARD
TZOFFSETFROM:-0500
TZOFFSETTO:-0600
TZNAME:CST
DTSTART:20251102T070000
END:STANDARD
BEGIN:DAYLIGHT
TZOFFSETFROM:-0600
TZOFFSETTO:-0500
TZNAME:CDT
DTSTART:20260308T080000
END:DAYLIGHT
BEGIN:STANDARD
TZOFFSETFROM:-0500
TZOFFSETTO:-0600
TZNAME:CST
DTSTART:20261101T070000
END:STANDARD
END:VTIMEZONE
BEGIN:VEVENT
DTSTART;TZID=America/Chicago:20250901T130000
DTEND;TZID=America/Chicago:20250901T150000
DTSTAMP:20260423T223920
CREATED:20250826T172740Z
LAST-MODIFIED:20250826T172740Z
UID:10003210-1756731600-1756738800@www.calvary-rochester.org
SUMMARY:Back-to-School Bash
DESCRIPTION:Middle schoolers and high schoolers: Meet Michelle McKean and friends for a tee-off at the Blue Lagoon Mini Golf Course! The middle schoolers will battle the high schoolers for the right to have a double vote at the Pancake Breakfast. Who will be victorious? Come for fun and find out!\n\nThe cost is $10 for 12 and up or $8 for under 12 (this can be paid in advance at the church office or upon arrival). Friends are always welcome.\n\nPlease contact Michelle at faithformation@calvary-rochester.org to RSVP or with any questions. We don’t want anyone to miss out\, so please contact Michelle if cost is a barrier to participation.\n\nLooking forward to seeing everyone there!
URL:https://www.calvary-rochester.org/event/back-to-school-bash/
LOCATION:MN
CATEGORIES:Formation,Home
ATTACH;FMTTYPE=image/png:https://www.calvary-rochester.org/wp-content/uploads/2025/08/BTSB.png
ORGANIZER;CN="Calvary Episcopal Church":MAILTO:office@calvary-rochester.org
END:VEVENT
BEGIN:VEVENT
DTSTART;TZID=America/Chicago:20250907T091500
DTEND;TZID=America/Chicago:20250907T101500
DTSTAMP:20260423T223920
CREATED:20250826T171914Z
LAST-MODIFIED:20250826T171914Z
UID:10003209-1757236500-1757240100@www.calvary-rochester.org
SUMMARY:Faith Formation Registration
DESCRIPTION:From 9:15 am to 10:15 am\, bring your kids\, young and old\, to register for Faith Formation in Breckenridge Hall! This promises to be another exciting year of Faith Formation\, and we are looking forward to kicking it off!
URL:https://www.calvary-rochester.org/event/faith-formation-registration/
LOCATION:Calvary Episcopal Church\, 111 Third Avenue SW\, Rochester\, MN\, 55902
CATEGORIES:Formation,Home
ATTACH;FMTTYPE=image/png:https://www.calvary-rochester.org/wp-content/uploads/2025/08/FF-Registration.png
ORGANIZER;CN="Calvary Episcopal Church":MAILTO:office@calvary-rochester.org
GEO:40.602991;-73.959517
X-APPLE-STRUCTURED-LOCATION;VALUE=URI;X-ADDRESS=Calvary Episcopal Church 111 Third Avenue SW Rochester MN 55902;X-APPLE-RADIUS=500;X-TITLE=111 Third Avenue SW:geo:-73.959517,40.602991
END:VEVENT
END:VCALENDAR