BEGIN:VCALENDAR
VERSION:2.0
PRODID:-//Calvary Episcopal Church - ECPv6.15.20//NONSGML v1.0//EN
CALSCALE:GREGORIAN
METHOD:PUBLISH
X-ORIGINAL-URL:https://www.calvary-rochester.org
X-WR-CALDESC:Events for Calvary Episcopal Church
REFRESH-INTERVAL;VALUE=DURATION:PT1H
X-Robots-Tag:noindex
X-PUBLISHED-TTL:PT1H
BEGIN:VTIMEZONE
TZID:America/Chicago
BEGIN:DAYLIGHT
TZOFFSETFROM:-0600
TZOFFSETTO:-0500
TZNAME:CDT
DTSTART:20240310T080000
END:DAYLIGHT
BEGIN:STANDARD
TZOFFSETFROM:-0500
TZOFFSETTO:-0600
TZNAME:CST
DTSTART:20241103T070000
END:STANDARD
BEGIN:DAYLIGHT
TZOFFSETFROM:-0600
TZOFFSETTO:-0500
TZNAME:CDT
DTSTART:20250309T080000
END:DAYLIGHT
BEGIN:STANDARD
TZOFFSETFROM:-0500
TZOFFSETTO:-0600
TZNAME:CST
DTSTART:20251102T070000
END:STANDARD
BEGIN:DAYLIGHT
TZOFFSETFROM:-0600
TZOFFSETTO:-0500
TZNAME:CDT
DTSTART:20260308T080000
END:DAYLIGHT
BEGIN:STANDARD
TZOFFSETFROM:-0500
TZOFFSETTO:-0600
TZNAME:CST
DTSTART:20261101T070000
END:STANDARD
END:VTIMEZONE
BEGIN:VEVENT
DTSTART;TZID=America/Chicago:20251206T130000
DTEND;TZID=America/Chicago:20251206T160000
DTSTAMP:20260423T190740
CREATED:20251123T142107Z
LAST-MODIFIED:20251123T142316Z
UID:10003289-1765026000-1765036800@www.calvary-rochester.org
SUMMARY:The Great Calvary Kids Bake-Off and Bake Sale
DESCRIPTION:It’s that time of year again: The Great Calvary Kids Bake-Off is around the corner! \nWhen: \n\nBake-Off: Saturday\, December 6\, 2025\, 1:00 pm-4:00 pm\nBake Sale: Sunday\, December 7\, 2025\, 9:15 am-10:15 am\, and during the Greening of the Church (if any are left!)\n\nWhere: Calvary Episcopal Church kitchen \nHow: Middle/high school kids will begin by practicing decorating techniques\, while the elementary students will split into groups and focus on making batches of cookie dough and baking cookies. Eventually\, the younger kids will have a turn at decorating\, too. Cookies will be judged the next day by an esteemed panel of judges\, and all cookies will be offered for donations\, which will support buying new covers and padding for the Middle School room chairs\, new books for the Kids’ Bags\, and upcoming service projects. Cash and checks will be accepted. Kids with gluten allergies will be put in a specifically gluten-free group. \nWe are looking forward to all getting together and having a great time! Please email Michelle McKean at faithformation@calvary-rochester.org to let us know if you will be attending. \nNOTE: Cookie donations for the sale are loved and very much appreciated!
URL:https://www.calvary-rochester.org/event/the-great-calvary-kids-bake-off-and-bake-sale/2025-12-06/
LOCATION:Calvary Episcopal Church\, 111 Third Avenue SW\, Rochester\, MN\, 55902
CATEGORIES:Advent and Christmas,Food,Formation,Home
ATTACH;FMTTYPE=image/png:https://www.calvary-rochester.org/wp-content/uploads/2025/11/Bakeoff.png
ORGANIZER;CN="Calvary Episcopal Church":MAILTO:office@calvary-rochester.org
GEO:40.602991;-73.959517
X-APPLE-STRUCTURED-LOCATION;VALUE=URI;X-ADDRESS=Calvary Episcopal Church 111 Third Avenue SW Rochester MN 55902;X-APPLE-RADIUS=500;X-TITLE=111 Third Avenue SW:geo:-73.959517,40.602991
END:VEVENT
BEGIN:VEVENT
DTSTART;TZID=America/Chicago:20251207T091500
DTEND;TZID=America/Chicago:20251207T101500
DTSTAMP:20260423T190740
CREATED:20251122T224359Z
LAST-MODIFIED:20251123T193729Z
UID:10003231-1765098900-1765102500@www.calvary-rochester.org
SUMMARY:Advent Discussion Group
DESCRIPTION:We are entering one of the greatest gifts of time that we have in our church seasons: Advent. The season begins on November 30\, and this four-week period is meant to give us time to prepare ourselves for the remembrance of the birth of Christ on December 25. Advent is always a time of counter-cultural challenge\, as our lives can easily become too busy\, with tasks both joyful and challenging as we enjoy the holiday season and all that comes with it. It is good to find some time for ritual and spiritual practice to center our busy lives as we walk to Christmas.\n\nAll are invited to join in a discussion based on the book\, “From Holidays to Holy Days: A Benedictine Walk through Advent\,” led by the Rev. Beth Royalty. We will meet on all four Sundays of Advent\, beginning on November 30\, at 9:15 am in the Larsen Fireside Room off of Brackenridge Hall. You may purchase the book\, but owning it is not required for participation. We hope you will attend!
URL:https://www.calvary-rochester.org/event/advent-discussion-group/2025-12-07/
LOCATION:Calvary Episcopal Church\, 111 Third Avenue SW\, Rochester\, MN\, 55902
CATEGORIES:Advent and Christmas,Formation,Home
ATTACH;FMTTYPE=image/png:https://www.calvary-rochester.org/wp-content/uploads/2025/11/Advent-Discussion-Group.png
ORGANIZER;CN="Calvary Episcopal Church":MAILTO:office@calvary-rochester.org
GEO:40.602991;-73.959517
X-APPLE-STRUCTURED-LOCATION;VALUE=URI;X-ADDRESS=Calvary Episcopal Church 111 Third Avenue SW Rochester MN 55902;X-APPLE-RADIUS=500;X-TITLE=111 Third Avenue SW:geo:-73.959517,40.602991
END:VEVENT
BEGIN:VEVENT
DTSTART;TZID=America/Chicago:20251207T091500
DTEND;TZID=America/Chicago:20251207T101500
DTSTAMP:20260423T190740
CREATED:20251123T142107Z
LAST-MODIFIED:20251123T142316Z
UID:10003290-1765098900-1765102500@www.calvary-rochester.org
SUMMARY:The Great Calvary Kids Bake-Off and Bake Sale
DESCRIPTION:It’s that time of year again: The Great Calvary Kids Bake-Off is around the corner! \nWhen: \n\nBake-Off: Saturday\, December 6\, 2025\, 1:00 pm-4:00 pm\nBake Sale: Sunday\, December 7\, 2025\, 9:15 am-10:15 am\, and during the Greening of the Church (if any are left!)\n\nWhere: Calvary Episcopal Church kitchen \nHow: Middle/high school kids will begin by practicing decorating techniques\, while the elementary students will split into groups and focus on making batches of cookie dough and baking cookies. Eventually\, the younger kids will have a turn at decorating\, too. Cookies will be judged the next day by an esteemed panel of judges\, and all cookies will be offered for donations\, which will support buying new covers and padding for the Middle School room chairs\, new books for the Kids’ Bags\, and upcoming service projects. Cash and checks will be accepted. Kids with gluten allergies will be put in a specifically gluten-free group. \nWe are looking forward to all getting together and having a great time! Please email Michelle McKean at faithformation@calvary-rochester.org to let us know if you will be attending. \nNOTE: Cookie donations for the sale are loved and very much appreciated!
URL:https://www.calvary-rochester.org/event/the-great-calvary-kids-bake-off-and-bake-sale/2025-12-07/
LOCATION:Calvary Episcopal Church\, 111 Third Avenue SW\, Rochester\, MN\, 55902
CATEGORIES:Advent and Christmas,Food,Formation,Home
ATTACH;FMTTYPE=image/png:https://www.calvary-rochester.org/wp-content/uploads/2025/11/Bakeoff.png
ORGANIZER;CN="Calvary Episcopal Church":MAILTO:office@calvary-rochester.org
GEO:40.602991;-73.959517
X-APPLE-STRUCTURED-LOCATION;VALUE=URI;X-ADDRESS=Calvary Episcopal Church 111 Third Avenue SW Rochester MN 55902;X-APPLE-RADIUS=500;X-TITLE=111 Third Avenue SW:geo:-73.959517,40.602991
END:VEVENT
BEGIN:VEVENT
DTSTART;TZID=America/Chicago:20251207T113000
DTEND;TZID=America/Chicago:20251207T130000
DTSTAMP:20260423T190740
CREATED:20251104T214601Z
LAST-MODIFIED:20251104T214601Z
UID:10003229-1765107000-1765112400@www.calvary-rochester.org
SUMMARY:Greening of the Church
DESCRIPTION:Taco Bar\, Crafts\, and More! \nPlease join us on Sunday\, December 7\, at 11:30 am\, for the Greening of the Church. This is a festive intergenerational event for all parishioners! \nThis year for lunch\, we are going to have a taco bar with hard shells\, soft shells\, and corn tortillas\, which can be customized to your tastes and dietary needs\, with ground beef prepared with GF seasoning\, cheese\, lettuce\, sour cream\, guacamole\, tomatoes\, onions\, jalapenos\, and black beans. They will be served with tortillas and salsa\, Spanish rice\, and cherry cheesecake.   \nWe will be decorating the Christmas tree in Brackenridge Hall and hanging greens in the sanctuary. Michelle has a special craft for the youth: making gender neutral Christmas bracelets! \nPlease sign up in Brackenridge Hall or use this link to sign up online. You can also sign up by calling\, texting\, or emailing Cindy Heins at (507) 993-5824\, heins.cynthia@gmail.com. The last day to sign up is Sunday\, November 30. It is important that you sign up by the deadline so that we have an accurate count for the caterer. If you can help hang greens or clean up after lunch\, please indicate so on the sign-up sheet. Also\, please let us know the number of children who will be making the Christmas craft with Michelle.
URL:https://www.calvary-rochester.org/event/greening-of-the-church-2/
LOCATION:Calvary Episcopal Church\, 111 Third Avenue SW\, Rochester\, MN\, 55902
CATEGORIES:Fellowship,Food,Formation,Home
ATTACH;FMTTYPE=image/png:https://www.calvary-rochester.org/wp-content/uploads/2025/11/Greening.png
ORGANIZER;CN="Calvary Episcopal Church":MAILTO:office@calvary-rochester.org
GEO:40.602991;-73.959517
X-APPLE-STRUCTURED-LOCATION;VALUE=URI;X-ADDRESS=Calvary Episcopal Church 111 Third Avenue SW Rochester MN 55902;X-APPLE-RADIUS=500;X-TITLE=111 Third Avenue SW:geo:-73.959517,40.602991
END:VEVENT
BEGIN:VEVENT
DTSTART;TZID=America/Chicago:20251214T091500
DTEND;TZID=America/Chicago:20251214T101500
DTSTAMP:20260423T190740
CREATED:20251122T224359Z
LAST-MODIFIED:20251123T193729Z
UID:10003232-1765703700-1765707300@www.calvary-rochester.org
SUMMARY:Advent Discussion Group
DESCRIPTION:We are entering one of the greatest gifts of time that we have in our church seasons: Advent. The season begins on November 30\, and this four-week period is meant to give us time to prepare ourselves for the remembrance of the birth of Christ on December 25. Advent is always a time of counter-cultural challenge\, as our lives can easily become too busy\, with tasks both joyful and challenging as we enjoy the holiday season and all that comes with it. It is good to find some time for ritual and spiritual practice to center our busy lives as we walk to Christmas.\n\nAll are invited to join in a discussion based on the book\, “From Holidays to Holy Days: A Benedictine Walk through Advent\,” led by the Rev. Beth Royalty. We will meet on all four Sundays of Advent\, beginning on November 30\, at 9:15 am in the Larsen Fireside Room off of Brackenridge Hall. You may purchase the book\, but owning it is not required for participation. We hope you will attend!
URL:https://www.calvary-rochester.org/event/advent-discussion-group/2025-12-14/
LOCATION:Calvary Episcopal Church\, 111 Third Avenue SW\, Rochester\, MN\, 55902
CATEGORIES:Advent and Christmas,Formation,Home
ATTACH;FMTTYPE=image/png:https://www.calvary-rochester.org/wp-content/uploads/2025/11/Advent-Discussion-Group.png
ORGANIZER;CN="Calvary Episcopal Church":MAILTO:office@calvary-rochester.org
GEO:40.602991;-73.959517
X-APPLE-STRUCTURED-LOCATION;VALUE=URI;X-ADDRESS=Calvary Episcopal Church 111 Third Avenue SW Rochester MN 55902;X-APPLE-RADIUS=500;X-TITLE=111 Third Avenue SW:geo:-73.959517,40.602991
END:VEVENT
BEGIN:VEVENT
DTSTART;TZID=America/Chicago:20251221T091500
DTEND;TZID=America/Chicago:20251221T101500
DTSTAMP:20260423T190740
CREATED:20251122T224359Z
LAST-MODIFIED:20251123T193729Z
UID:10003233-1766308500-1766312100@www.calvary-rochester.org
SUMMARY:Advent Discussion Group
DESCRIPTION:We are entering one of the greatest gifts of time that we have in our church seasons: Advent. The season begins on November 30\, and this four-week period is meant to give us time to prepare ourselves for the remembrance of the birth of Christ on December 25. Advent is always a time of counter-cultural challenge\, as our lives can easily become too busy\, with tasks both joyful and challenging as we enjoy the holiday season and all that comes with it. It is good to find some time for ritual and spiritual practice to center our busy lives as we walk to Christmas.\n\nAll are invited to join in a discussion based on the book\, “From Holidays to Holy Days: A Benedictine Walk through Advent\,” led by the Rev. Beth Royalty. We will meet on all four Sundays of Advent\, beginning on November 30\, at 9:15 am in the Larsen Fireside Room off of Brackenridge Hall. You may purchase the book\, but owning it is not required for participation. We hope you will attend!
URL:https://www.calvary-rochester.org/event/advent-discussion-group/2025-12-21/
LOCATION:Calvary Episcopal Church\, 111 Third Avenue SW\, Rochester\, MN\, 55902
CATEGORIES:Advent and Christmas,Formation,Home
ATTACH;FMTTYPE=image/png:https://www.calvary-rochester.org/wp-content/uploads/2025/11/Advent-Discussion-Group.png
ORGANIZER;CN="Calvary Episcopal Church":MAILTO:office@calvary-rochester.org
GEO:40.602991;-73.959517
X-APPLE-STRUCTURED-LOCATION;VALUE=URI;X-ADDRESS=Calvary Episcopal Church 111 Third Avenue SW Rochester MN 55902;X-APPLE-RADIUS=500;X-TITLE=111 Third Avenue SW:geo:-73.959517,40.602991
END:VEVENT
END:VCALENDAR