BEGIN:VCALENDAR
VERSION:2.0
PRODID:-//Calvary Episcopal Church - ECPv6.15.20//NONSGML v1.0//EN
CALSCALE:GREGORIAN
METHOD:PUBLISH
X-ORIGINAL-URL:https://www.calvary-rochester.org
X-WR-CALDESC:Events for Calvary Episcopal Church
REFRESH-INTERVAL;VALUE=DURATION:PT1H
X-Robots-Tag:noindex
X-PUBLISHED-TTL:PT1H
BEGIN:VTIMEZONE
TZID:America/Chicago
BEGIN:DAYLIGHT
TZOFFSETFROM:-0600
TZOFFSETTO:-0500
TZNAME:CDT
DTSTART:20220313T080000
END:DAYLIGHT
BEGIN:STANDARD
TZOFFSETFROM:-0500
TZOFFSETTO:-0600
TZNAME:CST
DTSTART:20221106T070000
END:STANDARD
BEGIN:DAYLIGHT
TZOFFSETFROM:-0600
TZOFFSETTO:-0500
TZNAME:CDT
DTSTART:20230312T080000
END:DAYLIGHT
BEGIN:STANDARD
TZOFFSETFROM:-0500
TZOFFSETTO:-0600
TZNAME:CST
DTSTART:20231105T070000
END:STANDARD
BEGIN:DAYLIGHT
TZOFFSETFROM:-0600
TZOFFSETTO:-0500
TZNAME:CDT
DTSTART:20240310T080000
END:DAYLIGHT
BEGIN:STANDARD
TZOFFSETFROM:-0500
TZOFFSETTO:-0600
TZNAME:CST
DTSTART:20241103T070000
END:STANDARD
END:VTIMEZONE
BEGIN:VEVENT
DTSTART;TZID=America/Chicago:20230503T190000
DTEND;TZID=America/Chicago:20230503T200000
DTSTAMP:20260425T230557
CREATED:20221230T014017Z
LAST-MODIFIED:20221230T014017Z
UID:10001256-1683140400-1683144000@www.calvary-rochester.org
SUMMARY:Motet Choir Rehearsal
DESCRIPTION:The Motet Choir meets Wednesdays\, 7:00 – 8:00 pm\, and will rehearse in the Choir Room. The Motet Choir leads worship at the 10:30 am Rite II Eucharist on Sundays each week. All youth and adults are heartily invited to join in the music making –  anyone interested in more details can contact Jeff Daehn at jdaehn@gmail.com.
URL:https://www.calvary-rochester.org/event/motet-choir-rehearsal-2/2023-05-03/
LOCATION:Calvary Episcopal Church\, 111 Third Avenue SW\, Rochester\, MN\, 55902
CATEGORIES:Home,Music
ATTACH;FMTTYPE=image/png:https://www.calvary-rochester.org/wp-content/uploads/2022/12/Motet-Rehearsal-FB.png
ORGANIZER;CN="Calvary Episcopal Church":MAILTO:office@calvary-rochester.org
GEO:40.602991;-73.959517
X-APPLE-STRUCTURED-LOCATION;VALUE=URI;X-ADDRESS=Calvary Episcopal Church 111 Third Avenue SW Rochester MN 55902;X-APPLE-RADIUS=500;X-TITLE=111 Third Avenue SW:geo:-73.959517,40.602991
END:VEVENT
BEGIN:VEVENT
DTSTART;TZID=America/Chicago:20230510T190000
DTEND;TZID=America/Chicago:20230510T200000
DTSTAMP:20260425T230557
CREATED:20221230T014017Z
LAST-MODIFIED:20221230T014017Z
UID:10001257-1683745200-1683748800@www.calvary-rochester.org
SUMMARY:Motet Choir Rehearsal
DESCRIPTION:The Motet Choir meets Wednesdays\, 7:00 – 8:00 pm\, and will rehearse in the Choir Room. The Motet Choir leads worship at the 10:30 am Rite II Eucharist on Sundays each week. All youth and adults are heartily invited to join in the music making –  anyone interested in more details can contact Jeff Daehn at jdaehn@gmail.com.
URL:https://www.calvary-rochester.org/event/motet-choir-rehearsal-2/2023-05-10/
LOCATION:Calvary Episcopal Church\, 111 Third Avenue SW\, Rochester\, MN\, 55902
CATEGORIES:Home,Music
ATTACH;FMTTYPE=image/png:https://www.calvary-rochester.org/wp-content/uploads/2022/12/Motet-Rehearsal-FB.png
ORGANIZER;CN="Calvary Episcopal Church":MAILTO:office@calvary-rochester.org
GEO:40.602991;-73.959517
X-APPLE-STRUCTURED-LOCATION;VALUE=URI;X-ADDRESS=Calvary Episcopal Church 111 Third Avenue SW Rochester MN 55902;X-APPLE-RADIUS=500;X-TITLE=111 Third Avenue SW:geo:-73.959517,40.602991
END:VEVENT
BEGIN:VEVENT
DTSTART;TZID=America/Chicago:20230517T190000
DTEND;TZID=America/Chicago:20230517T200000
DTSTAMP:20260425T230557
CREATED:20221230T014017Z
LAST-MODIFIED:20221230T014017Z
UID:10001258-1684350000-1684353600@www.calvary-rochester.org
SUMMARY:Motet Choir Rehearsal
DESCRIPTION:The Motet Choir meets Wednesdays\, 7:00 – 8:00 pm\, and will rehearse in the Choir Room. The Motet Choir leads worship at the 10:30 am Rite II Eucharist on Sundays each week. All youth and adults are heartily invited to join in the music making –  anyone interested in more details can contact Jeff Daehn at jdaehn@gmail.com.
URL:https://www.calvary-rochester.org/event/motet-choir-rehearsal-2/2023-05-17/
LOCATION:Calvary Episcopal Church\, 111 Third Avenue SW\, Rochester\, MN\, 55902
CATEGORIES:Home,Music
ATTACH;FMTTYPE=image/png:https://www.calvary-rochester.org/wp-content/uploads/2022/12/Motet-Rehearsal-FB.png
ORGANIZER;CN="Calvary Episcopal Church":MAILTO:office@calvary-rochester.org
GEO:40.602991;-73.959517
X-APPLE-STRUCTURED-LOCATION;VALUE=URI;X-ADDRESS=Calvary Episcopal Church 111 Third Avenue SW Rochester MN 55902;X-APPLE-RADIUS=500;X-TITLE=111 Third Avenue SW:geo:-73.959517,40.602991
END:VEVENT
BEGIN:VEVENT
DTSTART;TZID=America/Chicago:20230521T160000
DTEND;TZID=America/Chicago:20230521T170000
DTSTAMP:20260425T230557
CREATED:20230430T192829Z
LAST-MODIFIED:20230430T192829Z
UID:10001609-1684684800-1684688400@www.calvary-rochester.org
SUMMARY:Organ Recital at St. Luke's
DESCRIPTION:On Sunday\, May 21\, at 4:00 pm\, Dr. John A. Schultz will present an organ recital at St. Luke’s Episcopal Church in Rochester. His program will feature music by women composers\, and is inspired by the themes presented by the church’s stained glass windows. The windows depict the seasons of the church year and are celebrated in vivid\, stained glass splendor. Schultz will also be including two Pentecost chorale preludes by Johann Sebastian Bach.
URL:https://www.calvary-rochester.org/event/organ-recital-at-st-lukes/
LOCATION:St. Luke’s Episcopal Church\, 1884 22nd Street NW\, Rochester\, MN\, 55901\, United States
CATEGORIES:Home,Music
ATTACH;FMTTYPE=image/png:https://www.calvary-rochester.org/wp-content/uploads/2023/04/John-Schultz-Organ-Recital-FB.png
ORGANIZER;CN="St. Luke's Episcopal Church":MAILTO:stlukes@stlukesepiscopal.org
END:VEVENT
BEGIN:VEVENT
DTSTART;TZID=America/Chicago:20230524T190000
DTEND;TZID=America/Chicago:20230524T200000
DTSTAMP:20260425T230557
CREATED:20221230T014017Z
LAST-MODIFIED:20221230T014017Z
UID:10001259-1684954800-1684958400@www.calvary-rochester.org
SUMMARY:Motet Choir Rehearsal
DESCRIPTION:The Motet Choir meets Wednesdays\, 7:00 – 8:00 pm\, and will rehearse in the Choir Room. The Motet Choir leads worship at the 10:30 am Rite II Eucharist on Sundays each week. All youth and adults are heartily invited to join in the music making –  anyone interested in more details can contact Jeff Daehn at jdaehn@gmail.com.
URL:https://www.calvary-rochester.org/event/motet-choir-rehearsal-2/2023-05-24/
LOCATION:Calvary Episcopal Church\, 111 Third Avenue SW\, Rochester\, MN\, 55902
CATEGORIES:Home,Music
ATTACH;FMTTYPE=image/png:https://www.calvary-rochester.org/wp-content/uploads/2022/12/Motet-Rehearsal-FB.png
ORGANIZER;CN="Calvary Episcopal Church":MAILTO:office@calvary-rochester.org
GEO:40.602991;-73.959517
X-APPLE-STRUCTURED-LOCATION;VALUE=URI;X-ADDRESS=Calvary Episcopal Church 111 Third Avenue SW Rochester MN 55902;X-APPLE-RADIUS=500;X-TITLE=111 Third Avenue SW:geo:-73.959517,40.602991
END:VEVENT
END:VCALENDAR