BEGIN:VCALENDAR
VERSION:2.0
PRODID:-//Calvary Episcopal Church - ECPv6.15.20//NONSGML v1.0//EN
CALSCALE:GREGORIAN
METHOD:PUBLISH
X-ORIGINAL-URL:https://www.calvary-rochester.org
X-WR-CALDESC:Events for Calvary Episcopal Church
REFRESH-INTERVAL;VALUE=DURATION:PT1H
X-Robots-Tag:noindex
X-PUBLISHED-TTL:PT1H
BEGIN:VTIMEZONE
TZID:America/Chicago
BEGIN:DAYLIGHT
TZOFFSETFROM:-0600
TZOFFSETTO:-0500
TZNAME:CDT
DTSTART:20220313T080000
END:DAYLIGHT
BEGIN:STANDARD
TZOFFSETFROM:-0500
TZOFFSETTO:-0600
TZNAME:CST
DTSTART:20221106T070000
END:STANDARD
BEGIN:DAYLIGHT
TZOFFSETFROM:-0600
TZOFFSETTO:-0500
TZNAME:CDT
DTSTART:20230312T080000
END:DAYLIGHT
BEGIN:STANDARD
TZOFFSETFROM:-0500
TZOFFSETTO:-0600
TZNAME:CST
DTSTART:20231105T070000
END:STANDARD
BEGIN:DAYLIGHT
TZOFFSETFROM:-0600
TZOFFSETTO:-0500
TZNAME:CDT
DTSTART:20240310T080000
END:DAYLIGHT
BEGIN:STANDARD
TZOFFSETFROM:-0500
TZOFFSETTO:-0600
TZNAME:CST
DTSTART:20241103T070000
END:STANDARD
END:VTIMEZONE
BEGIN:VEVENT
DTSTART;TZID=America/Chicago:20230621T123000
DTEND;TZID=America/Chicago:20230621T133000
DTSTAMP:20260425T213728
CREATED:20230621T131459Z
LAST-MODIFIED:20230621T131556Z
UID:10001618-1687350600-1687354200@www.calvary-rochester.org
SUMMARY:Lunch on the Lawn: Orchid Jane
DESCRIPTION:Orchid Jane is a southeastern Minnesota-based acoustic trio composed of husband and wife duo\, Greg and Karyn Hintermeister\, and wickedly talented bassist\, Mark McGlinch. Playing together as Orchid Jane\, they have crafted a collection of acoustic versions of their favorite songs\, spanning decades and genres\, including a number of unique mash-ups audiences love.
URL:https://www.calvary-rochester.org/event/lunch-on-the-lawn-orchid-jane/
LOCATION:Calvary Episcopal Church\, 111 Third Avenue SW\, Rochester\, MN\, 55902
CATEGORIES:Home,Lunch on the Lawn,Music
ATTACH;FMTTYPE=image/png:https://www.calvary-rochester.org/wp-content/uploads/2023/06/Orchid-Jane-FB.png
ORGANIZER;CN="Calvary Episcopal Church":MAILTO:office@calvary-rochester.org
GEO:40.602991;-73.959517
X-APPLE-STRUCTURED-LOCATION;VALUE=URI;X-ADDRESS=Calvary Episcopal Church 111 Third Avenue SW Rochester MN 55902;X-APPLE-RADIUS=500;X-TITLE=111 Third Avenue SW:geo:-73.959517,40.602991
END:VEVENT
BEGIN:VEVENT
DTSTART;TZID=America/Chicago:20230628T123000
DTEND;TZID=America/Chicago:20230628T133000
DTSTAMP:20260425T213728
CREATED:20230621T135743Z
LAST-MODIFIED:20230621T135743Z
UID:10001619-1687955400-1687959000@www.calvary-rochester.org
SUMMARY:Lunch on the Lawn: Jaggedease
DESCRIPTION:Jaggedease is a jam band that plays Americana music filled with impromptu jams. The band features the deeply hypnotic vocal of its leader\, Gabe Holmes.
URL:https://www.calvary-rochester.org/event/lunch-on-the-lawn-jaggedease-2/
LOCATION:Calvary Episcopal Church\, 111 Third Avenue SW\, Rochester\, MN\, 55902
CATEGORIES:Home,Lunch on the Lawn,Music
ATTACH;FMTTYPE=image/png:https://www.calvary-rochester.org/wp-content/uploads/2023/06/Jaggedease-FB.png
ORGANIZER;CN="Calvary Episcopal Church":MAILTO:office@calvary-rochester.org
GEO:40.602991;-73.959517
X-APPLE-STRUCTURED-LOCATION;VALUE=URI;X-ADDRESS=Calvary Episcopal Church 111 Third Avenue SW Rochester MN 55902;X-APPLE-RADIUS=500;X-TITLE=111 Third Avenue SW:geo:-73.959517,40.602991
END:VEVENT
END:VCALENDAR