BEGIN:VCALENDAR
VERSION:2.0
PRODID:-//Calvary Episcopal Church - ECPv6.15.20//NONSGML v1.0//EN
CALSCALE:GREGORIAN
METHOD:PUBLISH
X-ORIGINAL-URL:https://www.calvary-rochester.org
X-WR-CALDESC:Events for Calvary Episcopal Church
REFRESH-INTERVAL;VALUE=DURATION:PT1H
X-Robots-Tag:noindex
X-PUBLISHED-TTL:PT1H
BEGIN:VTIMEZONE
TZID:America/Chicago
BEGIN:DAYLIGHT
TZOFFSETFROM:-0600
TZOFFSETTO:-0500
TZNAME:CDT
DTSTART:20220313T080000
END:DAYLIGHT
BEGIN:STANDARD
TZOFFSETFROM:-0500
TZOFFSETTO:-0600
TZNAME:CST
DTSTART:20221106T070000
END:STANDARD
BEGIN:DAYLIGHT
TZOFFSETFROM:-0600
TZOFFSETTO:-0500
TZNAME:CDT
DTSTART:20230312T080000
END:DAYLIGHT
BEGIN:STANDARD
TZOFFSETFROM:-0500
TZOFFSETTO:-0600
TZNAME:CST
DTSTART:20231105T070000
END:STANDARD
BEGIN:DAYLIGHT
TZOFFSETFROM:-0600
TZOFFSETTO:-0500
TZNAME:CDT
DTSTART:20240310T080000
END:DAYLIGHT
BEGIN:STANDARD
TZOFFSETFROM:-0500
TZOFFSETTO:-0600
TZNAME:CST
DTSTART:20241103T070000
END:STANDARD
END:VTIMEZONE
BEGIN:VEVENT
DTSTART;TZID=America/Chicago:20230802T123000
DTEND;TZID=America/Chicago:20230802T133000
DTSTAMP:20260425T184319
CREATED:20230621T143333Z
LAST-MODIFIED:20230717T151534Z
UID:10001621-1690979400-1690983000@www.calvary-rochester.org
SUMMARY:RESCHEDULED: Lunch on the Lawn: LaSonya Natividad & the Madison Parish Ensemble
DESCRIPTION:Madison Parish Ensemble has been playing together since 2011 in various forms as a duo\, trio\, 4 or 5 piece jazz and blues ensemble\, and they are guaranteed to be a good time. Lead vocals by LaSonya Natividad\, Mike King on guitar\, Michael Sloane on bass\, and Miles Johnston on drums.
URL:https://www.calvary-rochester.org/event/lunch-on-the-lawn-lasonya-natividad-the-madison-parish-ensemble/
LOCATION:Calvary Episcopal Church\, 111 Third Avenue SW\, Rochester\, MN\, 55902
CATEGORIES:Home,Lunch on the Lawn,Music
ATTACH;FMTTYPE=image/png:https://www.calvary-rochester.org/wp-content/uploads/2023/06/LNMPE-FB.png
ORGANIZER;CN="Calvary Episcopal Church":MAILTO:office@calvary-rochester.org
GEO:40.602991;-73.959517
X-APPLE-STRUCTURED-LOCATION;VALUE=URI;X-ADDRESS=Calvary Episcopal Church 111 Third Avenue SW Rochester MN 55902;X-APPLE-RADIUS=500;X-TITLE=111 Third Avenue SW:geo:-73.959517,40.602991
END:VEVENT
BEGIN:VEVENT
DTSTART;TZID=America/Chicago:20230809T123000
DTEND;TZID=America/Chicago:20230809T133000
DTSTAMP:20260425T184319
CREATED:20230621T150750Z
LAST-MODIFIED:20230809T024515Z
UID:10001623-1691584200-1691587800@www.calvary-rochester.org
SUMMARY:RESCHEDULED: Lunch on the Lawn: The RavensFire Band
DESCRIPTION:The RavensFire Band is well known around the area for their performances\, vocal harmonies\, and instrumentals with a unique collection of folk and original music performed on the mandolin\, guitar\, and bodhrán. They are talented\, funny\, and friendly musicians who show that they genuinely love to perform.
URL:https://www.calvary-rochester.org/event/lunch-on-the-lawn-the-ravensfire-band-2/
LOCATION:Calvary Episcopal Church\, 111 Third Avenue SW\, Rochester\, MN\, 55902
CATEGORIES:Home,Lunch on the Lawn,Music
ATTACH;FMTTYPE=image/png:https://www.calvary-rochester.org/wp-content/uploads/2023/06/RavensFire-2023-FB.png
ORGANIZER;CN="Calvary Episcopal Church":MAILTO:office@calvary-rochester.org
GEO:40.602991;-73.959517
X-APPLE-STRUCTURED-LOCATION;VALUE=URI;X-ADDRESS=Calvary Episcopal Church 111 Third Avenue SW Rochester MN 55902;X-APPLE-RADIUS=500;X-TITLE=111 Third Avenue SW:geo:-73.959517,40.602991
END:VEVENT
END:VCALENDAR