BEGIN:VCALENDAR
VERSION:2.0
PRODID:-//Calvary Episcopal Church - ECPv6.15.20//NONSGML v1.0//EN
CALSCALE:GREGORIAN
METHOD:PUBLISH
X-WR-CALNAME:Calvary Episcopal Church
X-ORIGINAL-URL:https://www.calvary-rochester.org
X-WR-CALDESC:Events for Calvary Episcopal Church
REFRESH-INTERVAL;VALUE=DURATION:PT1H
X-Robots-Tag:noindex
X-PUBLISHED-TTL:PT1H
BEGIN:VTIMEZONE
TZID:America/Chicago
BEGIN:DAYLIGHT
TZOFFSETFROM:-0600
TZOFFSETTO:-0500
TZNAME:CDT
DTSTART:20240310T080000
END:DAYLIGHT
BEGIN:STANDARD
TZOFFSETFROM:-0500
TZOFFSETTO:-0600
TZNAME:CST
DTSTART:20241103T070000
END:STANDARD
BEGIN:DAYLIGHT
TZOFFSETFROM:-0600
TZOFFSETTO:-0500
TZNAME:CDT
DTSTART:20250309T080000
END:DAYLIGHT
BEGIN:STANDARD
TZOFFSETFROM:-0500
TZOFFSETTO:-0600
TZNAME:CST
DTSTART:20251102T070000
END:STANDARD
BEGIN:DAYLIGHT
TZOFFSETFROM:-0600
TZOFFSETTO:-0500
TZNAME:CDT
DTSTART:20260308T080000
END:DAYLIGHT
BEGIN:STANDARD
TZOFFSETFROM:-0500
TZOFFSETTO:-0600
TZNAME:CST
DTSTART:20261101T070000
END:STANDARD
END:VTIMEZONE
BEGIN:VEVENT
DTSTART;TZID=America/Chicago:20251203T190000
DTEND;TZID=America/Chicago:20251203T200000
DTSTAMP:20260423T174942
CREATED:20250818T223439Z
LAST-MODIFIED:20250818T223440Z
UID:10003182-1764788400-1764792000@www.calvary-rochester.org
SUMMARY:Motet Choir Rehearsal
DESCRIPTION:The Motet Choir rehearses on Wednesdays at 7 pm in the choir room. The Motet Choir is open to all singers in high school and older. \nIf you are interested in or have any questions about joining\, please contact Travis Whaley at music@calvary-rochester.org.
URL:https://www.calvary-rochester.org/event/motet-choir-rehearsal-5/2025-12-03/
LOCATION:Calvary Episcopal Church\, 111 Third Avenue SW\, Rochester\, MN\, 55902
CATEGORIES:Home,Music
ATTACH;FMTTYPE=image/png:https://www.calvary-rochester.org/wp-content/uploads/2025/08/Motet-Choir.png
ORGANIZER;CN="Calvary Episcopal Church":MAILTO:office@calvary-rochester.org
GEO:40.602991;-73.959517
X-APPLE-STRUCTURED-LOCATION;VALUE=URI;X-ADDRESS=Calvary Episcopal Church 111 Third Avenue SW Rochester MN 55902;X-APPLE-RADIUS=500;X-TITLE=111 Third Avenue SW:geo:-73.959517,40.602991
END:VEVENT
BEGIN:VEVENT
DTSTART;TZID=America/Chicago:20251210T190000
DTEND;TZID=America/Chicago:20251210T200000
DTSTAMP:20260423T174942
CREATED:20250818T223439Z
LAST-MODIFIED:20250818T223440Z
UID:10003183-1765393200-1765396800@www.calvary-rochester.org
SUMMARY:Motet Choir Rehearsal
DESCRIPTION:The Motet Choir rehearses on Wednesdays at 7 pm in the choir room. The Motet Choir is open to all singers in high school and older. \nIf you are interested in or have any questions about joining\, please contact Travis Whaley at music@calvary-rochester.org.
URL:https://www.calvary-rochester.org/event/motet-choir-rehearsal-5/2025-12-10/
LOCATION:Calvary Episcopal Church\, 111 Third Avenue SW\, Rochester\, MN\, 55902
CATEGORIES:Home,Music
ATTACH;FMTTYPE=image/png:https://www.calvary-rochester.org/wp-content/uploads/2025/08/Motet-Choir.png
ORGANIZER;CN="Calvary Episcopal Church":MAILTO:office@calvary-rochester.org
GEO:40.602991;-73.959517
X-APPLE-STRUCTURED-LOCATION;VALUE=URI;X-ADDRESS=Calvary Episcopal Church 111 Third Avenue SW Rochester MN 55902;X-APPLE-RADIUS=500;X-TITLE=111 Third Avenue SW:geo:-73.959517,40.602991
END:VEVENT
BEGIN:VEVENT
DTSTART;TZID=America/Chicago:20251214T160000
DTEND;TZID=America/Chicago:20251214T170000
DTSTAMP:20260423T174942
CREATED:20251201T221211Z
LAST-MODIFIED:20251201T221211Z
UID:10003354-1765728000-1765731600@www.calvary-rochester.org
SUMMARY:Advent Lessons and Carols
DESCRIPTION:The Calvary Motet Choir will present a service of seven lessons and carols on Sunday\, December 14\, at 4 pm. The service will feature several anthems sung by the Motet Choir\, carols for the congregation to sing together\, and instrumental music for reflection. We hope many of you will make our lessons and carols part of your Advent and Christmas celebrations.
URL:https://www.calvary-rochester.org/event/advent-lessons-and-carols/
LOCATION:Calvary Episcopal Church\, 111 Third Avenue SW\, Rochester\, MN\, 55902
CATEGORIES:Advent and Christmas,Home,Music
ATTACH;FMTTYPE=image/png:https://www.calvary-rochester.org/wp-content/uploads/2025/12/Lessons-and-Carols.png
ORGANIZER;CN="Calvary Episcopal Church":MAILTO:office@calvary-rochester.org
GEO:40.602991;-73.959517
X-APPLE-STRUCTURED-LOCATION;VALUE=URI;X-ADDRESS=Calvary Episcopal Church 111 Third Avenue SW Rochester MN 55902;X-APPLE-RADIUS=500;X-TITLE=111 Third Avenue SW:geo:-73.959517,40.602991
END:VEVENT
BEGIN:VEVENT
DTSTART;TZID=America/Chicago:20251217T190000
DTEND;TZID=America/Chicago:20251217T200000
DTSTAMP:20260423T174942
CREATED:20250818T223439Z
LAST-MODIFIED:20250818T223440Z
UID:10003184-1765998000-1766001600@www.calvary-rochester.org
SUMMARY:Motet Choir Rehearsal
DESCRIPTION:The Motet Choir rehearses on Wednesdays at 7 pm in the choir room. The Motet Choir is open to all singers in high school and older. \nIf you are interested in or have any questions about joining\, please contact Travis Whaley at music@calvary-rochester.org.
URL:https://www.calvary-rochester.org/event/motet-choir-rehearsal-5/2025-12-17/
LOCATION:Calvary Episcopal Church\, 111 Third Avenue SW\, Rochester\, MN\, 55902
CATEGORIES:Home,Music
ATTACH;FMTTYPE=image/png:https://www.calvary-rochester.org/wp-content/uploads/2025/08/Motet-Choir.png
ORGANIZER;CN="Calvary Episcopal Church":MAILTO:office@calvary-rochester.org
GEO:40.602991;-73.959517
X-APPLE-STRUCTURED-LOCATION;VALUE=URI;X-ADDRESS=Calvary Episcopal Church 111 Third Avenue SW Rochester MN 55902;X-APPLE-RADIUS=500;X-TITLE=111 Third Avenue SW:geo:-73.959517,40.602991
END:VEVENT
BEGIN:VEVENT
DTSTART;TZID=America/Chicago:20251224T190000
DTEND;TZID=America/Chicago:20251224T200000
DTSTAMP:20260423T174942
CREATED:20250818T223439Z
LAST-MODIFIED:20250818T223440Z
UID:10003185-1766602800-1766606400@www.calvary-rochester.org
SUMMARY:Motet Choir Rehearsal
DESCRIPTION:The Motet Choir rehearses on Wednesdays at 7 pm in the choir room. The Motet Choir is open to all singers in high school and older. \nIf you are interested in or have any questions about joining\, please contact Travis Whaley at music@calvary-rochester.org.
URL:https://www.calvary-rochester.org/event/motet-choir-rehearsal-5/2025-12-24/
LOCATION:Calvary Episcopal Church\, 111 Third Avenue SW\, Rochester\, MN\, 55902
CATEGORIES:Home,Music
ATTACH;FMTTYPE=image/png:https://www.calvary-rochester.org/wp-content/uploads/2025/08/Motet-Choir.png
ORGANIZER;CN="Calvary Episcopal Church":MAILTO:office@calvary-rochester.org
GEO:40.602991;-73.959517
X-APPLE-STRUCTURED-LOCATION;VALUE=URI;X-ADDRESS=Calvary Episcopal Church 111 Third Avenue SW Rochester MN 55902;X-APPLE-RADIUS=500;X-TITLE=111 Third Avenue SW:geo:-73.959517,40.602991
END:VEVENT
BEGIN:VEVENT
DTSTART;TZID=America/Chicago:20251231T190000
DTEND;TZID=America/Chicago:20251231T200000
DTSTAMP:20260423T174942
CREATED:20250818T223439Z
LAST-MODIFIED:20250818T223440Z
UID:10003186-1767207600-1767211200@www.calvary-rochester.org
SUMMARY:Motet Choir Rehearsal
DESCRIPTION:The Motet Choir rehearses on Wednesdays at 7 pm in the choir room. The Motet Choir is open to all singers in high school and older. \nIf you are interested in or have any questions about joining\, please contact Travis Whaley at music@calvary-rochester.org.
URL:https://www.calvary-rochester.org/event/motet-choir-rehearsal-5/2025-12-31/
LOCATION:Calvary Episcopal Church\, 111 Third Avenue SW\, Rochester\, MN\, 55902
CATEGORIES:Home,Music
ATTACH;FMTTYPE=image/png:https://www.calvary-rochester.org/wp-content/uploads/2025/08/Motet-Choir.png
ORGANIZER;CN="Calvary Episcopal Church":MAILTO:office@calvary-rochester.org
GEO:40.602991;-73.959517
X-APPLE-STRUCTURED-LOCATION;VALUE=URI;X-ADDRESS=Calvary Episcopal Church 111 Third Avenue SW Rochester MN 55902;X-APPLE-RADIUS=500;X-TITLE=111 Third Avenue SW:geo:-73.959517,40.602991
END:VEVENT
END:VCALENDAR