BEGIN:VCALENDAR
VERSION:2.0
PRODID:-//Calvary Episcopal Church - ECPv6.15.20//NONSGML v1.0//EN
CALSCALE:GREGORIAN
METHOD:PUBLISH
X-ORIGINAL-URL:https://www.calvary-rochester.org
X-WR-CALDESC:Events for Calvary Episcopal Church
REFRESH-INTERVAL;VALUE=DURATION:PT1H
X-Robots-Tag:noindex
X-PUBLISHED-TTL:PT1H
BEGIN:VTIMEZONE
TZID:America/Chicago
BEGIN:DAYLIGHT
TZOFFSETFROM:-0600
TZOFFSETTO:-0500
TZNAME:CDT
DTSTART:20240310T080000
END:DAYLIGHT
BEGIN:STANDARD
TZOFFSETFROM:-0500
TZOFFSETTO:-0600
TZNAME:CST
DTSTART:20241103T070000
END:STANDARD
BEGIN:DAYLIGHT
TZOFFSETFROM:-0600
TZOFFSETTO:-0500
TZNAME:CDT
DTSTART:20250309T080000
END:DAYLIGHT
BEGIN:STANDARD
TZOFFSETFROM:-0500
TZOFFSETTO:-0600
TZNAME:CST
DTSTART:20251102T070000
END:STANDARD
BEGIN:DAYLIGHT
TZOFFSETFROM:-0600
TZOFFSETTO:-0500
TZNAME:CDT
DTSTART:20260308T080000
END:DAYLIGHT
BEGIN:STANDARD
TZOFFSETFROM:-0500
TZOFFSETTO:-0600
TZNAME:CST
DTSTART:20261101T070000
END:STANDARD
END:VTIMEZONE
BEGIN:VEVENT
DTSTART;TZID=America/Chicago:20250501T171500
DTEND;TZID=America/Chicago:20250501T180000
DTSTAMP:20260424T073617
CREATED:20241223T173529Z
LAST-MODIFIED:20241223T173529Z
UID:10002681-1746119700-1746122400@www.calvary-rochester.org
SUMMARY:Healing Service
DESCRIPTION:Join us in the church each week for a lay-led service of quiet prayer focused on healing and hope. \nAll are welcome!
URL:https://www.calvary-rochester.org/event/healing-service-6/2025-05-01/
LOCATION:Calvary Episcopal Church\, 111 Third Avenue SW\, Rochester\, MN\, 55902
CATEGORIES:Home,Worship
ATTACH;FMTTYPE=image/png:https://www.calvary-rochester.org/wp-content/uploads/2024/06/Thursday-Healing-FB.png
ORGANIZER;CN="Calvary Episcopal Church":MAILTO:office@calvary-rochester.org
GEO:40.602991;-73.959517
X-APPLE-STRUCTURED-LOCATION;VALUE=URI;X-ADDRESS=Calvary Episcopal Church 111 Third Avenue SW Rochester MN 55902;X-APPLE-RADIUS=500;X-TITLE=111 Third Avenue SW:geo:-73.959517,40.602991
END:VEVENT
BEGIN:VEVENT
DTSTART;TZID=America/Chicago:20250504T083000
DTEND;TZID=America/Chicago:20250504T091500
DTSTAMP:20260424T073617
CREATED:20241223T170455Z
LAST-MODIFIED:20260224T174611Z
UID:10002545-1746347400-1746350100@www.calvary-rochester.org
SUMMARY:Sunday Worship: A Service of Morning Prayer
DESCRIPTION:This is one of two services each Sunday: at 8:30 am\, on the first and third Sundays of every month\, Calvary offers A Service of Morning Prayer. This beautiful\, ancient service consists of prayers\, canticles\, and scripture readings and is the traditional way of greeting the day in our Episcopal tradition. It is about 30 minutes long\, and readers will be invited out of the gathered congregation by the lay leaders. \nThe nursery\, staffed by two adults each Sunday who are Safeguarding God’s Children trained\, will be available 8:30 am – 11:15 am.
URL:https://www.calvary-rochester.org/event/sunday-worship-a-service-of-morning-prayer-3/2025-05-04/
LOCATION:Calvary Episcopal Church\, 111 Third Avenue SW\, Rochester\, MN\, 55902
CATEGORIES:Home,Worship
ATTACH;FMTTYPE=image/png:https://www.calvary-rochester.org/wp-content/uploads/2022/11/ASoMP-FB.png
ORGANIZER;CN="Calvary Episcopal Church":MAILTO:office@calvary-rochester.org
GEO:40.602991;-73.959517
X-APPLE-STRUCTURED-LOCATION;VALUE=URI;X-ADDRESS=Calvary Episcopal Church 111 Third Avenue SW Rochester MN 55902;X-APPLE-RADIUS=500;X-TITLE=111 Third Avenue SW:geo:-73.959517,40.602991
END:VEVENT
BEGIN:VEVENT
DTSTART;TZID=America/Chicago:20250504T103000
DTEND;TZID=America/Chicago:20250504T113000
DTSTAMP:20260424T073617
CREATED:20241223T165510Z
LAST-MODIFIED:20260224T173824Z
UID:10002502-1746354600-1746358200@www.calvary-rochester.org
SUMMARY:Sunday Worship: Holy Eucharist\, Rite II
DESCRIPTION:This is one of two services each Sunday: at 10:30 am\, Calvary offers a Rite II service of Holy Eucharist. Rite II uses more contemporary language and includes congregational and choral singing. The Motet Choir will lead our music. \nThe nursery\, staffed by two adults each Sunday who are Safeguarding God’s Children trained\, will be available 8:30 am – 11:15 am.
URL:https://www.calvary-rochester.org/event/sunday-worship-holy-eucharist-rite-ii-6/2025-05-04/
LOCATION:Calvary Episcopal Church\, 111 Third Avenue SW\, Rochester\, MN\, 55902
CATEGORIES:Home,Worship
ATTACH;FMTTYPE=image/png:https://www.calvary-rochester.org/wp-content/uploads/2022/11/HE-Rite-II-FB.png
ORGANIZER;CN="Calvary Episcopal Church":MAILTO:office@calvary-rochester.org
GEO:40.602991;-73.959517
X-APPLE-STRUCTURED-LOCATION;VALUE=URI;X-ADDRESS=Calvary Episcopal Church 111 Third Avenue SW Rochester MN 55902;X-APPLE-RADIUS=500;X-TITLE=111 Third Avenue SW:geo:-73.959517,40.602991
END:VEVENT
BEGIN:VEVENT
DTSTART;TZID=America/Chicago:20250505T171500
DTEND;TZID=America/Chicago:20250505T180000
DTSTAMP:20260424T073617
CREATED:20241223T170910Z
LAST-MODIFIED:20260224T143302Z
UID:10002580-1746465300-1746468000@www.calvary-rochester.org
SUMMARY:Healing Service
DESCRIPTION:Join us in the church each week for our healing service\, featuring prayers\, Holy Eucharist\, and anointing for healing. \nAll are welcome!
URL:https://www.calvary-rochester.org/event/healing-service-5/2025-05-05/
LOCATION:Calvary Episcopal Church\, 111 Third Avenue SW\, Rochester\, MN\, 55902
CATEGORIES:Home,Worship
ATTACH;FMTTYPE=image/png:https://www.calvary-rochester.org/wp-content/uploads/2022/08/Healing-Service-FB-1.png
ORGANIZER;CN="Calvary Episcopal Church":MAILTO:office@calvary-rochester.org
GEO:40.602991;-73.959517
X-APPLE-STRUCTURED-LOCATION;VALUE=URI;X-ADDRESS=Calvary Episcopal Church 111 Third Avenue SW Rochester MN 55902;X-APPLE-RADIUS=500;X-TITLE=111 Third Avenue SW:geo:-73.959517,40.602991
END:VEVENT
BEGIN:VEVENT
DTSTART;TZID=America/Chicago:20250508T171500
DTEND;TZID=America/Chicago:20250508T180000
DTSTAMP:20260424T073617
CREATED:20241223T173529Z
LAST-MODIFIED:20241223T173529Z
UID:10002682-1746724500-1746727200@www.calvary-rochester.org
SUMMARY:Healing Service
DESCRIPTION:Join us in the church each week for a lay-led service of quiet prayer focused on healing and hope. \nAll are welcome!
URL:https://www.calvary-rochester.org/event/healing-service-6/2025-05-08/
LOCATION:Calvary Episcopal Church\, 111 Third Avenue SW\, Rochester\, MN\, 55902
CATEGORIES:Home,Worship
ATTACH;FMTTYPE=image/png:https://www.calvary-rochester.org/wp-content/uploads/2024/06/Thursday-Healing-FB.png
ORGANIZER;CN="Calvary Episcopal Church":MAILTO:office@calvary-rochester.org
GEO:40.602991;-73.959517
X-APPLE-STRUCTURED-LOCATION;VALUE=URI;X-ADDRESS=Calvary Episcopal Church 111 Third Avenue SW Rochester MN 55902;X-APPLE-RADIUS=500;X-TITLE=111 Third Avenue SW:geo:-73.959517,40.602991
END:VEVENT
BEGIN:VEVENT
DTSTART;TZID=America/Chicago:20250511T083000
DTEND;TZID=America/Chicago:20250511T093000
DTSTAMP:20260424T073617
CREATED:20241223T165119Z
LAST-MODIFIED:20260224T174412Z
UID:10002466-1746952200-1746955800@www.calvary-rochester.org
SUMMARY:Sunday Worship: Holy Eucharist\, Rite I
DESCRIPTION:This is one of two services each Sunday: at 8:30 am on most Sundays\, Calvary offers a Rite I service of Holy Eucharist. Rite I uses traditional language and is quiet and contemplative. \nThe nursery\, staffed by two adults each Sunday who are Safeguarding God’s Children trained\, will be available 8:30 am – 11:15 am.
URL:https://www.calvary-rochester.org/event/sunday-worship-holy-eucharist-rite-i-4/2025-05-11/
LOCATION:Calvary Episcopal Church\, 111 Third Avenue SW\, Rochester\, MN\, 55902
CATEGORIES:Home,Worship
ATTACH;FMTTYPE=image/png:https://www.calvary-rochester.org/wp-content/uploads/2022/11/HE-Rite-I-FB.png
ORGANIZER;CN="Calvary Episcopal Church":MAILTO:office@calvary-rochester.org
GEO:40.602991;-73.959517
X-APPLE-STRUCTURED-LOCATION;VALUE=URI;X-ADDRESS=Calvary Episcopal Church 111 Third Avenue SW Rochester MN 55902;X-APPLE-RADIUS=500;X-TITLE=111 Third Avenue SW:geo:-73.959517,40.602991
END:VEVENT
BEGIN:VEVENT
DTSTART;TZID=America/Chicago:20250511T103000
DTEND;TZID=America/Chicago:20250511T113000
DTSTAMP:20260424T073617
CREATED:20241223T165510Z
LAST-MODIFIED:20260224T173824Z
UID:10002503-1746959400-1746963000@www.calvary-rochester.org
SUMMARY:Sunday Worship: Holy Eucharist\, Rite II
DESCRIPTION:This is one of two services each Sunday: at 10:30 am\, Calvary offers a Rite II service of Holy Eucharist. Rite II uses more contemporary language and includes congregational and choral singing. The Motet Choir will lead our music. \nThe nursery\, staffed by two adults each Sunday who are Safeguarding God’s Children trained\, will be available 8:30 am – 11:15 am.
URL:https://www.calvary-rochester.org/event/sunday-worship-holy-eucharist-rite-ii-6/2025-05-11/
LOCATION:Calvary Episcopal Church\, 111 Third Avenue SW\, Rochester\, MN\, 55902
CATEGORIES:Home,Worship
ATTACH;FMTTYPE=image/png:https://www.calvary-rochester.org/wp-content/uploads/2022/11/HE-Rite-II-FB.png
ORGANIZER;CN="Calvary Episcopal Church":MAILTO:office@calvary-rochester.org
GEO:40.602991;-73.959517
X-APPLE-STRUCTURED-LOCATION;VALUE=URI;X-ADDRESS=Calvary Episcopal Church 111 Third Avenue SW Rochester MN 55902;X-APPLE-RADIUS=500;X-TITLE=111 Third Avenue SW:geo:-73.959517,40.602991
END:VEVENT
BEGIN:VEVENT
DTSTART;TZID=America/Chicago:20250512T171500
DTEND;TZID=America/Chicago:20250512T180000
DTSTAMP:20260424T073617
CREATED:20241223T170910Z
LAST-MODIFIED:20260224T143302Z
UID:10002581-1747070100-1747072800@www.calvary-rochester.org
SUMMARY:Healing Service
DESCRIPTION:Join us in the church each week for our healing service\, featuring prayers\, Holy Eucharist\, and anointing for healing. \nAll are welcome!
URL:https://www.calvary-rochester.org/event/healing-service-5/2025-05-12/
LOCATION:Calvary Episcopal Church\, 111 Third Avenue SW\, Rochester\, MN\, 55902
CATEGORIES:Home,Worship
ATTACH;FMTTYPE=image/png:https://www.calvary-rochester.org/wp-content/uploads/2022/08/Healing-Service-FB-1.png
ORGANIZER;CN="Calvary Episcopal Church":MAILTO:office@calvary-rochester.org
GEO:40.602991;-73.959517
X-APPLE-STRUCTURED-LOCATION;VALUE=URI;X-ADDRESS=Calvary Episcopal Church 111 Third Avenue SW Rochester MN 55902;X-APPLE-RADIUS=500;X-TITLE=111 Third Avenue SW:geo:-73.959517,40.602991
END:VEVENT
BEGIN:VEVENT
DTSTART;TZID=America/Chicago:20250515T171500
DTEND;TZID=America/Chicago:20250515T180000
DTSTAMP:20260424T073617
CREATED:20241223T173529Z
LAST-MODIFIED:20241223T173529Z
UID:10002683-1747329300-1747332000@www.calvary-rochester.org
SUMMARY:Healing Service
DESCRIPTION:Join us in the church each week for a lay-led service of quiet prayer focused on healing and hope. \nAll are welcome!
URL:https://www.calvary-rochester.org/event/healing-service-6/2025-05-15/
LOCATION:Calvary Episcopal Church\, 111 Third Avenue SW\, Rochester\, MN\, 55902
CATEGORIES:Home,Worship
ATTACH;FMTTYPE=image/png:https://www.calvary-rochester.org/wp-content/uploads/2024/06/Thursday-Healing-FB.png
ORGANIZER;CN="Calvary Episcopal Church":MAILTO:office@calvary-rochester.org
GEO:40.602991;-73.959517
X-APPLE-STRUCTURED-LOCATION;VALUE=URI;X-ADDRESS=Calvary Episcopal Church 111 Third Avenue SW Rochester MN 55902;X-APPLE-RADIUS=500;X-TITLE=111 Third Avenue SW:geo:-73.959517,40.602991
END:VEVENT
BEGIN:VEVENT
DTSTART;TZID=America/Chicago:20250518T083000
DTEND;TZID=America/Chicago:20250518T091500
DTSTAMP:20260424T073617
CREATED:20241223T170455Z
LAST-MODIFIED:20260224T174611Z
UID:10002546-1747557000-1747559700@www.calvary-rochester.org
SUMMARY:Sunday Worship: A Service of Morning Prayer
DESCRIPTION:This is one of two services each Sunday: at 8:30 am\, on the first and third Sundays of every month\, Calvary offers A Service of Morning Prayer. This beautiful\, ancient service consists of prayers\, canticles\, and scripture readings and is the traditional way of greeting the day in our Episcopal tradition. It is about 30 minutes long\, and readers will be invited out of the gathered congregation by the lay leaders. \nThe nursery\, staffed by two adults each Sunday who are Safeguarding God’s Children trained\, will be available 8:30 am – 11:15 am.
URL:https://www.calvary-rochester.org/event/sunday-worship-a-service-of-morning-prayer-3/2025-05-18/
LOCATION:Calvary Episcopal Church\, 111 Third Avenue SW\, Rochester\, MN\, 55902
CATEGORIES:Home,Worship
ATTACH;FMTTYPE=image/png:https://www.calvary-rochester.org/wp-content/uploads/2022/11/ASoMP-FB.png
ORGANIZER;CN="Calvary Episcopal Church":MAILTO:office@calvary-rochester.org
GEO:40.602991;-73.959517
X-APPLE-STRUCTURED-LOCATION;VALUE=URI;X-ADDRESS=Calvary Episcopal Church 111 Third Avenue SW Rochester MN 55902;X-APPLE-RADIUS=500;X-TITLE=111 Third Avenue SW:geo:-73.959517,40.602991
END:VEVENT
BEGIN:VEVENT
DTSTART;TZID=America/Chicago:20250518T103000
DTEND;TZID=America/Chicago:20250518T113000
DTSTAMP:20260424T073617
CREATED:20241223T165510Z
LAST-MODIFIED:20260224T173824Z
UID:10002504-1747564200-1747567800@www.calvary-rochester.org
SUMMARY:Sunday Worship: Holy Eucharist\, Rite II
DESCRIPTION:This is one of two services each Sunday: at 10:30 am\, Calvary offers a Rite II service of Holy Eucharist. Rite II uses more contemporary language and includes congregational and choral singing. The Motet Choir will lead our music. \nThe nursery\, staffed by two adults each Sunday who are Safeguarding God’s Children trained\, will be available 8:30 am – 11:15 am.
URL:https://www.calvary-rochester.org/event/sunday-worship-holy-eucharist-rite-ii-6/2025-05-18/
LOCATION:Calvary Episcopal Church\, 111 Third Avenue SW\, Rochester\, MN\, 55902
CATEGORIES:Home,Worship
ATTACH;FMTTYPE=image/png:https://www.calvary-rochester.org/wp-content/uploads/2022/11/HE-Rite-II-FB.png
ORGANIZER;CN="Calvary Episcopal Church":MAILTO:office@calvary-rochester.org
GEO:40.602991;-73.959517
X-APPLE-STRUCTURED-LOCATION;VALUE=URI;X-ADDRESS=Calvary Episcopal Church 111 Third Avenue SW Rochester MN 55902;X-APPLE-RADIUS=500;X-TITLE=111 Third Avenue SW:geo:-73.959517,40.602991
END:VEVENT
BEGIN:VEVENT
DTSTART;TZID=America/Chicago:20250519T171500
DTEND;TZID=America/Chicago:20250519T180000
DTSTAMP:20260424T073617
CREATED:20241223T170910Z
LAST-MODIFIED:20260224T143302Z
UID:10002582-1747674900-1747677600@www.calvary-rochester.org
SUMMARY:Healing Service
DESCRIPTION:Join us in the church each week for our healing service\, featuring prayers\, Holy Eucharist\, and anointing for healing. \nAll are welcome!
URL:https://www.calvary-rochester.org/event/healing-service-5/2025-05-19/
LOCATION:Calvary Episcopal Church\, 111 Third Avenue SW\, Rochester\, MN\, 55902
CATEGORIES:Home,Worship
ATTACH;FMTTYPE=image/png:https://www.calvary-rochester.org/wp-content/uploads/2022/08/Healing-Service-FB-1.png
ORGANIZER;CN="Calvary Episcopal Church":MAILTO:office@calvary-rochester.org
GEO:40.602991;-73.959517
X-APPLE-STRUCTURED-LOCATION;VALUE=URI;X-ADDRESS=Calvary Episcopal Church 111 Third Avenue SW Rochester MN 55902;X-APPLE-RADIUS=500;X-TITLE=111 Third Avenue SW:geo:-73.959517,40.602991
END:VEVENT
BEGIN:VEVENT
DTSTART;TZID=America/Chicago:20250522T171500
DTEND;TZID=America/Chicago:20250522T180000
DTSTAMP:20260424T073617
CREATED:20241223T173529Z
LAST-MODIFIED:20241223T173529Z
UID:10002684-1747934100-1747936800@www.calvary-rochester.org
SUMMARY:Healing Service
DESCRIPTION:Join us in the church each week for a lay-led service of quiet prayer focused on healing and hope. \nAll are welcome!
URL:https://www.calvary-rochester.org/event/healing-service-6/2025-05-22/
LOCATION:Calvary Episcopal Church\, 111 Third Avenue SW\, Rochester\, MN\, 55902
CATEGORIES:Home,Worship
ATTACH;FMTTYPE=image/png:https://www.calvary-rochester.org/wp-content/uploads/2024/06/Thursday-Healing-FB.png
ORGANIZER;CN="Calvary Episcopal Church":MAILTO:office@calvary-rochester.org
GEO:40.602991;-73.959517
X-APPLE-STRUCTURED-LOCATION;VALUE=URI;X-ADDRESS=Calvary Episcopal Church 111 Third Avenue SW Rochester MN 55902;X-APPLE-RADIUS=500;X-TITLE=111 Third Avenue SW:geo:-73.959517,40.602991
END:VEVENT
BEGIN:VEVENT
DTSTART;TZID=America/Chicago:20250525T083000
DTEND;TZID=America/Chicago:20250525T093000
DTSTAMP:20260424T073617
CREATED:20241223T165119Z
LAST-MODIFIED:20260224T174412Z
UID:10002467-1748161800-1748165400@www.calvary-rochester.org
SUMMARY:Sunday Worship: Holy Eucharist\, Rite I
DESCRIPTION:This is one of two services each Sunday: at 8:30 am on most Sundays\, Calvary offers a Rite I service of Holy Eucharist. Rite I uses traditional language and is quiet and contemplative. \nThe nursery\, staffed by two adults each Sunday who are Safeguarding God’s Children trained\, will be available 8:30 am – 11:15 am.
URL:https://www.calvary-rochester.org/event/sunday-worship-holy-eucharist-rite-i-4/2025-05-25/
LOCATION:Calvary Episcopal Church\, 111 Third Avenue SW\, Rochester\, MN\, 55902
CATEGORIES:Home,Worship
ATTACH;FMTTYPE=image/png:https://www.calvary-rochester.org/wp-content/uploads/2022/11/HE-Rite-I-FB.png
ORGANIZER;CN="Calvary Episcopal Church":MAILTO:office@calvary-rochester.org
GEO:40.602991;-73.959517
X-APPLE-STRUCTURED-LOCATION;VALUE=URI;X-ADDRESS=Calvary Episcopal Church 111 Third Avenue SW Rochester MN 55902;X-APPLE-RADIUS=500;X-TITLE=111 Third Avenue SW:geo:-73.959517,40.602991
END:VEVENT
BEGIN:VEVENT
DTSTART;TZID=America/Chicago:20250525T103000
DTEND;TZID=America/Chicago:20250525T113000
DTSTAMP:20260424T073617
CREATED:20241223T165510Z
LAST-MODIFIED:20260224T173824Z
UID:10002505-1748169000-1748172600@www.calvary-rochester.org
SUMMARY:Sunday Worship: Holy Eucharist\, Rite II
DESCRIPTION:This is one of two services each Sunday: at 10:30 am\, Calvary offers a Rite II service of Holy Eucharist. Rite II uses more contemporary language and includes congregational and choral singing. The Motet Choir will lead our music. \nThe nursery\, staffed by two adults each Sunday who are Safeguarding God’s Children trained\, will be available 8:30 am – 11:15 am.
URL:https://www.calvary-rochester.org/event/sunday-worship-holy-eucharist-rite-ii-6/2025-05-25/
LOCATION:Calvary Episcopal Church\, 111 Third Avenue SW\, Rochester\, MN\, 55902
CATEGORIES:Home,Worship
ATTACH;FMTTYPE=image/png:https://www.calvary-rochester.org/wp-content/uploads/2022/11/HE-Rite-II-FB.png
ORGANIZER;CN="Calvary Episcopal Church":MAILTO:office@calvary-rochester.org
GEO:40.602991;-73.959517
X-APPLE-STRUCTURED-LOCATION;VALUE=URI;X-ADDRESS=Calvary Episcopal Church 111 Third Avenue SW Rochester MN 55902;X-APPLE-RADIUS=500;X-TITLE=111 Third Avenue SW:geo:-73.959517,40.602991
END:VEVENT
BEGIN:VEVENT
DTSTART;TZID=America/Chicago:20250526T171500
DTEND;TZID=America/Chicago:20250526T180000
DTSTAMP:20260424T073617
CREATED:20241223T170910Z
LAST-MODIFIED:20260224T143302Z
UID:10002583-1748279700-1748282400@www.calvary-rochester.org
SUMMARY:Healing Service
DESCRIPTION:Join us in the church each week for our healing service\, featuring prayers\, Holy Eucharist\, and anointing for healing. \nAll are welcome!
URL:https://www.calvary-rochester.org/event/healing-service-5/2025-05-26/
LOCATION:Calvary Episcopal Church\, 111 Third Avenue SW\, Rochester\, MN\, 55902
CATEGORIES:Home,Worship
ATTACH;FMTTYPE=image/png:https://www.calvary-rochester.org/wp-content/uploads/2022/08/Healing-Service-FB-1.png
ORGANIZER;CN="Calvary Episcopal Church":MAILTO:office@calvary-rochester.org
GEO:40.602991;-73.959517
X-APPLE-STRUCTURED-LOCATION;VALUE=URI;X-ADDRESS=Calvary Episcopal Church 111 Third Avenue SW Rochester MN 55902;X-APPLE-RADIUS=500;X-TITLE=111 Third Avenue SW:geo:-73.959517,40.602991
END:VEVENT
BEGIN:VEVENT
DTSTART;TZID=America/Chicago:20250529T171500
DTEND;TZID=America/Chicago:20250529T180000
DTSTAMP:20260424T073617
CREATED:20241223T173529Z
LAST-MODIFIED:20241223T173529Z
UID:10002685-1748538900-1748541600@www.calvary-rochester.org
SUMMARY:Healing Service
DESCRIPTION:Join us in the church each week for a lay-led service of quiet prayer focused on healing and hope. \nAll are welcome!
URL:https://www.calvary-rochester.org/event/healing-service-6/2025-05-29/
LOCATION:Calvary Episcopal Church\, 111 Third Avenue SW\, Rochester\, MN\, 55902
CATEGORIES:Home,Worship
ATTACH;FMTTYPE=image/png:https://www.calvary-rochester.org/wp-content/uploads/2024/06/Thursday-Healing-FB.png
ORGANIZER;CN="Calvary Episcopal Church":MAILTO:office@calvary-rochester.org
GEO:40.602991;-73.959517
X-APPLE-STRUCTURED-LOCATION;VALUE=URI;X-ADDRESS=Calvary Episcopal Church 111 Third Avenue SW Rochester MN 55902;X-APPLE-RADIUS=500;X-TITLE=111 Third Avenue SW:geo:-73.959517,40.602991
END:VEVENT
END:VCALENDAR