BEGIN:VCALENDAR
VERSION:2.0
PRODID:-//Calvary Episcopal Church - ECPv6.15.20//NONSGML v1.0//EN
CALSCALE:GREGORIAN
METHOD:PUBLISH
X-ORIGINAL-URL:https://www.calvary-rochester.org
X-WR-CALDESC:Events for Calvary Episcopal Church
REFRESH-INTERVAL;VALUE=DURATION:PT1H
X-Robots-Tag:noindex
X-PUBLISHED-TTL:PT1H
BEGIN:VTIMEZONE
TZID:America/Chicago
BEGIN:DAYLIGHT
TZOFFSETFROM:-0600
TZOFFSETTO:-0500
TZNAME:CDT
DTSTART:20230312T080000
END:DAYLIGHT
BEGIN:STANDARD
TZOFFSETFROM:-0500
TZOFFSETTO:-0600
TZNAME:CST
DTSTART:20231105T070000
END:STANDARD
BEGIN:DAYLIGHT
TZOFFSETFROM:-0600
TZOFFSETTO:-0500
TZNAME:CDT
DTSTART:20240310T080000
END:DAYLIGHT
BEGIN:STANDARD
TZOFFSETFROM:-0500
TZOFFSETTO:-0600
TZNAME:CST
DTSTART:20241103T070000
END:STANDARD
BEGIN:DAYLIGHT
TZOFFSETFROM:-0600
TZOFFSETTO:-0500
TZNAME:CDT
DTSTART:20250309T080000
END:DAYLIGHT
BEGIN:STANDARD
TZOFFSETFROM:-0500
TZOFFSETTO:-0600
TZNAME:CST
DTSTART:20251102T070000
END:STANDARD
END:VTIMEZONE
BEGIN:VEVENT
DTSTART;TZID=America/Chicago:20241201T083000
DTEND;TZID=America/Chicago:20241201T091500
DTSTAMP:20260424T215645
CREATED:20241203T002738Z
LAST-MODIFIED:20241203T002832Z
UID:10001821-1733041800-1733044500@www.calvary-rochester.org
SUMMARY:Sunday Worship: A Service of Morning Prayer
DESCRIPTION:This is one of two services each Sunday: at 8:30 am\, on the first and third Sundays of every month\, Calvary offers A Service of Morning Prayer. This beautiful\, ancient service consists of prayers\, canticles\, and scripture readings and is the traditional way of greeting the day in our Episcopal tradition. It is about 30 minutes long\, and readers will be invited out of the gathered congregation by the lay leaders. \nThe nursery\, staffed by two adults each Sunday who are vaccinated\, boosted\, and Safeguarding God’s Children trained\, will be available 8:30 am – 11:15 am.
URL:https://www.calvary-rochester.org/event/sunday-worship-a-service-of-morning-prayer-2-2-2-2-2/
LOCATION:Calvary Episcopal Church\, 111 Third Avenue SW\, Rochester\, MN\, 55902
CATEGORIES:Advent and Christmas,Home,Worship
ATTACH;FMTTYPE=image/png:https://www.calvary-rochester.org/wp-content/uploads/2022/11/ASoMP-FB.png
ORGANIZER;CN="Calvary Episcopal Church":MAILTO:office@calvary-rochester.org
GEO:40.602991;-73.959517
X-APPLE-STRUCTURED-LOCATION;VALUE=URI;X-ADDRESS=Calvary Episcopal Church 111 Third Avenue SW Rochester MN 55902;X-APPLE-RADIUS=500;X-TITLE=111 Third Avenue SW:geo:-73.959517,40.602991
END:VEVENT
BEGIN:VEVENT
DTSTART;TZID=America/Chicago:20241201T103000
DTEND;TZID=America/Chicago:20241201T113000
DTSTAMP:20260424T215645
CREATED:20241203T002842Z
LAST-MODIFIED:20241203T002842Z
UID:10001804-1733049000-1733052600@www.calvary-rochester.org
SUMMARY:Sunday Worship: Holy Eucharist\, Rite II
DESCRIPTION:This is one of two services each Sunday: at 10:30 am\, Calvary offers a Rite II service of Holy Eucharist. Rite II uses more contemporary language and includes congregational and choral singing. The Motet Choir will lead our music. \nThe nursery\, staffed by two adults each Sunday who are vaccinated\, boosted\, and Safeguarding God’s Children trained\, will be available 8:30 am – 11:15 am.
URL:https://www.calvary-rochester.org/event/sunday-worship-holy-eucharist-rite-ii-5-4-2-2/
LOCATION:Calvary Episcopal Church\, 111 Third Avenue SW\, Rochester\, MN\, 55902
CATEGORIES:Advent and Christmas,Home,Worship
ATTACH;FMTTYPE=image/png:https://www.calvary-rochester.org/wp-content/uploads/2022/11/HE-Rite-II-FB.png
ORGANIZER;CN="Calvary Episcopal Church":MAILTO:office@calvary-rochester.org
GEO:40.602991;-73.959517
X-APPLE-STRUCTURED-LOCATION;VALUE=URI;X-ADDRESS=Calvary Episcopal Church 111 Third Avenue SW Rochester MN 55902;X-APPLE-RADIUS=500;X-TITLE=111 Third Avenue SW:geo:-73.959517,40.602991
END:VEVENT
BEGIN:VEVENT
DTSTART;TZID=America/Chicago:20241207T140000
DTEND;TZID=America/Chicago:20241207T170000
DTSTAMP:20260424T215645
CREATED:20241120T005345Z
LAST-MODIFIED:20241203T002851Z
UID:10002448-1733580000-1733590800@www.calvary-rochester.org
SUMMARY:2nd Annual Calvary Bake-Off
DESCRIPTION:Everyone is welcome to come together for an afternoon of baking fun! Kirsten Vitale will be teaching the middle and high schoolers how to decorate their cookies while the younger kids will be mixing up and baking some delicious cookie dough! To conclude\, we will be ordering pizza for supper! RSVP to Michelle McKean. If anyone would like to donate some of their favorite Christmas cookies for the bake sale\, please drop them off Saturday during the Bake-off or bring them to the church no later than 8:45 am on Sunday\, December 8\, 2024.
URL:https://www.calvary-rochester.org/event/2nd-annual-calvary-bake-off/
LOCATION:Calvary Episcopal Church\, 111 Third Avenue SW\, Rochester\, MN\, 55902
CATEGORIES:Advent and Christmas,Food,Formation,Home,Worship
ATTACH;FMTTYPE=image/png:https://www.calvary-rochester.org/wp-content/uploads/2024/11/Calvary-Bakeoff-FB.png
ORGANIZER;CN="Calvary Episcopal Church":MAILTO:office@calvary-rochester.org
GEO:40.602991;-73.959517
X-APPLE-STRUCTURED-LOCATION;VALUE=URI;X-ADDRESS=Calvary Episcopal Church 111 Third Avenue SW Rochester MN 55902;X-APPLE-RADIUS=500;X-TITLE=111 Third Avenue SW:geo:-73.959517,40.602991
END:VEVENT
BEGIN:VEVENT
DTSTART;TZID=America/Chicago:20241208T083000
DTEND;TZID=America/Chicago:20241208T091500
DTSTAMP:20260424T215645
CREATED:20241203T002916Z
LAST-MODIFIED:20241203T002916Z
UID:10001753-1733646600-1733649300@www.calvary-rochester.org
SUMMARY:Sunday Worship: Holy Eucharist\, Rite I
DESCRIPTION:This is one of two services each Sunday: at 8:30 am\, Calvary offers a Rite I service of Holy Eucharist. Rite I uses traditional language and is quiet and contemplative. \nThe nursery\, staffed by two adults each Sunday who are vaccinated\, boosted\, and Safeguarding God’s Children trained\, will be available 8:30 am – 11:15 am.
URL:https://www.calvary-rochester.org/event/sunday-worship-holy-eucharist-rite-i-3-2-2-2-2-2/
LOCATION:Calvary Episcopal Church\, 111 Third Avenue SW\, Rochester\, MN\, 55902
CATEGORIES:Advent and Christmas,Home,Worship
ATTACH;FMTTYPE=image/png:https://www.calvary-rochester.org/wp-content/uploads/2022/11/HE-Rite-I-FB.png
ORGANIZER;CN="Calvary Episcopal Church":MAILTO:office@calvary-rochester.org
GEO:40.602991;-73.959517
X-APPLE-STRUCTURED-LOCATION;VALUE=URI;X-ADDRESS=Calvary Episcopal Church 111 Third Avenue SW Rochester MN 55902;X-APPLE-RADIUS=500;X-TITLE=111 Third Avenue SW:geo:-73.959517,40.602991
END:VEVENT
BEGIN:VEVENT
DTSTART;TZID=America/Chicago:20241208T091500
DTEND;TZID=America/Chicago:20241208T101500
DTSTAMP:20260424T215645
CREATED:20241120T010139Z
LAST-MODIFIED:20241203T002925Z
UID:10002449-1733649300-1733652900@www.calvary-rochester.org
SUMMARY:Cookie Bake Sale
DESCRIPTION:Want some delicious and beautifully decorated homemade cookies but too tired to bake? We have you covered! Please come out on December 8 from 9:15 am to 10:15 am (and during the Greening of the Church if we have any cookies left!) and support Calvary’s Kids as we raise funds to support Formation and Outreach activities. The cost of baked goods will be a freewill donation.
URL:https://www.calvary-rochester.org/event/cookie-bake-sale/
LOCATION:Calvary Episcopal Church\, 111 Third Avenue SW\, Rochester\, MN\, 55902
CATEGORIES:Advent and Christmas,Food,Formation,Home
ATTACH;FMTTYPE=image/png:https://www.calvary-rochester.org/wp-content/uploads/2024/11/Bake-Sale-FB.png
ORGANIZER;CN="Calvary Episcopal Church":MAILTO:office@calvary-rochester.org
GEO:40.602991;-73.959517
X-APPLE-STRUCTURED-LOCATION;VALUE=URI;X-ADDRESS=Calvary Episcopal Church 111 Third Avenue SW Rochester MN 55902;X-APPLE-RADIUS=500;X-TITLE=111 Third Avenue SW:geo:-73.959517,40.602991
END:VEVENT
BEGIN:VEVENT
DTSTART;TZID=America/Chicago:20241208T103000
DTEND;TZID=America/Chicago:20241208T113000
DTSTAMP:20260424T215645
CREATED:20241203T002932Z
LAST-MODIFIED:20241203T003024Z
UID:10001805-1733653800-1733657400@www.calvary-rochester.org
SUMMARY:Sunday Worship: Holy Eucharist\, Rite II
DESCRIPTION:This is one of two services each Sunday: at 10:30 am\, Calvary offers a Rite II service of Holy Eucharist. Rite II uses more contemporary language and includes congregational and choral singing. The Motet Choir will lead our music. \nThe nursery\, staffed by two adults each Sunday who are vaccinated\, boosted\, and Safeguarding God’s Children trained\, will be available 8:30 am – 11:15 am.
URL:https://www.calvary-rochester.org/event/sunday-worship-holy-eucharist-rite-ii-5-4-2-3/
LOCATION:Calvary Episcopal Church\, 111 Third Avenue SW\, Rochester\, MN\, 55902
CATEGORIES:Advent and Christmas,Home,Worship
ATTACH;FMTTYPE=image/png:https://www.calvary-rochester.org/wp-content/uploads/2022/11/HE-Rite-II-FB.png
ORGANIZER;CN="Calvary Episcopal Church":MAILTO:office@calvary-rochester.org
GEO:40.602991;-73.959517
X-APPLE-STRUCTURED-LOCATION;VALUE=URI;X-ADDRESS=Calvary Episcopal Church 111 Third Avenue SW Rochester MN 55902;X-APPLE-RADIUS=500;X-TITLE=111 Third Avenue SW:geo:-73.959517,40.602991
END:VEVENT
BEGIN:VEVENT
DTSTART;TZID=America/Chicago:20241208T113000
DTEND;TZID=America/Chicago:20241208T130000
DTSTAMP:20260424T215645
CREATED:20241119T235243Z
LAST-MODIFIED:20241203T002938Z
UID:10002446-1733657400-1733662800@www.calvary-rochester.org
SUMMARY:Greening of the Church
DESCRIPTION:Taco Bar\, Mason Jars\, and More! \nPlease join us on Sunday\, December 8 at 11:30 am for the Greening of the Church. This is a festive intergenerational event for all parishioners! \nThis year for lunch we are going to have a taco bar with hard shells\, soft shells\, and corn tortillas\, which can be customized to your tastes and dietary needs\, with ground beef prepared with GF seasoning\, cheese\, lettuce\, sour cream\, guacamole\, tomatoes\, onions\, jalapenos\, and black beans. They will be served with tortillas and salsa\, Spanish rice\, and cherry cheesecake.  \nWe will be decorating the Christmas tree in Brackenridge Hall and hanging fresh greens in the sanctuary. Michelle has a special craft for the youth: making Christmas lanterns for Mason jars! \nPlease sign up in Brackenridge or use this link to sign up online. You can also sign up by calling\, texting\, or emailing Cindy Heins at (507) 993-5824\, heins.cynthia@gmail.com. The last day to sign up is Sunday\, December 1; it is important that you sign up by the deadline so that we have an accurate count for the caterer. If you can help hang greens or clean up after lunch\, please indicate so on the sign-up sheet. Also\, please let us know the number of children who will be making the Christmas craft with Michelle.
URL:https://www.calvary-rochester.org/event/greening-of-the-church/
LOCATION:Calvary Episcopal Church\, 111 Third Avenue SW\, Rochester\, MN\, 55902
CATEGORIES:Advent and Christmas,Fellowship,Home
ATTACH;FMTTYPE=image/png:https://www.calvary-rochester.org/wp-content/uploads/2024/11/Greening-FB.png
ORGANIZER;CN="Calvary Episcopal Church":MAILTO:office@calvary-rochester.org
GEO:40.602991;-73.959517
X-APPLE-STRUCTURED-LOCATION;VALUE=URI;X-ADDRESS=Calvary Episcopal Church 111 Third Avenue SW Rochester MN 55902;X-APPLE-RADIUS=500;X-TITLE=111 Third Avenue SW:geo:-73.959517,40.602991
END:VEVENT
BEGIN:VEVENT
DTSTART;TZID=America/Chicago:20241215T083000
DTEND;TZID=America/Chicago:20241215T091500
DTSTAMP:20260424T215645
CREATED:20241203T002950Z
LAST-MODIFIED:20241203T003035Z
UID:10002434-1734251400-1734254100@www.calvary-rochester.org
SUMMARY:Sunday Worship: A Service of Morning Prayer
DESCRIPTION:This is one of two services each Sunday: at 8:30 am\, on the first and third Sundays of every month\, Calvary offers A Service of Morning Prayer. This beautiful\, ancient service consists of prayers\, canticles\, and scripture readings and is the traditional way of greeting the day in our Episcopal tradition. It is about 30 minutes long\, and readers will be invited out of the gathered congregation by the lay leaders. \nThe nursery\, staffed by two adults each Sunday who are vaccinated\, boosted\, and Safeguarding God’s Children trained\, will be available 8:30 am – 11:15 am.
URL:https://www.calvary-rochester.org/event/sunday-worship-a-service-of-morning-prayer-2-2-2-2-3/
LOCATION:Calvary Episcopal Church\, 111 Third Avenue SW\, Rochester\, MN\, 55902
CATEGORIES:Advent and Christmas,Home,Worship
ATTACH;FMTTYPE=image/png:https://www.calvary-rochester.org/wp-content/uploads/2022/11/ASoMP-FB.png
ORGANIZER;CN="Calvary Episcopal Church":MAILTO:office@calvary-rochester.org
GEO:40.602991;-73.959517
X-APPLE-STRUCTURED-LOCATION;VALUE=URI;X-ADDRESS=Calvary Episcopal Church 111 Third Avenue SW Rochester MN 55902;X-APPLE-RADIUS=500;X-TITLE=111 Third Avenue SW:geo:-73.959517,40.602991
END:VEVENT
BEGIN:VEVENT
DTSTART;TZID=America/Chicago:20241215T091500
DTEND;TZID=America/Chicago:20241215T101500
DTSTAMP:20260424T215645
CREATED:20241120T010740Z
LAST-MODIFIED:20241203T002956Z
UID:10002450-1734254100-1734257700@www.calvary-rochester.org
SUMMARY:Faith Formation Christmas Party
DESCRIPTION:On December 15\, from 9:15 am to 10:15 am\, all the kids are invited to wear either their ugliest Christmas sweater or their best Christmas jammies as we get together for some fun Christmas activities\, including decorating gingerbread houses!
URL:https://www.calvary-rochester.org/event/faith-formation-christmas-party/
LOCATION:Calvary Episcopal Church\, 111 Third Avenue SW\, Rochester\, MN\, 55902
CATEGORIES:Advent and Christmas,Formation,Home
ATTACH;FMTTYPE=image/png:https://www.calvary-rochester.org/wp-content/uploads/2024/11/FF-Christmas-Party-FB.png
ORGANIZER;CN="Calvary Episcopal Church":MAILTO:office@calvary-rochester.org
GEO:40.602991;-73.959517
X-APPLE-STRUCTURED-LOCATION;VALUE=URI;X-ADDRESS=Calvary Episcopal Church 111 Third Avenue SW Rochester MN 55902;X-APPLE-RADIUS=500;X-TITLE=111 Third Avenue SW:geo:-73.959517,40.602991
END:VEVENT
BEGIN:VEVENT
DTSTART;TZID=America/Chicago:20241215T101500
DTEND;TZID=America/Chicago:20241215T113000
DTSTAMP:20260424T215645
CREATED:20241127T135918Z
LAST-MODIFIED:20241207T204802Z
UID:10002452-1734257700-1734262200@www.calvary-rochester.org
SUMMARY:Lessons and Carols
DESCRIPTION:Our Calvary Motet Choir is joining with the Chancel Choir of First Presbyterian Church of Rochester to present Lessons and Carols on Sunday\, December 15. The first presentation will be at 10:15 am at First Presbyterian Church. The second presentation of the Lessons and Carols will be at Calvary at 4:00 pm. \nInterim Music Director Jeff Daehn and Presbyterian Director John Stender have been working closely to put together a meaningful variety of choral and instrumental music. Joining the choirs will be a string quintet that will have both solo and accompaniment duties. \nThese special worship services are free and open to the public.  We hope many of you will make our Lessons and Carols part of your Advent and Christmas celebrations.
URL:https://www.calvary-rochester.org/event/lessons-and-carols-2/2024-12-15/1/
LOCATION:First Presbyterian Church\, 512 3rd Street SW\, Rochester\, MN\, 55902\, United States
CATEGORIES:Advent and Christmas,Home,Music,Worship
ATTACH;FMTTYPE=image/png:https://www.calvary-rochester.org/wp-content/uploads/2024/11/Lessons-and-Carols-FB.png
ORGANIZER;CN="Calvary Episcopal Church":MAILTO:office@calvary-rochester.org
END:VEVENT
BEGIN:VEVENT
DTSTART;TZID=America/Chicago:20241215T103000
DTEND;TZID=America/Chicago:20241215T113000
DTSTAMP:20260424T215645
CREATED:20241203T003002Z
LAST-MODIFIED:20241203T003051Z
UID:10001806-1734258600-1734262200@www.calvary-rochester.org
SUMMARY:Sunday Worship: Holy Eucharist\, Rite II
DESCRIPTION:This is one of two services each Sunday: at 10:30 am\, Calvary offers a Rite II service of Holy Eucharist. Rite II uses more contemporary language and includes congregational and choral singing. The Motet Choir will lead our music. \nThe nursery\, staffed by two adults each Sunday who are vaccinated\, boosted\, and Safeguarding God’s Children trained\, will be available 8:30 am – 11:15 am.
URL:https://www.calvary-rochester.org/event/sunday-worship-holy-eucharist-rite-ii-5-4-2-4/
LOCATION:Calvary Episcopal Church\, 111 Third Avenue SW\, Rochester\, MN\, 55902
CATEGORIES:Advent and Christmas,Home,Worship
ATTACH;FMTTYPE=image/png:https://www.calvary-rochester.org/wp-content/uploads/2022/11/HE-Rite-II-FB.png
ORGANIZER;CN="Calvary Episcopal Church":MAILTO:office@calvary-rochester.org
GEO:40.602991;-73.959517
X-APPLE-STRUCTURED-LOCATION;VALUE=URI;X-ADDRESS=Calvary Episcopal Church 111 Third Avenue SW Rochester MN 55902;X-APPLE-RADIUS=500;X-TITLE=111 Third Avenue SW:geo:-73.959517,40.602991
END:VEVENT
BEGIN:VEVENT
DTSTART;TZID=America/Chicago:20241215T160000
DTEND;TZID=America/Chicago:20241215T173000
DTSTAMP:20260424T215645
CREATED:20241127T135918Z
LAST-MODIFIED:20241207T204802Z
UID:10002453-1734278400-1734283800@www.calvary-rochester.org
SUMMARY:Lessons and Carols
DESCRIPTION:Our Calvary Motet Choir is joining with the Chancel Choir of First Presbyterian Church of Rochester to present Lessons and Carols on Sunday\, December 15. The first presentation will be at 10:15 am at First Presbyterian Church. The second presentation of the Lessons and Carols will be at Calvary at 4:00 pm. \nInterim Music Director Jeff Daehn and Presbyterian Director John Stender have been working closely to put together a meaningful variety of choral and instrumental music. Joining the choirs will be a string quintet that will have both solo and accompaniment duties. \nThese special worship services are free and open to the public.  We hope many of you will make our Lessons and Carols part of your Advent and Christmas celebrations.
URL:https://www.calvary-rochester.org/event/lessons-and-carols-2/2024-12-15/2/
LOCATION:First Presbyterian Church\, 512 3rd Street SW\, Rochester\, MN\, 55902\, United States
CATEGORIES:Advent and Christmas,Home,Music,Worship
ATTACH;FMTTYPE=image/png:https://www.calvary-rochester.org/wp-content/uploads/2024/11/Lessons-and-Carols-FB.png
ORGANIZER;CN="Calvary Episcopal Church":MAILTO:office@calvary-rochester.org
END:VEVENT
BEGIN:VEVENT
DTSTART;TZID=America/Chicago:20241222T083000
DTEND;TZID=America/Chicago:20241222T091500
DTSTAMP:20260424T215645
CREATED:20241203T003059Z
LAST-MODIFIED:20241203T003135Z
UID:10001755-1734856200-1734858900@www.calvary-rochester.org
SUMMARY:Sunday Worship: Holy Eucharist\, Rite I
DESCRIPTION:This is one of two services each Sunday: at 8:30 am\, Calvary offers a Rite I service of Holy Eucharist. Rite I uses traditional language and is quiet and contemplative. \nThe nursery\, staffed by two adults each Sunday who are vaccinated\, boosted\, and Safeguarding God’s Children trained\, will be available 8:30 am – 11:15 am.
URL:https://www.calvary-rochester.org/event/sunday-worship-holy-eucharist-rite-i-3-2-2-2-2-3/
LOCATION:Calvary Episcopal Church\, 111 Third Avenue SW\, Rochester\, MN\, 55902
CATEGORIES:Advent and Christmas,Home,Worship
ATTACH;FMTTYPE=image/png:https://www.calvary-rochester.org/wp-content/uploads/2022/11/HE-Rite-I-FB.png
ORGANIZER;CN="Calvary Episcopal Church":MAILTO:office@calvary-rochester.org
GEO:40.602991;-73.959517
X-APPLE-STRUCTURED-LOCATION;VALUE=URI;X-ADDRESS=Calvary Episcopal Church 111 Third Avenue SW Rochester MN 55902;X-APPLE-RADIUS=500;X-TITLE=111 Third Avenue SW:geo:-73.959517,40.602991
END:VEVENT
BEGIN:VEVENT
DTSTART;TZID=America/Chicago:20241222T103000
DTEND;TZID=America/Chicago:20241222T113000
DTSTAMP:20260424T215645
CREATED:20241203T003106Z
LAST-MODIFIED:20241203T003140Z
UID:10001807-1734863400-1734867000@www.calvary-rochester.org
SUMMARY:Sunday Worship: Holy Eucharist\, Rite II
DESCRIPTION:This is one of two services each Sunday: at 10:30 am\, Calvary offers a Rite II service of Holy Eucharist. Rite II uses more contemporary language and includes congregational and choral singing. The Motet Choir will lead our music. \nThe nursery\, staffed by two adults each Sunday who are vaccinated\, boosted\, and Safeguarding God’s Children trained\, will be available 8:30 am – 11:15 am.
URL:https://www.calvary-rochester.org/event/sunday-worship-holy-eucharist-rite-ii-5-4-2-5/
LOCATION:Calvary Episcopal Church\, 111 Third Avenue SW\, Rochester\, MN\, 55902
CATEGORIES:Advent and Christmas,Home,Worship
ATTACH;FMTTYPE=image/png:https://www.calvary-rochester.org/wp-content/uploads/2022/11/HE-Rite-II-FB.png
ORGANIZER;CN="Calvary Episcopal Church":MAILTO:office@calvary-rochester.org
GEO:40.602991;-73.959517
X-APPLE-STRUCTURED-LOCATION;VALUE=URI;X-ADDRESS=Calvary Episcopal Church 111 Third Avenue SW Rochester MN 55902;X-APPLE-RADIUS=500;X-TITLE=111 Third Avenue SW:geo:-73.959517,40.602991
END:VEVENT
BEGIN:VEVENT
DTSTART;TZID=America/Chicago:20241224T160000
DTEND;TZID=America/Chicago:20241224T171500
DTSTAMP:20260424T215645
CREATED:20241223T193603Z
LAST-MODIFIED:20241223T193603Z
UID:10002455-1735056000-1735060500@www.calvary-rochester.org
SUMMARY:Christmas Eve Holy Eucharist
DESCRIPTION:Join us for our 4:00 pm and 6:30 pm candlelit Christmas Eve Holy Eucharist services. A musical prelude will begin at 3:30 pm. All are welcome! \nParking will be available at no charge in Mayo Clinic’s Damon Parking Ramp for the Christmas Eve 4:00 pm and 6:30 pm services and for the service on Christmas Day.
URL:https://www.calvary-rochester.org/event/christmas-eve-holy-eucharist-8-3/
LOCATION:Calvary Episcopal Church\, 111 Third Avenue SW\, Rochester\, MN\, 55902
CATEGORIES:Advent and Christmas,Home,Worship
ATTACH;FMTTYPE=image/png:https://www.calvary-rochester.org/wp-content/uploads/2024/12/Christmas-Eve-FB.png
ORGANIZER;CN="Calvary Episcopal Church":MAILTO:office@calvary-rochester.org
GEO:40.602991;-73.959517
X-APPLE-STRUCTURED-LOCATION;VALUE=URI;X-ADDRESS=Calvary Episcopal Church 111 Third Avenue SW Rochester MN 55902;X-APPLE-RADIUS=500;X-TITLE=111 Third Avenue SW:geo:-73.959517,40.602991
END:VEVENT
BEGIN:VEVENT
DTSTART;TZID=America/Chicago:20241224T183000
DTEND;TZID=America/Chicago:20241224T194500
DTSTAMP:20260424T215645
CREATED:20241223T193541Z
LAST-MODIFIED:20241223T193542Z
UID:10002456-1735065000-1735069500@www.calvary-rochester.org
SUMMARY:Christmas Eve Holy Eucharist
DESCRIPTION:Join us for our 4:00 pm and 6:30 pm candlelit Christmas Eve Holy Eucharist services. A musical prelude will begin at 6:00 pm. All are welcome! \nParking will be available at no charge in Mayo Clinic’s Damon Parking Ramp for the Christmas Eve 4:00 pm and 6:30 pm services and for the service on Christmas Day.
URL:https://www.calvary-rochester.org/event/christmas-eve-holy-eucharist-8-2/
LOCATION:Calvary Episcopal Church\, 111 Third Avenue SW\, Rochester\, MN\, 55902
CATEGORIES:Advent and Christmas,Home,Worship
ATTACH;FMTTYPE=image/png:https://www.calvary-rochester.org/wp-content/uploads/2024/12/Christmas-Eve-FB.png
ORGANIZER;CN="Calvary Episcopal Church":MAILTO:office@calvary-rochester.org
GEO:40.602991;-73.959517
X-APPLE-STRUCTURED-LOCATION;VALUE=URI;X-ADDRESS=Calvary Episcopal Church 111 Third Avenue SW Rochester MN 55902;X-APPLE-RADIUS=500;X-TITLE=111 Third Avenue SW:geo:-73.959517,40.602991
END:VEVENT
BEGIN:VEVENT
DTSTART;TZID=America/Chicago:20241225T100000
DTEND;TZID=America/Chicago:20241225T113000
DTSTAMP:20260424T215645
CREATED:20241204T012250Z
LAST-MODIFIED:20241223T193606Z
UID:10002454-1735120800-1735126200@www.calvary-rochester.org
SUMMARY:Christmas Day Holy Eucharist
DESCRIPTION:Join us for our 10:00 am Christmas Day Holy Eucharist. All are welcome! \nParking will be available at no charge in Mayo Clinic’s Damon Parking Ramp for the Christmas Eve 4:00 pm and 6:30 pm services and for the service on Christmas Day.
URL:https://www.calvary-rochester.org/event/christmas-day-holy-eucharist-4/
LOCATION:Calvary Episcopal Church\, 111 Third Avenue SW\, Rochester\, MN\, 55902
CATEGORIES:Advent and Christmas,Home,Worship
ATTACH;FMTTYPE=image/png:https://www.calvary-rochester.org/wp-content/uploads/2024/12/Christmas-Day-FB.png
ORGANIZER;CN="Calvary Episcopal Church":MAILTO:office@calvary-rochester.org
GEO:40.602991;-73.959517
X-APPLE-STRUCTURED-LOCATION;VALUE=URI;X-ADDRESS=Calvary Episcopal Church 111 Third Avenue SW Rochester MN 55902;X-APPLE-RADIUS=500;X-TITLE=111 Third Avenue SW:geo:-73.959517,40.602991
END:VEVENT
BEGIN:VEVENT
DTSTART;TZID=America/Chicago:20241229T083000
DTEND;TZID=America/Chicago:20241229T091500
DTSTAMP:20260424T215645
CREATED:20241203T003114Z
LAST-MODIFIED:20241203T003143Z
UID:10001756-1735461000-1735463700@www.calvary-rochester.org
SUMMARY:Sunday Worship: Holy Eucharist\, Rite I
DESCRIPTION:This is one of two services each Sunday: at 8:30 am\, Calvary offers a Rite I service of Holy Eucharist. Rite I uses traditional language and is quiet and contemplative. \nThe nursery\, staffed by two adults each Sunday who are vaccinated\, boosted\, and Safeguarding God’s Children trained\, will be available 8:30 am – 11:15 am.
URL:https://www.calvary-rochester.org/event/sunday-worship-holy-eucharist-rite-i-3-2-2-2-2-4/
LOCATION:Calvary Episcopal Church\, 111 Third Avenue SW\, Rochester\, MN\, 55902
CATEGORIES:Advent and Christmas,Home,Worship
ATTACH;FMTTYPE=image/png:https://www.calvary-rochester.org/wp-content/uploads/2022/11/HE-Rite-I-FB.png
ORGANIZER;CN="Calvary Episcopal Church":MAILTO:office@calvary-rochester.org
GEO:40.602991;-73.959517
X-APPLE-STRUCTURED-LOCATION;VALUE=URI;X-ADDRESS=Calvary Episcopal Church 111 Third Avenue SW Rochester MN 55902;X-APPLE-RADIUS=500;X-TITLE=111 Third Avenue SW:geo:-73.959517,40.602991
END:VEVENT
BEGIN:VEVENT
DTSTART;TZID=America/Chicago:20241229T103000
DTEND;TZID=America/Chicago:20241229T113000
DTSTAMP:20260424T215645
CREATED:20241203T003123Z
LAST-MODIFIED:20241203T003145Z
UID:10001808-1735468200-1735471800@www.calvary-rochester.org
SUMMARY:Sunday Worship: Holy Eucharist\, Rite II
DESCRIPTION:This is one of two services each Sunday: at 10:30 am\, Calvary offers a Rite II service of Holy Eucharist. Rite II uses more contemporary language and includes congregational and choral singing. The Motet Choir will lead our music. \nThe nursery\, staffed by two adults each Sunday who are vaccinated\, boosted\, and Safeguarding God’s Children trained\, will be available 8:30 am – 11:15 am.
URL:https://www.calvary-rochester.org/event/sunday-worship-holy-eucharist-rite-ii-5-4-2-6/
LOCATION:Calvary Episcopal Church\, 111 Third Avenue SW\, Rochester\, MN\, 55902
CATEGORIES:Advent and Christmas,Home,Worship
ATTACH;FMTTYPE=image/png:https://www.calvary-rochester.org/wp-content/uploads/2022/11/HE-Rite-II-FB.png
ORGANIZER;CN="Calvary Episcopal Church":MAILTO:office@calvary-rochester.org
GEO:40.602991;-73.959517
X-APPLE-STRUCTURED-LOCATION;VALUE=URI;X-ADDRESS=Calvary Episcopal Church 111 Third Avenue SW Rochester MN 55902;X-APPLE-RADIUS=500;X-TITLE=111 Third Avenue SW:geo:-73.959517,40.602991
END:VEVENT
END:VCALENDAR