BEGIN:VCALENDAR
VERSION:2.0
PRODID:-//Calvary Episcopal Church - ECPv6.15.20//NONSGML v1.0//EN
CALSCALE:GREGORIAN
METHOD:PUBLISH
X-ORIGINAL-URL:https://www.calvary-rochester.org
X-WR-CALDESC:Events for Calvary Episcopal Church
REFRESH-INTERVAL;VALUE=DURATION:PT1H
X-Robots-Tag:noindex
X-PUBLISHED-TTL:PT1H
BEGIN:VTIMEZONE
TZID:America/Chicago
BEGIN:DAYLIGHT
TZOFFSETFROM:-0600
TZOFFSETTO:-0500
TZNAME:CDT
DTSTART:20240310T080000
END:DAYLIGHT
BEGIN:STANDARD
TZOFFSETFROM:-0500
TZOFFSETTO:-0600
TZNAME:CST
DTSTART:20241103T070000
END:STANDARD
BEGIN:DAYLIGHT
TZOFFSETFROM:-0600
TZOFFSETTO:-0500
TZNAME:CDT
DTSTART:20250309T080000
END:DAYLIGHT
BEGIN:STANDARD
TZOFFSETFROM:-0500
TZOFFSETTO:-0600
TZNAME:CST
DTSTART:20251102T070000
END:STANDARD
BEGIN:DAYLIGHT
TZOFFSETFROM:-0600
TZOFFSETTO:-0500
TZNAME:CDT
DTSTART:20260308T080000
END:DAYLIGHT
BEGIN:STANDARD
TZOFFSETFROM:-0500
TZOFFSETTO:-0600
TZNAME:CST
DTSTART:20261101T070000
END:STANDARD
END:VTIMEZONE
BEGIN:VEVENT
DTSTART;TZID=America/Chicago:20251130T091500
DTEND;TZID=America/Chicago:20251130T101500
DTSTAMP:20260424T060334
CREATED:20251122T224359Z
LAST-MODIFIED:20251123T193729Z
UID:10003230-1764494100-1764497700@www.calvary-rochester.org
SUMMARY:Advent Discussion Group
DESCRIPTION:We are entering one of the greatest gifts of time that we have in our church seasons: Advent. The season begins on November 30\, and this four-week period is meant to give us time to prepare ourselves for the remembrance of the birth of Christ on December 25. Advent is always a time of counter-cultural challenge\, as our lives can easily become too busy\, with tasks both joyful and challenging as we enjoy the holiday season and all that comes with it. It is good to find some time for ritual and spiritual practice to center our busy lives as we walk to Christmas.\n\nAll are invited to join in a discussion based on the book\, “From Holidays to Holy Days: A Benedictine Walk through Advent\,” led by the Rev. Beth Royalty. We will meet on all four Sundays of Advent\, beginning on November 30\, at 9:15 am in the Larsen Fireside Room off of Brackenridge Hall. You may purchase the book\, but owning it is not required for participation. We hope you will attend!
URL:https://www.calvary-rochester.org/event/advent-discussion-group/2025-11-30/
LOCATION:Calvary Episcopal Church\, 111 Third Avenue SW\, Rochester\, MN\, 55902
CATEGORIES:Advent and Christmas,Formation,Home
ATTACH;FMTTYPE=image/png:https://www.calvary-rochester.org/wp-content/uploads/2025/11/Advent-Discussion-Group.png
ORGANIZER;CN="Calvary Episcopal Church":MAILTO:office@calvary-rochester.org
GEO:40.602991;-73.959517
X-APPLE-STRUCTURED-LOCATION;VALUE=URI;X-ADDRESS=Calvary Episcopal Church 111 Third Avenue SW Rochester MN 55902;X-APPLE-RADIUS=500;X-TITLE=111 Third Avenue SW:geo:-73.959517,40.602991
END:VEVENT
END:VCALENDAR