BEGIN:VCALENDAR
VERSION:2.0
PRODID:-//Calvary Episcopal Church - ECPv6.15.20//NONSGML v1.0//EN
CALSCALE:GREGORIAN
METHOD:PUBLISH
X-ORIGINAL-URL:https://www.calvary-rochester.org
X-WR-CALDESC:Events for Calvary Episcopal Church
REFRESH-INTERVAL;VALUE=DURATION:PT1H
X-Robots-Tag:noindex
X-PUBLISHED-TTL:PT1H
BEGIN:VTIMEZONE
TZID:America/Chicago
BEGIN:DAYLIGHT
TZOFFSETFROM:-0600
TZOFFSETTO:-0500
TZNAME:CDT
DTSTART:20240310T080000
END:DAYLIGHT
BEGIN:STANDARD
TZOFFSETFROM:-0500
TZOFFSETTO:-0600
TZNAME:CST
DTSTART:20241103T070000
END:STANDARD
BEGIN:DAYLIGHT
TZOFFSETFROM:-0600
TZOFFSETTO:-0500
TZNAME:CDT
DTSTART:20250309T080000
END:DAYLIGHT
BEGIN:STANDARD
TZOFFSETFROM:-0500
TZOFFSETTO:-0600
TZNAME:CST
DTSTART:20251102T070000
END:STANDARD
BEGIN:DAYLIGHT
TZOFFSETFROM:-0600
TZOFFSETTO:-0500
TZNAME:CDT
DTSTART:20260308T080000
END:DAYLIGHT
BEGIN:STANDARD
TZOFFSETFROM:-0500
TZOFFSETTO:-0600
TZNAME:CST
DTSTART:20261101T070000
END:STANDARD
END:VTIMEZONE
BEGIN:VEVENT
DTSTART;TZID=America/Chicago:20251203T120500
DTEND;TZID=America/Chicago:20251203T123000
DTSTAMP:20260424T023937
CREATED:20251122T225641Z
LAST-MODIFIED:20251122T225641Z
UID:10003286-1764763500-1764765000@www.calvary-rochester.org
SUMMARY:Wednesday Advent Eucharist
DESCRIPTION:On December 3\, 10\, and 17\, you are invited to take a time of quiet and meditative worship at a simple Holy Eucharistic service at 12:05 pm. We will sit in the choir.
URL:https://www.calvary-rochester.org/event/wednesday-advent-eucharist/2025-12-03/
LOCATION:Calvary Episcopal Church\, 111 Third Avenue SW\, Rochester\, MN\, 55902
CATEGORIES:Advent and Christmas,Home,Worship
ATTACH;FMTTYPE=image/png:https://www.calvary-rochester.org/wp-content/uploads/2025/11/Wednesday-Eucharist.png
ORGANIZER;CN="Calvary Episcopal Church":MAILTO:office@calvary-rochester.org
GEO:40.602991;-73.959517
X-APPLE-STRUCTURED-LOCATION;VALUE=URI;X-ADDRESS=Calvary Episcopal Church 111 Third Avenue SW Rochester MN 55902;X-APPLE-RADIUS=500;X-TITLE=111 Third Avenue SW:geo:-73.959517,40.602991
END:VEVENT
BEGIN:VEVENT
DTSTART;TZID=America/Chicago:20251206T130000
DTEND;TZID=America/Chicago:20251206T160000
DTSTAMP:20260424T023937
CREATED:20251123T142107Z
LAST-MODIFIED:20251123T142316Z
UID:10003289-1765026000-1765036800@www.calvary-rochester.org
SUMMARY:The Great Calvary Kids Bake-Off and Bake Sale
DESCRIPTION:It’s that time of year again: The Great Calvary Kids Bake-Off is around the corner! \nWhen: \n\nBake-Off: Saturday\, December 6\, 2025\, 1:00 pm-4:00 pm\nBake Sale: Sunday\, December 7\, 2025\, 9:15 am-10:15 am\, and during the Greening of the Church (if any are left!)\n\nWhere: Calvary Episcopal Church kitchen \nHow: Middle/high school kids will begin by practicing decorating techniques\, while the elementary students will split into groups and focus on making batches of cookie dough and baking cookies. Eventually\, the younger kids will have a turn at decorating\, too. Cookies will be judged the next day by an esteemed panel of judges\, and all cookies will be offered for donations\, which will support buying new covers and padding for the Middle School room chairs\, new books for the Kids’ Bags\, and upcoming service projects. Cash and checks will be accepted. Kids with gluten allergies will be put in a specifically gluten-free group. \nWe are looking forward to all getting together and having a great time! Please email Michelle McKean at faithformation@calvary-rochester.org to let us know if you will be attending. \nNOTE: Cookie donations for the sale are loved and very much appreciated!
URL:https://www.calvary-rochester.org/event/the-great-calvary-kids-bake-off-and-bake-sale/2025-12-06/
LOCATION:Calvary Episcopal Church\, 111 Third Avenue SW\, Rochester\, MN\, 55902
CATEGORIES:Advent and Christmas,Food,Formation,Home
ATTACH;FMTTYPE=image/png:https://www.calvary-rochester.org/wp-content/uploads/2025/11/Bakeoff.png
ORGANIZER;CN="Calvary Episcopal Church":MAILTO:office@calvary-rochester.org
GEO:40.602991;-73.959517
X-APPLE-STRUCTURED-LOCATION;VALUE=URI;X-ADDRESS=Calvary Episcopal Church 111 Third Avenue SW Rochester MN 55902;X-APPLE-RADIUS=500;X-TITLE=111 Third Avenue SW:geo:-73.959517,40.602991
END:VEVENT
BEGIN:VEVENT
DTSTART;TZID=America/Chicago:20251207T091500
DTEND;TZID=America/Chicago:20251207T101500
DTSTAMP:20260424T023937
CREATED:20251122T224359Z
LAST-MODIFIED:20251123T193729Z
UID:10003231-1765098900-1765102500@www.calvary-rochester.org
SUMMARY:Advent Discussion Group
DESCRIPTION:We are entering one of the greatest gifts of time that we have in our church seasons: Advent. The season begins on November 30\, and this four-week period is meant to give us time to prepare ourselves for the remembrance of the birth of Christ on December 25. Advent is always a time of counter-cultural challenge\, as our lives can easily become too busy\, with tasks both joyful and challenging as we enjoy the holiday season and all that comes with it. It is good to find some time for ritual and spiritual practice to center our busy lives as we walk to Christmas.\n\nAll are invited to join in a discussion based on the book\, “From Holidays to Holy Days: A Benedictine Walk through Advent\,” led by the Rev. Beth Royalty. We will meet on all four Sundays of Advent\, beginning on November 30\, at 9:15 am in the Larsen Fireside Room off of Brackenridge Hall. You may purchase the book\, but owning it is not required for participation. We hope you will attend!
URL:https://www.calvary-rochester.org/event/advent-discussion-group/2025-12-07/
LOCATION:Calvary Episcopal Church\, 111 Third Avenue SW\, Rochester\, MN\, 55902
CATEGORIES:Advent and Christmas,Formation,Home
ATTACH;FMTTYPE=image/png:https://www.calvary-rochester.org/wp-content/uploads/2025/11/Advent-Discussion-Group.png
ORGANIZER;CN="Calvary Episcopal Church":MAILTO:office@calvary-rochester.org
GEO:40.602991;-73.959517
X-APPLE-STRUCTURED-LOCATION;VALUE=URI;X-ADDRESS=Calvary Episcopal Church 111 Third Avenue SW Rochester MN 55902;X-APPLE-RADIUS=500;X-TITLE=111 Third Avenue SW:geo:-73.959517,40.602991
END:VEVENT
BEGIN:VEVENT
DTSTART;TZID=America/Chicago:20251207T091500
DTEND;TZID=America/Chicago:20251207T101500
DTSTAMP:20260424T023937
CREATED:20251123T142107Z
LAST-MODIFIED:20251123T142316Z
UID:10003290-1765098900-1765102500@www.calvary-rochester.org
SUMMARY:The Great Calvary Kids Bake-Off and Bake Sale
DESCRIPTION:It’s that time of year again: The Great Calvary Kids Bake-Off is around the corner! \nWhen: \n\nBake-Off: Saturday\, December 6\, 2025\, 1:00 pm-4:00 pm\nBake Sale: Sunday\, December 7\, 2025\, 9:15 am-10:15 am\, and during the Greening of the Church (if any are left!)\n\nWhere: Calvary Episcopal Church kitchen \nHow: Middle/high school kids will begin by practicing decorating techniques\, while the elementary students will split into groups and focus on making batches of cookie dough and baking cookies. Eventually\, the younger kids will have a turn at decorating\, too. Cookies will be judged the next day by an esteemed panel of judges\, and all cookies will be offered for donations\, which will support buying new covers and padding for the Middle School room chairs\, new books for the Kids’ Bags\, and upcoming service projects. Cash and checks will be accepted. Kids with gluten allergies will be put in a specifically gluten-free group. \nWe are looking forward to all getting together and having a great time! Please email Michelle McKean at faithformation@calvary-rochester.org to let us know if you will be attending. \nNOTE: Cookie donations for the sale are loved and very much appreciated!
URL:https://www.calvary-rochester.org/event/the-great-calvary-kids-bake-off-and-bake-sale/2025-12-07/
LOCATION:Calvary Episcopal Church\, 111 Third Avenue SW\, Rochester\, MN\, 55902
CATEGORIES:Advent and Christmas,Food,Formation,Home
ATTACH;FMTTYPE=image/png:https://www.calvary-rochester.org/wp-content/uploads/2025/11/Bakeoff.png
ORGANIZER;CN="Calvary Episcopal Church":MAILTO:office@calvary-rochester.org
GEO:40.602991;-73.959517
X-APPLE-STRUCTURED-LOCATION;VALUE=URI;X-ADDRESS=Calvary Episcopal Church 111 Third Avenue SW Rochester MN 55902;X-APPLE-RADIUS=500;X-TITLE=111 Third Avenue SW:geo:-73.959517,40.602991
END:VEVENT
BEGIN:VEVENT
DTSTART;TZID=America/Chicago:20251210T120500
DTEND;TZID=America/Chicago:20251210T123000
DTSTAMP:20260424T023937
CREATED:20251122T225641Z
LAST-MODIFIED:20251122T225641Z
UID:10003287-1765368300-1765369800@www.calvary-rochester.org
SUMMARY:Wednesday Advent Eucharist
DESCRIPTION:On December 3\, 10\, and 17\, you are invited to take a time of quiet and meditative worship at a simple Holy Eucharistic service at 12:05 pm. We will sit in the choir.
URL:https://www.calvary-rochester.org/event/wednesday-advent-eucharist/2025-12-10/
LOCATION:Calvary Episcopal Church\, 111 Third Avenue SW\, Rochester\, MN\, 55902
CATEGORIES:Advent and Christmas,Home,Worship
ATTACH;FMTTYPE=image/png:https://www.calvary-rochester.org/wp-content/uploads/2025/11/Wednesday-Eucharist.png
ORGANIZER;CN="Calvary Episcopal Church":MAILTO:office@calvary-rochester.org
GEO:40.602991;-73.959517
X-APPLE-STRUCTURED-LOCATION;VALUE=URI;X-ADDRESS=Calvary Episcopal Church 111 Third Avenue SW Rochester MN 55902;X-APPLE-RADIUS=500;X-TITLE=111 Third Avenue SW:geo:-73.959517,40.602991
END:VEVENT
BEGIN:VEVENT
DTSTART;TZID=America/Chicago:20251214T091500
DTEND;TZID=America/Chicago:20251214T101500
DTSTAMP:20260424T023937
CREATED:20251122T224359Z
LAST-MODIFIED:20251123T193729Z
UID:10003232-1765703700-1765707300@www.calvary-rochester.org
SUMMARY:Advent Discussion Group
DESCRIPTION:We are entering one of the greatest gifts of time that we have in our church seasons: Advent. The season begins on November 30\, and this four-week period is meant to give us time to prepare ourselves for the remembrance of the birth of Christ on December 25. Advent is always a time of counter-cultural challenge\, as our lives can easily become too busy\, with tasks both joyful and challenging as we enjoy the holiday season and all that comes with it. It is good to find some time for ritual and spiritual practice to center our busy lives as we walk to Christmas.\n\nAll are invited to join in a discussion based on the book\, “From Holidays to Holy Days: A Benedictine Walk through Advent\,” led by the Rev. Beth Royalty. We will meet on all four Sundays of Advent\, beginning on November 30\, at 9:15 am in the Larsen Fireside Room off of Brackenridge Hall. You may purchase the book\, but owning it is not required for participation. We hope you will attend!
URL:https://www.calvary-rochester.org/event/advent-discussion-group/2025-12-14/
LOCATION:Calvary Episcopal Church\, 111 Third Avenue SW\, Rochester\, MN\, 55902
CATEGORIES:Advent and Christmas,Formation,Home
ATTACH;FMTTYPE=image/png:https://www.calvary-rochester.org/wp-content/uploads/2025/11/Advent-Discussion-Group.png
ORGANIZER;CN="Calvary Episcopal Church":MAILTO:office@calvary-rochester.org
GEO:40.602991;-73.959517
X-APPLE-STRUCTURED-LOCATION;VALUE=URI;X-ADDRESS=Calvary Episcopal Church 111 Third Avenue SW Rochester MN 55902;X-APPLE-RADIUS=500;X-TITLE=111 Third Avenue SW:geo:-73.959517,40.602991
END:VEVENT
BEGIN:VEVENT
DTSTART;TZID=America/Chicago:20251214T160000
DTEND;TZID=America/Chicago:20251214T170000
DTSTAMP:20260424T023937
CREATED:20251201T221211Z
LAST-MODIFIED:20251201T221211Z
UID:10003354-1765728000-1765731600@www.calvary-rochester.org
SUMMARY:Advent Lessons and Carols
DESCRIPTION:The Calvary Motet Choir will present a service of seven lessons and carols on Sunday\, December 14\, at 4 pm. The service will feature several anthems sung by the Motet Choir\, carols for the congregation to sing together\, and instrumental music for reflection. We hope many of you will make our lessons and carols part of your Advent and Christmas celebrations.
URL:https://www.calvary-rochester.org/event/advent-lessons-and-carols/
LOCATION:Calvary Episcopal Church\, 111 Third Avenue SW\, Rochester\, MN\, 55902
CATEGORIES:Advent and Christmas,Home,Music
ATTACH;FMTTYPE=image/png:https://www.calvary-rochester.org/wp-content/uploads/2025/12/Lessons-and-Carols.png
ORGANIZER;CN="Calvary Episcopal Church":MAILTO:office@calvary-rochester.org
GEO:40.602991;-73.959517
X-APPLE-STRUCTURED-LOCATION;VALUE=URI;X-ADDRESS=Calvary Episcopal Church 111 Third Avenue SW Rochester MN 55902;X-APPLE-RADIUS=500;X-TITLE=111 Third Avenue SW:geo:-73.959517,40.602991
END:VEVENT
BEGIN:VEVENT
DTSTART;TZID=America/Chicago:20251217T120500
DTEND;TZID=America/Chicago:20251217T123000
DTSTAMP:20260424T023937
CREATED:20251122T225641Z
LAST-MODIFIED:20251122T225641Z
UID:10003288-1765973100-1765974600@www.calvary-rochester.org
SUMMARY:Wednesday Advent Eucharist
DESCRIPTION:On December 3\, 10\, and 17\, you are invited to take a time of quiet and meditative worship at a simple Holy Eucharistic service at 12:05 pm. We will sit in the choir.
URL:https://www.calvary-rochester.org/event/wednesday-advent-eucharist/2025-12-17/
LOCATION:Calvary Episcopal Church\, 111 Third Avenue SW\, Rochester\, MN\, 55902
CATEGORIES:Advent and Christmas,Home,Worship
ATTACH;FMTTYPE=image/png:https://www.calvary-rochester.org/wp-content/uploads/2025/11/Wednesday-Eucharist.png
ORGANIZER;CN="Calvary Episcopal Church":MAILTO:office@calvary-rochester.org
GEO:40.602991;-73.959517
X-APPLE-STRUCTURED-LOCATION;VALUE=URI;X-ADDRESS=Calvary Episcopal Church 111 Third Avenue SW Rochester MN 55902;X-APPLE-RADIUS=500;X-TITLE=111 Third Avenue SW:geo:-73.959517,40.602991
END:VEVENT
BEGIN:VEVENT
DTSTART;TZID=America/Chicago:20251218T190000
DTEND;TZID=America/Chicago:20251218T200000
DTSTAMP:20260424T023937
CREATED:20251209T142834Z
LAST-MODIFIED:20251209T142834Z
UID:10003355-1766084400-1766088000@www.calvary-rochester.org
SUMMARY:A Service for Those Who Are Grieving
DESCRIPTION:This time of year\, joyous and anticipatory\, focusing on family\, love\, and gifts\, doesn’t always offer space for those who have suffered loss – of a person\, of health\, of anything important\, and aren’t enjoying this season. For many reasons\, people find this time of year before Christmas to be a time of grief\, sadness\, even depression and anxiety. Many people have an empty chair at the table\, or just don’t have the life they had a year ago.\n\nEveryone is invited to attend a special service on Thursday\, December 18\, at 7:00 pm to find a space for prayer\, contemplative silence\, quiet music\, and candle lighting. A Service for Those Who Are Grieving is for everyone who would welcome a pause and a time to honor grief and shed tears\, if necessary\, in a safe place\, and soak in God’s presence in the holy\, liminal space that is Calvary. A place to lay their grief and anxiety at the feet of Christ\, who heals with his presence and his words. Please come and bring a friend.
URL:https://www.calvary-rochester.org/event/a-service-for-those-who-are-grieving/
LOCATION:Calvary Episcopal Church\, 111 Third Avenue SW\, Rochester\, MN\, 55902
CATEGORIES:Advent and Christmas,Home,Worship
ATTACH;FMTTYPE=image/png:https://www.calvary-rochester.org/wp-content/uploads/2025/12/ASFTWAG.png
ORGANIZER;CN="Calvary Episcopal Church":MAILTO:office@calvary-rochester.org
GEO:40.602991;-73.959517
X-APPLE-STRUCTURED-LOCATION;VALUE=URI;X-ADDRESS=Calvary Episcopal Church 111 Third Avenue SW Rochester MN 55902;X-APPLE-RADIUS=500;X-TITLE=111 Third Avenue SW:geo:-73.959517,40.602991
END:VEVENT
BEGIN:VEVENT
DTSTART;TZID=America/Chicago:20251221T091500
DTEND;TZID=America/Chicago:20251221T101500
DTSTAMP:20260424T023937
CREATED:20251122T224359Z
LAST-MODIFIED:20251123T193729Z
UID:10003233-1766308500-1766312100@www.calvary-rochester.org
SUMMARY:Advent Discussion Group
DESCRIPTION:We are entering one of the greatest gifts of time that we have in our church seasons: Advent. The season begins on November 30\, and this four-week period is meant to give us time to prepare ourselves for the remembrance of the birth of Christ on December 25. Advent is always a time of counter-cultural challenge\, as our lives can easily become too busy\, with tasks both joyful and challenging as we enjoy the holiday season and all that comes with it. It is good to find some time for ritual and spiritual practice to center our busy lives as we walk to Christmas.\n\nAll are invited to join in a discussion based on the book\, “From Holidays to Holy Days: A Benedictine Walk through Advent\,” led by the Rev. Beth Royalty. We will meet on all four Sundays of Advent\, beginning on November 30\, at 9:15 am in the Larsen Fireside Room off of Brackenridge Hall. You may purchase the book\, but owning it is not required for participation. We hope you will attend!
URL:https://www.calvary-rochester.org/event/advent-discussion-group/2025-12-21/
LOCATION:Calvary Episcopal Church\, 111 Third Avenue SW\, Rochester\, MN\, 55902
CATEGORIES:Advent and Christmas,Formation,Home
ATTACH;FMTTYPE=image/png:https://www.calvary-rochester.org/wp-content/uploads/2025/11/Advent-Discussion-Group.png
ORGANIZER;CN="Calvary Episcopal Church":MAILTO:office@calvary-rochester.org
GEO:40.602991;-73.959517
X-APPLE-STRUCTURED-LOCATION;VALUE=URI;X-ADDRESS=Calvary Episcopal Church 111 Third Avenue SW Rochester MN 55902;X-APPLE-RADIUS=500;X-TITLE=111 Third Avenue SW:geo:-73.959517,40.602991
END:VEVENT
BEGIN:VEVENT
DTSTART;TZID=America/Chicago:20251224T160000
DTEND;TZID=America/Chicago:20251224T170000
DTSTAMP:20260424T023937
CREATED:20251123T194206Z
LAST-MODIFIED:20251123T194206Z
UID:10003351-1766592000-1766595600@www.calvary-rochester.org
SUMMARY:Christmas Eve Holy Eucharist
DESCRIPTION:Join us for our 4:00 pm and 6:30 pm candlelit Christmas Eve Holy Eucharist services. All are welcome!
URL:https://www.calvary-rochester.org/event/christmas-eve-holy-eucharist-9/
LOCATION:Calvary Episcopal Church\, 111 Third Avenue SW\, Rochester\, MN\, 55902
CATEGORIES:Advent and Christmas,Worship
ATTACH;FMTTYPE=image/png:https://www.calvary-rochester.org/wp-content/uploads/2025/11/12-1.png
ORGANIZER;CN="Calvary Episcopal Church":MAILTO:office@calvary-rochester.org
GEO:40.602991;-73.959517
X-APPLE-STRUCTURED-LOCATION;VALUE=URI;X-ADDRESS=Calvary Episcopal Church 111 Third Avenue SW Rochester MN 55902;X-APPLE-RADIUS=500;X-TITLE=111 Third Avenue SW:geo:-73.959517,40.602991
END:VEVENT
BEGIN:VEVENT
DTSTART;TZID=America/Chicago:20251224T183000
DTEND;TZID=America/Chicago:20251224T193000
DTSTAMP:20260424T023937
CREATED:20251123T194208Z
LAST-MODIFIED:20251123T194208Z
UID:10003352-1766601000-1766604600@www.calvary-rochester.org
SUMMARY:Christmas Eve Holy Eucharist
DESCRIPTION:Join us for our 4:00 pm and 6:30 pm candlelit Christmas Eve Holy Eucharist services. All are welcome!
URL:https://www.calvary-rochester.org/event/christmas-eve-holy-eucharist-10/
LOCATION:Calvary Episcopal Church\, 111 Third Avenue SW\, Rochester\, MN\, 55902
CATEGORIES:Advent and Christmas,Worship
ATTACH;FMTTYPE=image/png:https://www.calvary-rochester.org/wp-content/uploads/2025/11/13.png
ORGANIZER;CN="Calvary Episcopal Church":MAILTO:office@calvary-rochester.org
GEO:40.602991;-73.959517
X-APPLE-STRUCTURED-LOCATION;VALUE=URI;X-ADDRESS=Calvary Episcopal Church 111 Third Avenue SW Rochester MN 55902;X-APPLE-RADIUS=500;X-TITLE=111 Third Avenue SW:geo:-73.959517,40.602991
END:VEVENT
BEGIN:VEVENT
DTSTART;TZID=America/Chicago:20251225T100000
DTEND;TZID=America/Chicago:20251225T110000
DTSTAMP:20260424T023937
CREATED:20251123T195210Z
LAST-MODIFIED:20251123T195210Z
UID:10003353-1766656800-1766660400@www.calvary-rochester.org
SUMMARY:Christmas Day Holy Eucharist
DESCRIPTION:Join us for our 10:00 am Christmas Day Holy Eucharist. All are welcome!
URL:https://www.calvary-rochester.org/event/christmas-day-holy-eucharist-5/
LOCATION:Calvary Episcopal Church\, 111 Third Avenue SW\, Rochester\, MN\, 55902
CATEGORIES:Advent and Christmas,Home,Worship
ATTACH;FMTTYPE=image/png:https://www.calvary-rochester.org/wp-content/uploads/2025/11/Christmas-Day.png
ORGANIZER;CN="Calvary Episcopal Church":MAILTO:office@calvary-rochester.org
GEO:40.602991;-73.959517
X-APPLE-STRUCTURED-LOCATION;VALUE=URI;X-ADDRESS=Calvary Episcopal Church 111 Third Avenue SW Rochester MN 55902;X-APPLE-RADIUS=500;X-TITLE=111 Third Avenue SW:geo:-73.959517,40.602991
END:VEVENT
END:VCALENDAR