BEGIN:VCALENDAR
VERSION:2.0
PRODID:-//Calvary Episcopal Church - ECPv6.15.20//NONSGML v1.0//EN
CALSCALE:GREGORIAN
METHOD:PUBLISH
X-WR-CALNAME:Calvary Episcopal Church
X-ORIGINAL-URL:https://www.calvary-rochester.org
X-WR-CALDESC:Events for Calvary Episcopal Church
REFRESH-INTERVAL;VALUE=DURATION:PT1H
X-Robots-Tag:noindex
X-PUBLISHED-TTL:PT1H
BEGIN:VTIMEZONE
TZID:America/Chicago
BEGIN:DAYLIGHT
TZOFFSETFROM:-0600
TZOFFSETTO:-0500
TZNAME:CDT
DTSTART:20250309T080000
END:DAYLIGHT
BEGIN:STANDARD
TZOFFSETFROM:-0500
TZOFFSETTO:-0600
TZNAME:CST
DTSTART:20251102T070000
END:STANDARD
BEGIN:DAYLIGHT
TZOFFSETFROM:-0600
TZOFFSETTO:-0500
TZNAME:CDT
DTSTART:20260308T080000
END:DAYLIGHT
BEGIN:STANDARD
TZOFFSETFROM:-0500
TZOFFSETTO:-0600
TZNAME:CST
DTSTART:20261101T070000
END:STANDARD
BEGIN:DAYLIGHT
TZOFFSETFROM:-0600
TZOFFSETTO:-0500
TZNAME:CDT
DTSTART:20270314T080000
END:DAYLIGHT
BEGIN:STANDARD
TZOFFSETFROM:-0500
TZOFFSETTO:-0600
TZNAME:CST
DTSTART:20271107T070000
END:STANDARD
END:VTIMEZONE
BEGIN:VEVENT
DTSTART;TZID=America/Chicago:20260301T093000
DTEND;TZID=America/Chicago:20260301T101500
DTSTAMP:20260423T143242
CREATED:20260203T211327Z
LAST-MODIFIED:20260224T175935Z
UID:10003362-1772357400-1772360100@www.calvary-rochester.org
SUMMARY:Lenten Book Study
DESCRIPTION:All are invited to be a part of a book study this Lent during the time between the Sunday services\, beginning on February 22 and ending on Palm Sunday. We will be using the book\, For Such a Time as This: An Emergency Devotional\, by Hanna Reichel. Professor Reichel is the Charles Hodge Professor of Systematic Theology at Princeton Theological Seminary and an elder in the PCUSA.  The book is described as “a guide for ordinary Christians seeking to live faithfully in extraordinary times.”\n\nThe cost for the paperback is $19.00 on Amazon. If you would like to participate and would like some assistance in purchasing the book\, please let Rev. Beth know.
URL:https://www.calvary-rochester.org/event/lenten-book-study/2026-03-01/
LOCATION:Calvary Episcopal Church\, 111 Third Avenue SW\, Rochester\, MN\, 55902
CATEGORIES:Formation,Holy Week,Home
ATTACH;FMTTYPE=image/png:https://www.calvary-rochester.org/wp-content/uploads/2026/02/Book-Study.png
ORGANIZER;CN="Calvary Episcopal Church":MAILTO:office@calvary-rochester.org
GEO:40.602991;-73.959517
X-APPLE-STRUCTURED-LOCATION;VALUE=URI;X-ADDRESS=Calvary Episcopal Church 111 Third Avenue SW Rochester MN 55902;X-APPLE-RADIUS=500;X-TITLE=111 Third Avenue SW:geo:-73.959517,40.602991
END:VEVENT
BEGIN:VEVENT
DTSTART;TZID=America/Chicago:20260304T120500
DTEND;TZID=America/Chicago:20260304T130000
DTSTAMP:20260423T143242
CREATED:20260224T172728Z
LAST-MODIFIED:20260224T172728Z
UID:10003413-1772625900-1772629200@www.calvary-rochester.org
SUMMARY:Holy Eucharist and Silent Meditation
DESCRIPTION:Join us Wednesdays in Lent for a service of Holy Eucharist\, Rite II\, with a period of silent meditation. The service begins at 12:05 pm.
URL:https://www.calvary-rochester.org/event/holy-eucharist-and-silent-meditation-4/2026-03-04/
LOCATION:Calvary Episcopal Church\, 111 Third Avenue SW\, Rochester\, MN\, 55902
CATEGORIES:Holy Week,Home,Worship
ATTACH;FMTTYPE=image/png:https://www.calvary-rochester.org/wp-content/uploads/2026/02/HESM.png
ORGANIZER;CN="Calvary Episcopal Church":MAILTO:office@calvary-rochester.org
GEO:40.602991;-73.959517
X-APPLE-STRUCTURED-LOCATION;VALUE=URI;X-ADDRESS=Calvary Episcopal Church 111 Third Avenue SW Rochester MN 55902;X-APPLE-RADIUS=500;X-TITLE=111 Third Avenue SW:geo:-73.959517,40.602991
END:VEVENT
BEGIN:VEVENT
DTSTART;TZID=America/Chicago:20260308T093000
DTEND;TZID=America/Chicago:20260308T101500
DTSTAMP:20260423T143242
CREATED:20260203T211327Z
LAST-MODIFIED:20260224T175935Z
UID:10003363-1772962200-1772964900@www.calvary-rochester.org
SUMMARY:Lenten Book Study
DESCRIPTION:All are invited to be a part of a book study this Lent during the time between the Sunday services\, beginning on February 22 and ending on Palm Sunday. We will be using the book\, For Such a Time as This: An Emergency Devotional\, by Hanna Reichel. Professor Reichel is the Charles Hodge Professor of Systematic Theology at Princeton Theological Seminary and an elder in the PCUSA.  The book is described as “a guide for ordinary Christians seeking to live faithfully in extraordinary times.”\n\nThe cost for the paperback is $19.00 on Amazon. If you would like to participate and would like some assistance in purchasing the book\, please let Rev. Beth know.
URL:https://www.calvary-rochester.org/event/lenten-book-study/2026-03-08/
LOCATION:Calvary Episcopal Church\, 111 Third Avenue SW\, Rochester\, MN\, 55902
CATEGORIES:Formation,Holy Week,Home
ATTACH;FMTTYPE=image/png:https://www.calvary-rochester.org/wp-content/uploads/2026/02/Book-Study.png
ORGANIZER;CN="Calvary Episcopal Church":MAILTO:office@calvary-rochester.org
GEO:40.602991;-73.959517
X-APPLE-STRUCTURED-LOCATION;VALUE=URI;X-ADDRESS=Calvary Episcopal Church 111 Third Avenue SW Rochester MN 55902;X-APPLE-RADIUS=500;X-TITLE=111 Third Avenue SW:geo:-73.959517,40.602991
END:VEVENT
BEGIN:VEVENT
DTSTART;TZID=America/Chicago:20260311T120500
DTEND;TZID=America/Chicago:20260311T130000
DTSTAMP:20260423T143242
CREATED:20260224T172728Z
LAST-MODIFIED:20260224T172728Z
UID:10003414-1773230700-1773234000@www.calvary-rochester.org
SUMMARY:Holy Eucharist and Silent Meditation
DESCRIPTION:Join us Wednesdays in Lent for a service of Holy Eucharist\, Rite II\, with a period of silent meditation. The service begins at 12:05 pm.
URL:https://www.calvary-rochester.org/event/holy-eucharist-and-silent-meditation-4/2026-03-11/
LOCATION:Calvary Episcopal Church\, 111 Third Avenue SW\, Rochester\, MN\, 55902
CATEGORIES:Holy Week,Home,Worship
ATTACH;FMTTYPE=image/png:https://www.calvary-rochester.org/wp-content/uploads/2026/02/HESM.png
ORGANIZER;CN="Calvary Episcopal Church":MAILTO:office@calvary-rochester.org
GEO:40.602991;-73.959517
X-APPLE-STRUCTURED-LOCATION;VALUE=URI;X-ADDRESS=Calvary Episcopal Church 111 Third Avenue SW Rochester MN 55902;X-APPLE-RADIUS=500;X-TITLE=111 Third Avenue SW:geo:-73.959517,40.602991
END:VEVENT
BEGIN:VEVENT
DTSTART;TZID=America/Chicago:20260315T093000
DTEND;TZID=America/Chicago:20260315T101500
DTSTAMP:20260423T143242
CREATED:20260203T211327Z
LAST-MODIFIED:20260224T175935Z
UID:10003364-1773567000-1773569700@www.calvary-rochester.org
SUMMARY:Lenten Book Study
DESCRIPTION:All are invited to be a part of a book study this Lent during the time between the Sunday services\, beginning on February 22 and ending on Palm Sunday. We will be using the book\, For Such a Time as This: An Emergency Devotional\, by Hanna Reichel. Professor Reichel is the Charles Hodge Professor of Systematic Theology at Princeton Theological Seminary and an elder in the PCUSA.  The book is described as “a guide for ordinary Christians seeking to live faithfully in extraordinary times.”\n\nThe cost for the paperback is $19.00 on Amazon. If you would like to participate and would like some assistance in purchasing the book\, please let Rev. Beth know.
URL:https://www.calvary-rochester.org/event/lenten-book-study/2026-03-15/
LOCATION:Calvary Episcopal Church\, 111 Third Avenue SW\, Rochester\, MN\, 55902
CATEGORIES:Formation,Holy Week,Home
ATTACH;FMTTYPE=image/png:https://www.calvary-rochester.org/wp-content/uploads/2026/02/Book-Study.png
ORGANIZER;CN="Calvary Episcopal Church":MAILTO:office@calvary-rochester.org
GEO:40.602991;-73.959517
X-APPLE-STRUCTURED-LOCATION;VALUE=URI;X-ADDRESS=Calvary Episcopal Church 111 Third Avenue SW Rochester MN 55902;X-APPLE-RADIUS=500;X-TITLE=111 Third Avenue SW:geo:-73.959517,40.602991
END:VEVENT
BEGIN:VEVENT
DTSTART;TZID=America/Chicago:20260318T120500
DTEND;TZID=America/Chicago:20260318T130000
DTSTAMP:20260423T143242
CREATED:20260224T172728Z
LAST-MODIFIED:20260224T172728Z
UID:10003415-1773835500-1773838800@www.calvary-rochester.org
SUMMARY:Holy Eucharist and Silent Meditation
DESCRIPTION:Join us Wednesdays in Lent for a service of Holy Eucharist\, Rite II\, with a period of silent meditation. The service begins at 12:05 pm.
URL:https://www.calvary-rochester.org/event/holy-eucharist-and-silent-meditation-4/2026-03-18/
LOCATION:Calvary Episcopal Church\, 111 Third Avenue SW\, Rochester\, MN\, 55902
CATEGORIES:Holy Week,Home,Worship
ATTACH;FMTTYPE=image/png:https://www.calvary-rochester.org/wp-content/uploads/2026/02/HESM.png
ORGANIZER;CN="Calvary Episcopal Church":MAILTO:office@calvary-rochester.org
GEO:40.602991;-73.959517
X-APPLE-STRUCTURED-LOCATION;VALUE=URI;X-ADDRESS=Calvary Episcopal Church 111 Third Avenue SW Rochester MN 55902;X-APPLE-RADIUS=500;X-TITLE=111 Third Avenue SW:geo:-73.959517,40.602991
END:VEVENT
BEGIN:VEVENT
DTSTART;TZID=America/Chicago:20260322T093000
DTEND;TZID=America/Chicago:20260322T101500
DTSTAMP:20260423T143242
CREATED:20260203T211327Z
LAST-MODIFIED:20260224T175935Z
UID:10003365-1774171800-1774174500@www.calvary-rochester.org
SUMMARY:Lenten Book Study
DESCRIPTION:All are invited to be a part of a book study this Lent during the time between the Sunday services\, beginning on February 22 and ending on Palm Sunday. We will be using the book\, For Such a Time as This: An Emergency Devotional\, by Hanna Reichel. Professor Reichel is the Charles Hodge Professor of Systematic Theology at Princeton Theological Seminary and an elder in the PCUSA.  The book is described as “a guide for ordinary Christians seeking to live faithfully in extraordinary times.”\n\nThe cost for the paperback is $19.00 on Amazon. If you would like to participate and would like some assistance in purchasing the book\, please let Rev. Beth know.
URL:https://www.calvary-rochester.org/event/lenten-book-study/2026-03-22/
LOCATION:Calvary Episcopal Church\, 111 Third Avenue SW\, Rochester\, MN\, 55902
CATEGORIES:Formation,Holy Week,Home
ATTACH;FMTTYPE=image/png:https://www.calvary-rochester.org/wp-content/uploads/2026/02/Book-Study.png
ORGANIZER;CN="Calvary Episcopal Church":MAILTO:office@calvary-rochester.org
GEO:40.602991;-73.959517
X-APPLE-STRUCTURED-LOCATION;VALUE=URI;X-ADDRESS=Calvary Episcopal Church 111 Third Avenue SW Rochester MN 55902;X-APPLE-RADIUS=500;X-TITLE=111 Third Avenue SW:geo:-73.959517,40.602991
END:VEVENT
BEGIN:VEVENT
DTSTART;TZID=America/Chicago:20260325T120500
DTEND;TZID=America/Chicago:20260325T130000
DTSTAMP:20260423T143242
CREATED:20260224T172728Z
LAST-MODIFIED:20260224T172728Z
UID:10003416-1774440300-1774443600@www.calvary-rochester.org
SUMMARY:Holy Eucharist and Silent Meditation
DESCRIPTION:Join us Wednesdays in Lent for a service of Holy Eucharist\, Rite II\, with a period of silent meditation. The service begins at 12:05 pm.
URL:https://www.calvary-rochester.org/event/holy-eucharist-and-silent-meditation-4/2026-03-25/
LOCATION:Calvary Episcopal Church\, 111 Third Avenue SW\, Rochester\, MN\, 55902
CATEGORIES:Holy Week,Home,Worship
ATTACH;FMTTYPE=image/png:https://www.calvary-rochester.org/wp-content/uploads/2026/02/HESM.png
ORGANIZER;CN="Calvary Episcopal Church":MAILTO:office@calvary-rochester.org
GEO:40.602991;-73.959517
X-APPLE-STRUCTURED-LOCATION;VALUE=URI;X-ADDRESS=Calvary Episcopal Church 111 Third Avenue SW Rochester MN 55902;X-APPLE-RADIUS=500;X-TITLE=111 Third Avenue SW:geo:-73.959517,40.602991
END:VEVENT
BEGIN:VEVENT
DTSTART;TZID=America/Chicago:20260329T083000
DTEND;TZID=America/Chicago:20260329T093000
DTSTAMP:20260423T143242
CREATED:20260224T173524Z
LAST-MODIFIED:20260224T175923Z
UID:10003418-1774773000-1774776600@www.calvary-rochester.org
SUMMARY:Palm Sunday Services
DESCRIPTION:Palm Sunday Services\nWe will have two worship services on Palm Sunday: \n\nAt 8:30 am\, we will celebrate the Holy Eucharist with the Rite I liturgy and the Liturgy of the Palms.\nAt 10:30 am\, we will celebrate the Holy Eucharist with the Rite II liturgy and the Liturgy of the Palms. This service will include choir and organ.
URL:https://www.calvary-rochester.org/event/palm-sunday-services-3/2026-03-29/1/
LOCATION:Calvary Episcopal Church\, 111 Third Avenue SW\, Rochester\, MN\, 55902
CATEGORIES:Holy Week,Home,Worship
ATTACH;FMTTYPE=image/png:https://www.calvary-rochester.org/wp-content/uploads/2026/02/Palm-Sunday.png
ORGANIZER;CN="Calvary Episcopal Church":MAILTO:office@calvary-rochester.org
GEO:40.602991;-73.959517
X-APPLE-STRUCTURED-LOCATION;VALUE=URI;X-ADDRESS=Calvary Episcopal Church 111 Third Avenue SW Rochester MN 55902;X-APPLE-RADIUS=500;X-TITLE=111 Third Avenue SW:geo:-73.959517,40.602991
END:VEVENT
BEGIN:VEVENT
DTSTART;TZID=America/Chicago:20260329T093000
DTEND;TZID=America/Chicago:20260329T101500
DTSTAMP:20260423T143242
CREATED:20260203T211327Z
LAST-MODIFIED:20260224T175935Z
UID:10003366-1774776600-1774779300@www.calvary-rochester.org
SUMMARY:Lenten Book Study
DESCRIPTION:All are invited to be a part of a book study this Lent during the time between the Sunday services\, beginning on February 22 and ending on Palm Sunday. We will be using the book\, For Such a Time as This: An Emergency Devotional\, by Hanna Reichel. Professor Reichel is the Charles Hodge Professor of Systematic Theology at Princeton Theological Seminary and an elder in the PCUSA.  The book is described as “a guide for ordinary Christians seeking to live faithfully in extraordinary times.”\n\nThe cost for the paperback is $19.00 on Amazon. If you would like to participate and would like some assistance in purchasing the book\, please let Rev. Beth know.
URL:https://www.calvary-rochester.org/event/lenten-book-study/2026-03-29/
LOCATION:Calvary Episcopal Church\, 111 Third Avenue SW\, Rochester\, MN\, 55902
CATEGORIES:Formation,Holy Week,Home
ATTACH;FMTTYPE=image/png:https://www.calvary-rochester.org/wp-content/uploads/2026/02/Book-Study.png
ORGANIZER;CN="Calvary Episcopal Church":MAILTO:office@calvary-rochester.org
GEO:40.602991;-73.959517
X-APPLE-STRUCTURED-LOCATION;VALUE=URI;X-ADDRESS=Calvary Episcopal Church 111 Third Avenue SW Rochester MN 55902;X-APPLE-RADIUS=500;X-TITLE=111 Third Avenue SW:geo:-73.959517,40.602991
END:VEVENT
BEGIN:VEVENT
DTSTART;TZID=America/Chicago:20260329T103000
DTEND;TZID=America/Chicago:20260329T113000
DTSTAMP:20260423T143242
CREATED:20260224T173524Z
LAST-MODIFIED:20260224T175923Z
UID:10003419-1774780200-1774783800@www.calvary-rochester.org
SUMMARY:Palm Sunday Services
DESCRIPTION:Palm Sunday Services\nWe will have two worship services on Palm Sunday: \n\nAt 8:30 am\, we will celebrate the Holy Eucharist with the Rite I liturgy and the Liturgy of the Palms.\nAt 10:30 am\, we will celebrate the Holy Eucharist with the Rite II liturgy and the Liturgy of the Palms. This service will include choir and organ.
URL:https://www.calvary-rochester.org/event/palm-sunday-services-3/2026-03-29/2/
LOCATION:Calvary Episcopal Church\, 111 Third Avenue SW\, Rochester\, MN\, 55902
CATEGORIES:Holy Week,Home,Worship
ATTACH;FMTTYPE=image/png:https://www.calvary-rochester.org/wp-content/uploads/2026/02/Palm-Sunday.png
ORGANIZER;CN="Calvary Episcopal Church":MAILTO:office@calvary-rochester.org
GEO:40.602991;-73.959517
X-APPLE-STRUCTURED-LOCATION;VALUE=URI;X-ADDRESS=Calvary Episcopal Church 111 Third Avenue SW Rochester MN 55902;X-APPLE-RADIUS=500;X-TITLE=111 Third Avenue SW:geo:-73.959517,40.602991
END:VEVENT
END:VCALENDAR