BEGIN:VCALENDAR
VERSION:2.0
PRODID:-//Calvary Episcopal Church - ECPv6.15.20//NONSGML v1.0//EN
CALSCALE:GREGORIAN
METHOD:PUBLISH
X-WR-CALNAME:Calvary Episcopal Church
X-ORIGINAL-URL:https://www.calvary-rochester.org
X-WR-CALDESC:Events for Calvary Episcopal Church
REFRESH-INTERVAL;VALUE=DURATION:PT1H
X-Robots-Tag:noindex
X-PUBLISHED-TTL:PT1H
BEGIN:VTIMEZONE
TZID:America/Chicago
BEGIN:DAYLIGHT
TZOFFSETFROM:-0600
TZOFFSETTO:-0500
TZNAME:CDT
DTSTART:20230312T080000
END:DAYLIGHT
BEGIN:STANDARD
TZOFFSETFROM:-0500
TZOFFSETTO:-0600
TZNAME:CST
DTSTART:20231105T070000
END:STANDARD
BEGIN:DAYLIGHT
TZOFFSETFROM:-0600
TZOFFSETTO:-0500
TZNAME:CDT
DTSTART:20240310T080000
END:DAYLIGHT
BEGIN:STANDARD
TZOFFSETFROM:-0500
TZOFFSETTO:-0600
TZNAME:CST
DTSTART:20241103T070000
END:STANDARD
BEGIN:DAYLIGHT
TZOFFSETFROM:-0600
TZOFFSETTO:-0500
TZNAME:CDT
DTSTART:20250309T080000
END:DAYLIGHT
BEGIN:STANDARD
TZOFFSETFROM:-0500
TZOFFSETTO:-0600
TZNAME:CST
DTSTART:20251102T070000
END:STANDARD
END:VTIMEZONE
BEGIN:VTIMEZONE
TZID:UTC
BEGIN:STANDARD
TZOFFSETFROM:+0000
TZOFFSETTO:+0000
TZNAME:UTC
DTSTART:20230101T000000
END:STANDARD
END:VTIMEZONE
BEGIN:VEVENT
DTSTART;TZID=America/Chicago:20240202T163000
DTEND;TZID=America/Chicago:20240202T183000
DTSTAMP:20260425T073112
CREATED:20240117T021556Z
LAST-MODIFIED:20240201T162436Z
UID:10002129-1706891400-1706898600@www.calvary-rochester.org
SUMMARY:Mardi Gras Happy Hour
DESCRIPTION:Start February on the right note (a little jazz might be in order) with your fellow parishioners at the first Calvary happy hour of the year. We will be celebrating Mardi Gras on Friday\, February 2\, from 4:30 pm to 6:30 pm. You don’t even have to travel to New Orleans! \nWe will meet at Beetle’s Bar and Grill located two blocks west of Saint Marys Hospital on 2nd Street SW. Do you know what CHTBMGPOONO stands for? Be the first to tell us and you will get a free drink! This is very informal. Come when you can. Stay for as long as you want. Popcorn and water are free. You can purchase other food and drinks. \nAdded bonus: We can celebrate Groundhog Day together\, too!
URL:https://www.calvary-rochester.org/event/mardi-gras-happy-hour/
LOCATION:Beetle’s Bar and Grill\, 230 20th Avenue SW\, Rochester\, Minnesota\, 55902\, United States
CATEGORIES:Fellowship,Home
ATTACH;FMTTYPE=image/png:https://www.calvary-rochester.org/wp-content/uploads/2024/01/Mardi-Gras-HH-FB.png
ORGANIZER;CN="Calvary Episcopal Church":MAILTO:office@calvary-rochester.org
END:VEVENT
BEGIN:VEVENT
DTSTART;TZID=America/Chicago:20240204T083000
DTEND;TZID=America/Chicago:20240204T091500
DTSTAMP:20260425T073112
CREATED:20230415T161642Z
LAST-MODIFIED:20240617T224123Z
UID:10001811-1707035400-1707038100@www.calvary-rochester.org
SUMMARY:Sunday Worship: A Service of Morning Prayer
DESCRIPTION:This is one of two services each Sunday: at 8:30 am\, on the first Sunday of every month\, Calvary offers A Service of Morning Prayer. This beautiful\, ancient service consists of prayers\, canticles\, and scripture readings and is the traditional way of greeting the day in our Episcopal tradition. It is about 30 minutes long\, and readers will be invited out of the gathered congregation by the lay leaders. \nThe nursery\, staffed by two adults each Sunday who are vaccinated\, boosted\, and Safeguarding God’s Children trained\, will be available 8:30 am – 11:15 am.
URL:https://www.calvary-rochester.org/event/sunday-worship-a-service-of-morning-prayer-2-2-2/2024-02-04/
LOCATION:Calvary Episcopal Church\, 111 Third Avenue SW\, Rochester\, MN\, 55902
CATEGORIES:Home,Worship
ATTACH;FMTTYPE=image/png:https://www.calvary-rochester.org/wp-content/uploads/2022/11/ASoMP-FB.png
ORGANIZER;CN="Calvary Episcopal Church":MAILTO:office@calvary-rochester.org
GEO:40.602991;-73.959517
X-APPLE-STRUCTURED-LOCATION;VALUE=URI;X-ADDRESS=Calvary Episcopal Church 111 Third Avenue SW Rochester MN 55902;X-APPLE-RADIUS=500;X-TITLE=111 Third Avenue SW:geo:-73.959517,40.602991
END:VEVENT
BEGIN:VEVENT
DTSTART;TZID=America/Chicago:20240204T091500
DTEND;TZID=America/Chicago:20240204T101500
DTSTAMP:20260425T073112
CREATED:20240131T001057Z
LAST-MODIFIED:20240131T001058Z
UID:10002131-1707038100-1707041700@www.calvary-rochester.org
SUMMARY:Adult Forum
DESCRIPTION:All are invited at 9:15 on Sunday\, February 4\, to Crawford Hall to hear a report on updates on the Mayo expansion project and the response work at Calvary\, presented by the Calvary leadership team.
URL:https://www.calvary-rochester.org/event/adult-forum/
LOCATION:Calvary Episcopal Church\, 111 Third Avenue SW\, Rochester\, MN\, 55902
CATEGORIES:Formation,Home
ATTACH;FMTTYPE=image/png:https://www.calvary-rochester.org/wp-content/uploads/2024/01/Mayo-Forum-FB.png
ORGANIZER;CN="Calvary Episcopal Church":MAILTO:office@calvary-rochester.org
GEO:40.602991;-73.959517
X-APPLE-STRUCTURED-LOCATION;VALUE=URI;X-ADDRESS=Calvary Episcopal Church 111 Third Avenue SW Rochester MN 55902;X-APPLE-RADIUS=500;X-TITLE=111 Third Avenue SW:geo:-73.959517,40.602991
END:VEVENT
BEGIN:VEVENT
DTSTART;TZID=America/Chicago:20240204T103000
DTEND;TZID=America/Chicago:20240204T113000
DTSTAMP:20260425T073112
CREATED:20240117T011225Z
LAST-MODIFIED:20240117T011225Z
UID:10001761-1707042600-1707046200@www.calvary-rochester.org
SUMMARY:Sunday Worship: Holy Eucharist\, Rite II
DESCRIPTION:This is one of two services each Sunday: at 10:30 am\, Calvary offers a Rite II service of Holy Eucharist. Rite II uses more contemporary language and includes congregational and choral singing. The Motet Choir will lead our music. \nThe nursery\, staffed by two adults each Sunday who are vaccinated\, boosted\, and Safeguarding God’s Children trained\, will be available 8:30 am – 11:15 am.
URL:https://www.calvary-rochester.org/event/sunday-worship-holy-eucharist-rite-ii-5-4-2/2024-02-04/
LOCATION:Calvary Episcopal Church\, 111 Third Avenue SW\, Rochester\, MN\, 55902
CATEGORIES:Home,Worship
ATTACH;FMTTYPE=image/png:https://www.calvary-rochester.org/wp-content/uploads/2022/11/HE-Rite-II-FB.png
ORGANIZER;CN="Calvary Episcopal Church":MAILTO:office@calvary-rochester.org
GEO:40.602991;-73.959517
X-APPLE-STRUCTURED-LOCATION;VALUE=URI;X-ADDRESS=Calvary Episcopal Church 111 Third Avenue SW Rochester MN 55902;X-APPLE-RADIUS=500;X-TITLE=111 Third Avenue SW:geo:-73.959517,40.602991
END:VEVENT
BEGIN:VEVENT
DTSTART;TZID=America/Chicago:20240205T171500
DTEND;TZID=America/Chicago:20240205T180000
DTSTAMP:20260425T073112
CREATED:20230319T211744Z
LAST-MODIFIED:20240918T012641Z
UID:10001824-1707153300-1707156000@www.calvary-rochester.org
SUMMARY:Healing Service
DESCRIPTION:Join us in the church each week for our healing service\, featuring prayers\, Holy Eucharist\, and anointing for healing. \nAll are welcome!
URL:https://www.calvary-rochester.org/event/healing-service-4-2/2024-02-05/
LOCATION:Calvary Episcopal Church\, 111 Third Avenue SW\, Rochester\, MN\, 55902
CATEGORIES:Home,Worship
ATTACH;FMTTYPE=image/png:https://www.calvary-rochester.org/wp-content/uploads/2022/08/Healing-Service-FB-1.png
ORGANIZER;CN="Calvary Episcopal Church":MAILTO:office@calvary-rochester.org
GEO:40.602991;-73.959517
X-APPLE-STRUCTURED-LOCATION;VALUE=URI;X-ADDRESS=Calvary Episcopal Church 111 Third Avenue SW Rochester MN 55902;X-APPLE-RADIUS=500;X-TITLE=111 Third Avenue SW:geo:-73.959517,40.602991
END:VEVENT
BEGIN:VEVENT
DTSTART;TZID=America/Chicago:20240211T083000
DTEND;TZID=America/Chicago:20240211T091500
DTSTAMP:20260425T073112
CREATED:20240117T011355Z
LAST-MODIFIED:20240117T011355Z
UID:10001720-1707640200-1707642900@www.calvary-rochester.org
SUMMARY:Sunday Worship: Holy Eucharist\, Rite I
DESCRIPTION:This is one of two services each Sunday: at 8:30 am\, Calvary offers a Rite I service of Holy Eucharist. Rite I uses traditional language and is quiet and contemplative. \nThe nursery\, staffed by two adults each Sunday who are vaccinated\, boosted\, and Safeguarding God’s Children trained\, will be available 8:30 am – 11:15 am.
URL:https://www.calvary-rochester.org/event/sunday-worship-holy-eucharist-rite-i-3-2-2/2024-02-11/
LOCATION:Calvary Episcopal Church\, 111 Third Avenue SW\, Rochester\, MN\, 55902
CATEGORIES:Home,Worship
ATTACH;FMTTYPE=image/png:https://www.calvary-rochester.org/wp-content/uploads/2022/11/HE-Rite-I-FB.png
ORGANIZER;CN="Calvary Episcopal Church":MAILTO:office@calvary-rochester.org
GEO:40.602991;-73.959517
X-APPLE-STRUCTURED-LOCATION;VALUE=URI;X-ADDRESS=Calvary Episcopal Church 111 Third Avenue SW Rochester MN 55902;X-APPLE-RADIUS=500;X-TITLE=111 Third Avenue SW:geo:-73.959517,40.602991
END:VEVENT
BEGIN:VEVENT
DTSTART;TZID=America/Chicago:20240211T091500
DTEND;TZID=America/Chicago:20240211T101500
DTSTAMP:20260425T073112
CREATED:20240117T023818Z
LAST-MODIFIED:20240117T023818Z
UID:10002130-1707642900-1707646500@www.calvary-rochester.org
SUMMARY:Pancake Power Breakfast
DESCRIPTION:Shrove Sunday is almost here\, which means it is almost time for our Annual Pancake Breakfast! Mark your calendars for Sunday\, February 11. \nThe pancake breakfast is a fundraiser for a local charity of the kids’ choice and is a fun chance for our kids to get together as a community to give back! Thank you so much for supporting the kids at Calvary for this pancake breakfast. If you are able\, please consider signing up for an available role by clicking on the link below to see which one would be a good fit for your talents and skills. If you are unable to do that\, look for our ingredient sign up link below and sign up to donate an ingredient or two! Finally\, if you are unable to do either of these things\, buy a ticket – we look forward to seeing you there! \nMichelle McKean \nClick here for supervisory roles. \nClick here for food donations (to be delivered in advance of the event).
URL:https://www.calvary-rochester.org/event/pancake-power-breakfast/
LOCATION:Calvary Episcopal Church\, 111 Third Avenue SW\, Rochester\, MN\, 55902
CATEGORIES:Fellowship,Food,Home
ATTACH;FMTTYPE=image/png:https://www.calvary-rochester.org/wp-content/uploads/2024/01/Pancake-Power-FB.png
ORGANIZER;CN="Calvary Episcopal Church":MAILTO:office@calvary-rochester.org
GEO:40.602991;-73.959517
X-APPLE-STRUCTURED-LOCATION;VALUE=URI;X-ADDRESS=Calvary Episcopal Church 111 Third Avenue SW Rochester MN 55902;X-APPLE-RADIUS=500;X-TITLE=111 Third Avenue SW:geo:-73.959517,40.602991
END:VEVENT
BEGIN:VEVENT
DTSTART;TZID=America/Chicago:20240211T103000
DTEND;TZID=America/Chicago:20240211T113000
DTSTAMP:20260425T073112
CREATED:20240117T011225Z
LAST-MODIFIED:20240117T011225Z
UID:10001762-1707647400-1707651000@www.calvary-rochester.org
SUMMARY:Sunday Worship: Holy Eucharist\, Rite II
DESCRIPTION:This is one of two services each Sunday: at 10:30 am\, Calvary offers a Rite II service of Holy Eucharist. Rite II uses more contemporary language and includes congregational and choral singing. The Motet Choir will lead our music. \nThe nursery\, staffed by two adults each Sunday who are vaccinated\, boosted\, and Safeguarding God’s Children trained\, will be available 8:30 am – 11:15 am.
URL:https://www.calvary-rochester.org/event/sunday-worship-holy-eucharist-rite-ii-5-4-2/2024-02-11/
LOCATION:Calvary Episcopal Church\, 111 Third Avenue SW\, Rochester\, MN\, 55902
CATEGORIES:Home,Worship
ATTACH;FMTTYPE=image/png:https://www.calvary-rochester.org/wp-content/uploads/2022/11/HE-Rite-II-FB.png
ORGANIZER;CN="Calvary Episcopal Church":MAILTO:office@calvary-rochester.org
GEO:40.602991;-73.959517
X-APPLE-STRUCTURED-LOCATION;VALUE=URI;X-ADDRESS=Calvary Episcopal Church 111 Third Avenue SW Rochester MN 55902;X-APPLE-RADIUS=500;X-TITLE=111 Third Avenue SW:geo:-73.959517,40.602991
END:VEVENT
BEGIN:VEVENT
DTSTART;TZID=America/Chicago:20240212T171500
DTEND;TZID=America/Chicago:20240212T180000
DTSTAMP:20260425T073112
CREATED:20230319T211744Z
LAST-MODIFIED:20240918T012641Z
UID:10001825-1707758100-1707760800@www.calvary-rochester.org
SUMMARY:Healing Service
DESCRIPTION:Join us in the church each week for our healing service\, featuring prayers\, Holy Eucharist\, and anointing for healing. \nAll are welcome!
URL:https://www.calvary-rochester.org/event/healing-service-4-2/2024-02-12/
LOCATION:Calvary Episcopal Church\, 111 Third Avenue SW\, Rochester\, MN\, 55902
CATEGORIES:Home,Worship
ATTACH;FMTTYPE=image/png:https://www.calvary-rochester.org/wp-content/uploads/2022/08/Healing-Service-FB-1.png
ORGANIZER;CN="Calvary Episcopal Church":MAILTO:office@calvary-rochester.org
GEO:40.602991;-73.959517
X-APPLE-STRUCTURED-LOCATION;VALUE=URI;X-ADDRESS=Calvary Episcopal Church 111 Third Avenue SW Rochester MN 55902;X-APPLE-RADIUS=500;X-TITLE=111 Third Avenue SW:geo:-73.959517,40.602991
END:VEVENT
BEGIN:VEVENT
DTSTART;TZID=America/Chicago:20240214T080000
DTEND;TZID=America/Chicago:20240214T114500
DTSTAMP:20260425T073112
CREATED:20240131T015635Z
LAST-MODIFIED:20240131T015635Z
UID:10002132-1707897600-1707911100@www.calvary-rochester.org
SUMMARY:Ashes to Go
DESCRIPTION:Join us on the sidewalks outside Calvary for the Imposition of Ashes\, in recognition of Ash Wednesday.
URL:https://www.calvary-rochester.org/event/ashes-to-go-2/
LOCATION:Calvary Episcopal Church\, 111 Third Avenue SW\, Rochester\, MN\, 55902
CATEGORIES:Community,Home,Worship
ATTACH;FMTTYPE=image/png:https://www.calvary-rochester.org/wp-content/uploads/2024/01/Ash-Wednesday-FB.png
ORGANIZER;CN="Calvary Episcopal Church":MAILTO:office@calvary-rochester.org
GEO:40.602991;-73.959517
X-APPLE-STRUCTURED-LOCATION;VALUE=URI;X-ADDRESS=Calvary Episcopal Church 111 Third Avenue SW Rochester MN 55902;X-APPLE-RADIUS=500;X-TITLE=111 Third Avenue SW:geo:-73.959517,40.602991
END:VEVENT
BEGIN:VEVENT
DTSTART;TZID=UTC:20240214T120000
DTEND;TZID=UTC:20240214T130000
DTSTAMP:20260425T073112
CREATED:20240131T021943Z
LAST-MODIFIED:20240131T021944Z
UID:10002134-1707912000-1707915600@www.calvary-rochester.org
SUMMARY:Ash Wednesday: Holy Eucharist and Imposition of Ashes
DESCRIPTION:Join us in the church for a service of Holy Eucharist and the Imposition of Ashes\, in recognition of Ash Wednesday.
URL:https://www.calvary-rochester.org/event/ash-wednesday-holy-eucharist-and-imposition-of-ashes-3/
LOCATION:Calvary Episcopal Church\, 111 Third Avenue SW\, Rochester\, MN\, 55902
CATEGORIES:Home,Worship
ATTACH;FMTTYPE=image/png:https://www.calvary-rochester.org/wp-content/uploads/2024/01/AW-Services-FB.png
ORGANIZER;CN="Calvary Episcopal Church":MAILTO:office@calvary-rochester.org
GEO:40.602991;-73.959517
X-APPLE-STRUCTURED-LOCATION;VALUE=URI;X-ADDRESS=Calvary Episcopal Church 111 Third Avenue SW Rochester MN 55902;X-APPLE-RADIUS=500;X-TITLE=111 Third Avenue SW:geo:-73.959517,40.602991
END:VEVENT
BEGIN:VEVENT
DTSTART;TZID=UTC:20240214T190000
DTEND;TZID=UTC:20240214T200000
DTSTAMP:20260425T073112
CREATED:20240131T021947Z
LAST-MODIFIED:20240131T021947Z
UID:10002133-1707937200-1707940800@www.calvary-rochester.org
SUMMARY:Ash Wednesday: Holy Eucharist and Imposition of Ashes
DESCRIPTION:Join us in the church for a service of Holy Eucharist and the Imposition of Ashes\, in recognition of Ash Wednesday. This service will feature the Motet Choir.
URL:https://www.calvary-rochester.org/event/ash-wednesday-holy-eucharist-and-imposition-of-ashes-4/
LOCATION:Calvary Episcopal Church\, 111 Third Avenue SW\, Rochester\, MN\, 55902
CATEGORIES:Home,Worship
ATTACH;FMTTYPE=image/png:https://www.calvary-rochester.org/wp-content/uploads/2024/01/AW-Services-FB.png
ORGANIZER;CN="Calvary Episcopal Church":MAILTO:office@calvary-rochester.org
GEO:40.602991;-73.959517
X-APPLE-STRUCTURED-LOCATION;VALUE=URI;X-ADDRESS=Calvary Episcopal Church 111 Third Avenue SW Rochester MN 55902;X-APPLE-RADIUS=500;X-TITLE=111 Third Avenue SW:geo:-73.959517,40.602991
END:VEVENT
BEGIN:VEVENT
DTSTART;TZID=America/Chicago:20240218T083000
DTEND;TZID=America/Chicago:20240218T091500
DTSTAMP:20260425T073112
CREATED:20240117T011355Z
LAST-MODIFIED:20240117T011355Z
UID:10001721-1708245000-1708247700@www.calvary-rochester.org
SUMMARY:Sunday Worship: Holy Eucharist\, Rite I
DESCRIPTION:This is one of two services each Sunday: at 8:30 am\, Calvary offers a Rite I service of Holy Eucharist. Rite I uses traditional language and is quiet and contemplative. \nThe nursery\, staffed by two adults each Sunday who are vaccinated\, boosted\, and Safeguarding God’s Children trained\, will be available 8:30 am – 11:15 am.
URL:https://www.calvary-rochester.org/event/sunday-worship-holy-eucharist-rite-i-3-2-2/2024-02-18/
LOCATION:Calvary Episcopal Church\, 111 Third Avenue SW\, Rochester\, MN\, 55902
CATEGORIES:Home,Worship
ATTACH;FMTTYPE=image/png:https://www.calvary-rochester.org/wp-content/uploads/2022/11/HE-Rite-I-FB.png
ORGANIZER;CN="Calvary Episcopal Church":MAILTO:office@calvary-rochester.org
GEO:40.602991;-73.959517
X-APPLE-STRUCTURED-LOCATION;VALUE=URI;X-ADDRESS=Calvary Episcopal Church 111 Third Avenue SW Rochester MN 55902;X-APPLE-RADIUS=500;X-TITLE=111 Third Avenue SW:geo:-73.959517,40.602991
END:VEVENT
BEGIN:VEVENT
DTSTART;TZID=America/Chicago:20240218T103000
DTEND;TZID=America/Chicago:20240218T113000
DTSTAMP:20260425T073112
CREATED:20240117T011225Z
LAST-MODIFIED:20240117T011225Z
UID:10001763-1708252200-1708255800@www.calvary-rochester.org
SUMMARY:Sunday Worship: Holy Eucharist\, Rite II
DESCRIPTION:This is one of two services each Sunday: at 10:30 am\, Calvary offers a Rite II service of Holy Eucharist. Rite II uses more contemporary language and includes congregational and choral singing. The Motet Choir will lead our music. \nThe nursery\, staffed by two adults each Sunday who are vaccinated\, boosted\, and Safeguarding God’s Children trained\, will be available 8:30 am – 11:15 am.
URL:https://www.calvary-rochester.org/event/sunday-worship-holy-eucharist-rite-ii-5-4-2/2024-02-18/
LOCATION:Calvary Episcopal Church\, 111 Third Avenue SW\, Rochester\, MN\, 55902
CATEGORIES:Home,Worship
ATTACH;FMTTYPE=image/png:https://www.calvary-rochester.org/wp-content/uploads/2022/11/HE-Rite-II-FB.png
ORGANIZER;CN="Calvary Episcopal Church":MAILTO:office@calvary-rochester.org
GEO:40.602991;-73.959517
X-APPLE-STRUCTURED-LOCATION;VALUE=URI;X-ADDRESS=Calvary Episcopal Church 111 Third Avenue SW Rochester MN 55902;X-APPLE-RADIUS=500;X-TITLE=111 Third Avenue SW:geo:-73.959517,40.602991
END:VEVENT
BEGIN:VEVENT
DTSTART;TZID=America/Chicago:20240225T083000
DTEND;TZID=America/Chicago:20240225T091500
DTSTAMP:20260425T073112
CREATED:20240117T011355Z
LAST-MODIFIED:20240117T011355Z
UID:10001722-1708849800-1708852500@www.calvary-rochester.org
SUMMARY:Sunday Worship: Holy Eucharist\, Rite I
DESCRIPTION:This is one of two services each Sunday: at 8:30 am\, Calvary offers a Rite I service of Holy Eucharist. Rite I uses traditional language and is quiet and contemplative. \nThe nursery\, staffed by two adults each Sunday who are vaccinated\, boosted\, and Safeguarding God’s Children trained\, will be available 8:30 am – 11:15 am.
URL:https://www.calvary-rochester.org/event/sunday-worship-holy-eucharist-rite-i-3-2-2/2024-02-25/
LOCATION:Calvary Episcopal Church\, 111 Third Avenue SW\, Rochester\, MN\, 55902
CATEGORIES:Home,Worship
ATTACH;FMTTYPE=image/png:https://www.calvary-rochester.org/wp-content/uploads/2022/11/HE-Rite-I-FB.png
ORGANIZER;CN="Calvary Episcopal Church":MAILTO:office@calvary-rochester.org
GEO:40.602991;-73.959517
X-APPLE-STRUCTURED-LOCATION;VALUE=URI;X-ADDRESS=Calvary Episcopal Church 111 Third Avenue SW Rochester MN 55902;X-APPLE-RADIUS=500;X-TITLE=111 Third Avenue SW:geo:-73.959517,40.602991
END:VEVENT
BEGIN:VEVENT
DTSTART;TZID=America/Chicago:20240225T091500
DTEND;TZID=America/Chicago:20240225T101500
DTSTAMP:20260425T073112
CREATED:20240221T145029Z
LAST-MODIFIED:20240320T133012Z
UID:10002220-1708852500-1708856100@www.calvary-rochester.org
SUMMARY:Lenten Prayer Study
DESCRIPTION:All are invited to a Lenten course on Prayer from 9:15 – 10:15 am on Sundays in the Fireside Room. Please be a part of this learning about prayer as we move toward understanding how important our prayer lives\, both individually and corporately\, are at Calvary and in our work\, family\, and discretionary time.
URL:https://www.calvary-rochester.org/event/lenten-prayer-study/2024-02-25/
LOCATION:Calvary Episcopal Church\, 111 Third Avenue SW\, Rochester\, MN\, 55902
CATEGORIES:Fellowship,Formation,Home
ATTACH;FMTTYPE=image/png:https://www.calvary-rochester.org/wp-content/uploads/2024/02/Prayer-Study-FB.png
ORGANIZER;CN="Calvary Episcopal Church":MAILTO:office@calvary-rochester.org
GEO:40.602991;-73.959517
X-APPLE-STRUCTURED-LOCATION;VALUE=URI;X-ADDRESS=Calvary Episcopal Church 111 Third Avenue SW Rochester MN 55902;X-APPLE-RADIUS=500;X-TITLE=111 Third Avenue SW:geo:-73.959517,40.602991
END:VEVENT
BEGIN:VEVENT
DTSTART;TZID=America/Chicago:20240225T103000
DTEND;TZID=America/Chicago:20240225T113000
DTSTAMP:20260425T073112
CREATED:20240117T011225Z
LAST-MODIFIED:20240117T011225Z
UID:10001764-1708857000-1708860600@www.calvary-rochester.org
SUMMARY:Sunday Worship: Holy Eucharist\, Rite II
DESCRIPTION:This is one of two services each Sunday: at 10:30 am\, Calvary offers a Rite II service of Holy Eucharist. Rite II uses more contemporary language and includes congregational and choral singing. The Motet Choir will lead our music. \nThe nursery\, staffed by two adults each Sunday who are vaccinated\, boosted\, and Safeguarding God’s Children trained\, will be available 8:30 am – 11:15 am.
URL:https://www.calvary-rochester.org/event/sunday-worship-holy-eucharist-rite-ii-5-4-2/2024-02-25/
LOCATION:Calvary Episcopal Church\, 111 Third Avenue SW\, Rochester\, MN\, 55902
CATEGORIES:Home,Worship
ATTACH;FMTTYPE=image/png:https://www.calvary-rochester.org/wp-content/uploads/2022/11/HE-Rite-II-FB.png
ORGANIZER;CN="Calvary Episcopal Church":MAILTO:office@calvary-rochester.org
GEO:40.602991;-73.959517
X-APPLE-STRUCTURED-LOCATION;VALUE=URI;X-ADDRESS=Calvary Episcopal Church 111 Third Avenue SW Rochester MN 55902;X-APPLE-RADIUS=500;X-TITLE=111 Third Avenue SW:geo:-73.959517,40.602991
END:VEVENT
BEGIN:VEVENT
DTSTART;TZID=America/Chicago:20240226T171500
DTEND;TZID=America/Chicago:20240226T180000
DTSTAMP:20260425T073112
CREATED:20230319T211744Z
LAST-MODIFIED:20240918T012641Z
UID:10001827-1708967700-1708970400@www.calvary-rochester.org
SUMMARY:Healing Service
DESCRIPTION:Join us in the church each week for our healing service\, featuring prayers\, Holy Eucharist\, and anointing for healing. \nAll are welcome!
URL:https://www.calvary-rochester.org/event/healing-service-4-2/2024-02-26/
LOCATION:Calvary Episcopal Church\, 111 Third Avenue SW\, Rochester\, MN\, 55902
CATEGORIES:Home,Worship
ATTACH;FMTTYPE=image/png:https://www.calvary-rochester.org/wp-content/uploads/2022/08/Healing-Service-FB-1.png
ORGANIZER;CN="Calvary Episcopal Church":MAILTO:office@calvary-rochester.org
GEO:40.602991;-73.959517
X-APPLE-STRUCTURED-LOCATION;VALUE=URI;X-ADDRESS=Calvary Episcopal Church 111 Third Avenue SW Rochester MN 55902;X-APPLE-RADIUS=500;X-TITLE=111 Third Avenue SW:geo:-73.959517,40.602991
END:VEVENT
BEGIN:VEVENT
DTSTART;TZID=America/Chicago:20240228T120500
DTEND;TZID=America/Chicago:20240228T124500
DTSTAMP:20260425T073112
CREATED:20240305T124118Z
LAST-MODIFIED:20240305T221705Z
UID:10002208-1709121900-1709124300@www.calvary-rochester.org
SUMMARY:Holy Eucharist and Silent Meditation
DESCRIPTION:Join us Wednesdays in Lent for a service of Holy Eucharist\, Rite II\, with a period of silent meditation. The service begins at 12:05 pm..
URL:https://www.calvary-rochester.org/event/holy-eucharist-and-silent-meditation/2024-02-28/
LOCATION:Calvary Episcopal Church\, 111 Third Avenue SW\, Rochester\, MN\, 55902
CATEGORIES:Home,Worship
ATTACH;FMTTYPE=image/png:https://www.calvary-rochester.org/wp-content/uploads/2024/02/HE2-and-SM-FB.png
ORGANIZER;CN="Calvary Episcopal Church":MAILTO:office@calvary-rochester.org
GEO:40.602991;-73.959517
X-APPLE-STRUCTURED-LOCATION;VALUE=URI;X-ADDRESS=Calvary Episcopal Church 111 Third Avenue SW Rochester MN 55902;X-APPLE-RADIUS=500;X-TITLE=111 Third Avenue SW:geo:-73.959517,40.602991
END:VEVENT
END:VCALENDAR