BEGIN:VCALENDAR
VERSION:2.0
PRODID:-//Calvary Episcopal Church - ECPv6.15.20//NONSGML v1.0//EN
CALSCALE:GREGORIAN
METHOD:PUBLISH
X-ORIGINAL-URL:https://www.calvary-rochester.org
X-WR-CALDESC:Events for Calvary Episcopal Church
REFRESH-INTERVAL;VALUE=DURATION:PT1H
X-Robots-Tag:noindex
X-PUBLISHED-TTL:PT1H
BEGIN:VTIMEZONE
TZID:America/Chicago
BEGIN:DAYLIGHT
TZOFFSETFROM:-0600
TZOFFSETTO:-0500
TZNAME:CDT
DTSTART:20230312T080000
END:DAYLIGHT
BEGIN:STANDARD
TZOFFSETFROM:-0500
TZOFFSETTO:-0600
TZNAME:CST
DTSTART:20231105T070000
END:STANDARD
BEGIN:DAYLIGHT
TZOFFSETFROM:-0600
TZOFFSETTO:-0500
TZNAME:CDT
DTSTART:20240310T080000
END:DAYLIGHT
BEGIN:STANDARD
TZOFFSETFROM:-0500
TZOFFSETTO:-0600
TZNAME:CST
DTSTART:20241103T070000
END:STANDARD
BEGIN:DAYLIGHT
TZOFFSETFROM:-0600
TZOFFSETTO:-0500
TZNAME:CDT
DTSTART:20250309T080000
END:DAYLIGHT
BEGIN:STANDARD
TZOFFSETFROM:-0500
TZOFFSETTO:-0600
TZNAME:CST
DTSTART:20251102T070000
END:STANDARD
END:VTIMEZONE
BEGIN:VEVENT
DTSTART;TZID=America/Chicago:20240901T083000
DTEND;TZID=America/Chicago:20240901T091500
DTSTAMP:20260424T183301
CREATED:20230415T161642Z
LAST-MODIFIED:20240617T224123Z
UID:10001818-1725179400-1725182100@www.calvary-rochester.org
SUMMARY:Sunday Worship: A Service of Morning Prayer
DESCRIPTION:This is one of two services each Sunday: at 8:30 am\, on the first Sunday of every month\, Calvary offers A Service of Morning Prayer. This beautiful\, ancient service consists of prayers\, canticles\, and scripture readings and is the traditional way of greeting the day in our Episcopal tradition. It is about 30 minutes long\, and readers will be invited out of the gathered congregation by the lay leaders. \nThe nursery\, staffed by two adults each Sunday who are vaccinated\, boosted\, and Safeguarding God’s Children trained\, will be available 8:30 am – 11:15 am.
URL:https://www.calvary-rochester.org/event/sunday-worship-a-service-of-morning-prayer-2-2-2/2024-09-01/
LOCATION:Calvary Episcopal Church\, 111 Third Avenue SW\, Rochester\, MN\, 55902
CATEGORIES:Home,Worship
ATTACH;FMTTYPE=image/png:https://www.calvary-rochester.org/wp-content/uploads/2022/11/ASoMP-FB.png
ORGANIZER;CN="Calvary Episcopal Church":MAILTO:office@calvary-rochester.org
GEO:40.602991;-73.959517
X-APPLE-STRUCTURED-LOCATION;VALUE=URI;X-ADDRESS=Calvary Episcopal Church 111 Third Avenue SW Rochester MN 55902;X-APPLE-RADIUS=500;X-TITLE=111 Third Avenue SW:geo:-73.959517,40.602991
END:VEVENT
BEGIN:VEVENT
DTSTART;TZID=America/Chicago:20240901T103000
DTEND;TZID=America/Chicago:20240901T113000
DTSTAMP:20260424T183301
CREATED:20240117T011225Z
LAST-MODIFIED:20240117T011225Z
UID:10001791-1725186600-1725190200@www.calvary-rochester.org
SUMMARY:Sunday Worship: Holy Eucharist\, Rite II
DESCRIPTION:This is one of two services each Sunday: at 10:30 am\, Calvary offers a Rite II service of Holy Eucharist. Rite II uses more contemporary language and includes congregational and choral singing. The Motet Choir will lead our music. \nThe nursery\, staffed by two adults each Sunday who are vaccinated\, boosted\, and Safeguarding God’s Children trained\, will be available 8:30 am – 11:15 am.
URL:https://www.calvary-rochester.org/event/sunday-worship-holy-eucharist-rite-ii-5-4-2/2024-09-01/
LOCATION:Calvary Episcopal Church\, 111 Third Avenue SW\, Rochester\, MN\, 55902
CATEGORIES:Home,Worship
ATTACH;FMTTYPE=image/png:https://www.calvary-rochester.org/wp-content/uploads/2022/11/HE-Rite-II-FB.png
ORGANIZER;CN="Calvary Episcopal Church":MAILTO:office@calvary-rochester.org
GEO:40.602991;-73.959517
X-APPLE-STRUCTURED-LOCATION;VALUE=URI;X-ADDRESS=Calvary Episcopal Church 111 Third Avenue SW Rochester MN 55902;X-APPLE-RADIUS=500;X-TITLE=111 Third Avenue SW:geo:-73.959517,40.602991
END:VEVENT
BEGIN:VEVENT
DTSTART;TZID=America/Chicago:20240901T133000
DTEND;TZID=America/Chicago:20240901T170000
DTSTAMP:20260424T183301
CREATED:20240814T123920Z
LAST-MODIFIED:20240814T123920Z
UID:10002361-1725197400-1725210000@www.calvary-rochester.org
SUMMARY:San Jose Obrero Mission Day
DESCRIPTION:The San Jose Obrero Mission is a long-standing diocesan tradition of celebrating the Eucharist and providing a meal with migrant workers in Montgomery\, Minn. Calvary and St. Luke’s will be collaborating on this mission again this year. We need your help to make it a success like it has been in the past! This is a fun way to spend a Sunday afternoon! \nPlease see the flyer below for all the information you will need. Even more information is listed in the Sign-Up Genius here. Please sign up to donate; it helps us keep track of what we are bringing.  \nIf you have any questions\, please contact Colleen Spillers at (507) 421-6946. Thank you for supporting Episcopal Mission and Outreach efforts!
URL:https://www.calvary-rochester.org/event/san-jose-obrero-mission-day/
LOCATION:San Jose Obrero Mission\, Montgomery\, MN\, United States
CATEGORIES:Home,Outreach
ORGANIZER;CN="Calvary Episcopal Church":MAILTO:office@calvary-rochester.org
END:VEVENT
BEGIN:VEVENT
DTSTART;TZID=America/Chicago:20240904T190000
DTEND;TZID=America/Chicago:20240904T200000
DTSTAMP:20260424T183301
CREATED:20240830T183239Z
LAST-MODIFIED:20240830T185126Z
UID:10002364-1725476400-1725480000@www.calvary-rochester.org
SUMMARY:Motet Choir Rehearsal
DESCRIPTION:🎶 Join the Calvary Motet Choir! 🎶\nCalling all singers: the Calvary Motet Choir is excited to welcome you! This is your chance to be part of an incredible community of music lovers. We’re open to both adults and enthusiastic students eager to lift their voices. \nRehearsals kick off every Wednesday at 7:00 pm\, so don’t miss out! Come share your love for music and enrich our choir. \nInterested? Reach out to our interim Music Director\, Jeff Daehn\, to learn more. You can call the church office at (507) 282-9429.
URL:https://www.calvary-rochester.org/event/motet-choir-rehearsal-3/2024-09-04/
LOCATION:Calvary Episcopal Church\, 111 Third Avenue SW\, Rochester\, MN\, 55902
CATEGORIES:Home,Music
ATTACH;FMTTYPE=image/png:https://www.calvary-rochester.org/wp-content/uploads/2024/08/Motet-Rehearsal-FB.png
GEO:40.602991;-73.959517
X-APPLE-STRUCTURED-LOCATION;VALUE=URI;X-ADDRESS=Calvary Episcopal Church 111 Third Avenue SW Rochester MN 55902;X-APPLE-RADIUS=500;X-TITLE=111 Third Avenue SW:geo:-73.959517,40.602991
END:VEVENT
BEGIN:VEVENT
DTSTART;TZID=America/Chicago:20240905T171500
DTEND;TZID=America/Chicago:20240905T180000
DTSTAMP:20260424T183301
CREATED:20240604T235816Z
LAST-MODIFIED:20240918T012721Z
UID:10002331-1725556500-1725559200@www.calvary-rochester.org
SUMMARY:Healing Service
DESCRIPTION:Join us in the church each week for a lay-led service of quiet prayer focused on healing and hope. \nAll are welcome!
URL:https://www.calvary-rochester.org/event/healing-service/2024-09-05/
LOCATION:Calvary Episcopal Church\, 111 Third Avenue SW\, Rochester\, MN\, 55902
CATEGORIES:Home,Worship
ATTACH;FMTTYPE=image/png:https://www.calvary-rochester.org/wp-content/uploads/2024/06/Thursday-Healing-FB.png
ORGANIZER;CN="Calvary Episcopal Church":MAILTO:office@calvary-rochester.org
GEO:40.602991;-73.959517
X-APPLE-STRUCTURED-LOCATION;VALUE=URI;X-ADDRESS=Calvary Episcopal Church 111 Third Avenue SW Rochester MN 55902;X-APPLE-RADIUS=500;X-TITLE=111 Third Avenue SW:geo:-73.959517,40.602991
END:VEVENT
BEGIN:VEVENT
DTSTART;TZID=America/Chicago:20240908T083000
DTEND;TZID=America/Chicago:20240908T091500
DTSTAMP:20260424T183301
CREATED:20240617T223743Z
LAST-MODIFIED:20240903T221435Z
UID:10001743-1725784200-1725786900@www.calvary-rochester.org
SUMMARY:Sunday Worship: Holy Eucharist\, Rite I
DESCRIPTION:This is one of two services each Sunday: at 8:30 am\, Calvary offers a Rite I service of Holy Eucharist. Rite I uses traditional language and is quiet and contemplative. \nThe nursery\, staffed by two adults each Sunday who are vaccinated\, boosted\, and Safeguarding God’s Children trained\, will be available 8:30 am – 11:15 am.
URL:https://www.calvary-rochester.org/event/sunday-worship-holy-eucharist-rite-i-3-2-2-2/2024-09-08/
LOCATION:Calvary Episcopal Church\, 111 Third Avenue SW\, Rochester\, MN\, 55902
CATEGORIES:Home,Worship
ATTACH;FMTTYPE=image/png:https://www.calvary-rochester.org/wp-content/uploads/2022/11/HE-Rite-I-FB.png
ORGANIZER;CN="Calvary Episcopal Church":MAILTO:office@calvary-rochester.org
GEO:40.602991;-73.959517
X-APPLE-STRUCTURED-LOCATION;VALUE=URI;X-ADDRESS=Calvary Episcopal Church 111 Third Avenue SW Rochester MN 55902;X-APPLE-RADIUS=500;X-TITLE=111 Third Avenue SW:geo:-73.959517,40.602991
END:VEVENT
BEGIN:VEVENT
DTSTART;TZID=America/Chicago:20240908T091500
DTEND;TZID=America/Chicago:20240908T101500
DTSTAMP:20260424T183301
CREATED:20240830T175252Z
LAST-MODIFIED:20240830T175634Z
UID:10002363-1725786900-1725790500@www.calvary-rochester.org
SUMMARY:Formation (Sunday School) Registration
DESCRIPTION:Have you noticed that life as a kid/teen (and a parent) can be tough sometimes? Want something more for your family? Well\, look no further than Calvary Formation!\n\nWith fun activities\, a loving and safe community that builds self-esteem\, resilience\, spiritual health\, and an opportunity for learning and character development\, this is the place for your kid/teen! For more information and to register your kids/teens for the 2024-2025 formation year\, arrive at church between 9:15 am and 10:15 am on Sunday\, September 8\, 2024.\n\nThere will be a cereal bar for the kids/teens (because why not try a whole bunch of different cereals at the same time?!)\, a name badge creation corner\, and fun activities. We will look forward to seeing you there!\n\nSincerely\,\nMichelle McKean
URL:https://www.calvary-rochester.org/event/formation-sunday-school-registration/
LOCATION:Calvary Episcopal Church\, 111 Third Avenue SW\, Rochester\, MN\, 55902
CATEGORIES:Formation,Home
ATTACH;FMTTYPE=image/png:https://www.calvary-rochester.org/wp-content/uploads/2024/08/SSR-FB.png
ORGANIZER;CN="Faith Formation":MAILTO:formation@calvary-rochester.org
GEO:40.602991;-73.959517
X-APPLE-STRUCTURED-LOCATION;VALUE=URI;X-ADDRESS=Calvary Episcopal Church 111 Third Avenue SW Rochester MN 55902;X-APPLE-RADIUS=500;X-TITLE=111 Third Avenue SW:geo:-73.959517,40.602991
END:VEVENT
BEGIN:VEVENT
DTSTART;TZID=America/Chicago:20240908T103000
DTEND;TZID=America/Chicago:20240908T113000
DTSTAMP:20260424T183301
CREATED:20240117T011225Z
LAST-MODIFIED:20240117T011225Z
UID:10001792-1725791400-1725795000@www.calvary-rochester.org
SUMMARY:Sunday Worship: Holy Eucharist\, Rite II
DESCRIPTION:This is one of two services each Sunday: at 10:30 am\, Calvary offers a Rite II service of Holy Eucharist. Rite II uses more contemporary language and includes congregational and choral singing. The Motet Choir will lead our music. \nThe nursery\, staffed by two adults each Sunday who are vaccinated\, boosted\, and Safeguarding God’s Children trained\, will be available 8:30 am – 11:15 am.
URL:https://www.calvary-rochester.org/event/sunday-worship-holy-eucharist-rite-ii-5-4-2/2024-09-08/
LOCATION:Calvary Episcopal Church\, 111 Third Avenue SW\, Rochester\, MN\, 55902
CATEGORIES:Home,Worship
ATTACH;FMTTYPE=image/png:https://www.calvary-rochester.org/wp-content/uploads/2022/11/HE-Rite-II-FB.png
ORGANIZER;CN="Calvary Episcopal Church":MAILTO:office@calvary-rochester.org
GEO:40.602991;-73.959517
X-APPLE-STRUCTURED-LOCATION;VALUE=URI;X-ADDRESS=Calvary Episcopal Church 111 Third Avenue SW Rochester MN 55902;X-APPLE-RADIUS=500;X-TITLE=111 Third Avenue SW:geo:-73.959517,40.602991
END:VEVENT
BEGIN:VEVENT
DTSTART;TZID=America/Chicago:20240909T171500
DTEND;TZID=America/Chicago:20240909T180000
DTSTAMP:20260424T183301
CREATED:20230319T211744Z
LAST-MODIFIED:20240918T012641Z
UID:10001855-1725902100-1725904800@www.calvary-rochester.org
SUMMARY:Healing Service
DESCRIPTION:Join us in the church each week for our healing service\, featuring prayers\, Holy Eucharist\, and anointing for healing. \nAll are welcome!
URL:https://www.calvary-rochester.org/event/healing-service-4-2/2024-09-09/
LOCATION:Calvary Episcopal Church\, 111 Third Avenue SW\, Rochester\, MN\, 55902
CATEGORIES:Home,Worship
ATTACH;FMTTYPE=image/png:https://www.calvary-rochester.org/wp-content/uploads/2022/08/Healing-Service-FB-1.png
ORGANIZER;CN="Calvary Episcopal Church":MAILTO:office@calvary-rochester.org
GEO:40.602991;-73.959517
X-APPLE-STRUCTURED-LOCATION;VALUE=URI;X-ADDRESS=Calvary Episcopal Church 111 Third Avenue SW Rochester MN 55902;X-APPLE-RADIUS=500;X-TITLE=111 Third Avenue SW:geo:-73.959517,40.602991
END:VEVENT
BEGIN:VEVENT
DTSTART;TZID=America/Chicago:20240911T190000
DTEND;TZID=America/Chicago:20240911T200000
DTSTAMP:20260424T183301
CREATED:20240830T183239Z
LAST-MODIFIED:20240830T185126Z
UID:10002365-1726081200-1726084800@www.calvary-rochester.org
SUMMARY:Motet Choir Rehearsal
DESCRIPTION:🎶 Join the Calvary Motet Choir! 🎶\nCalling all singers: the Calvary Motet Choir is excited to welcome you! This is your chance to be part of an incredible community of music lovers. We’re open to both adults and enthusiastic students eager to lift their voices. \nRehearsals kick off every Wednesday at 7:00 pm\, so don’t miss out! Come share your love for music and enrich our choir. \nInterested? Reach out to our interim Music Director\, Jeff Daehn\, to learn more. You can call the church office at (507) 282-9429.
URL:https://www.calvary-rochester.org/event/motet-choir-rehearsal-3/2024-09-11/
LOCATION:Calvary Episcopal Church\, 111 Third Avenue SW\, Rochester\, MN\, 55902
CATEGORIES:Home,Music
ATTACH;FMTTYPE=image/png:https://www.calvary-rochester.org/wp-content/uploads/2024/08/Motet-Rehearsal-FB.png
GEO:40.602991;-73.959517
X-APPLE-STRUCTURED-LOCATION;VALUE=URI;X-ADDRESS=Calvary Episcopal Church 111 Third Avenue SW Rochester MN 55902;X-APPLE-RADIUS=500;X-TITLE=111 Third Avenue SW:geo:-73.959517,40.602991
END:VEVENT
BEGIN:VEVENT
DTSTART;TZID=America/Chicago:20240912T171500
DTEND;TZID=America/Chicago:20240912T180000
DTSTAMP:20260424T183301
CREATED:20240604T235816Z
LAST-MODIFIED:20240918T012721Z
UID:10002332-1726161300-1726164000@www.calvary-rochester.org
SUMMARY:Healing Service
DESCRIPTION:Join us in the church each week for a lay-led service of quiet prayer focused on healing and hope. \nAll are welcome!
URL:https://www.calvary-rochester.org/event/healing-service/2024-09-12/
LOCATION:Calvary Episcopal Church\, 111 Third Avenue SW\, Rochester\, MN\, 55902
CATEGORIES:Home,Worship
ATTACH;FMTTYPE=image/png:https://www.calvary-rochester.org/wp-content/uploads/2024/06/Thursday-Healing-FB.png
ORGANIZER;CN="Calvary Episcopal Church":MAILTO:office@calvary-rochester.org
GEO:40.602991;-73.959517
X-APPLE-STRUCTURED-LOCATION;VALUE=URI;X-ADDRESS=Calvary Episcopal Church 111 Third Avenue SW Rochester MN 55902;X-APPLE-RADIUS=500;X-TITLE=111 Third Avenue SW:geo:-73.959517,40.602991
END:VEVENT
BEGIN:VEVENT
DTSTART;TZID=America/Chicago:20240915T103000
DTEND;TZID=America/Chicago:20240915T113000
DTSTAMP:20260424T183301
CREATED:20240117T011225Z
LAST-MODIFIED:20240117T011225Z
UID:10001793-1726396200-1726399800@www.calvary-rochester.org
SUMMARY:Sunday Worship: Holy Eucharist\, Rite II
DESCRIPTION:This is one of two services each Sunday: at 10:30 am\, Calvary offers a Rite II service of Holy Eucharist. Rite II uses more contemporary language and includes congregational and choral singing. The Motet Choir will lead our music. \nThe nursery\, staffed by two adults each Sunday who are vaccinated\, boosted\, and Safeguarding God’s Children trained\, will be available 8:30 am – 11:15 am.
URL:https://www.calvary-rochester.org/event/sunday-worship-holy-eucharist-rite-ii-5-4-2/2024-09-15/
LOCATION:Calvary Episcopal Church\, 111 Third Avenue SW\, Rochester\, MN\, 55902
CATEGORIES:Home,Worship
ATTACH;FMTTYPE=image/png:https://www.calvary-rochester.org/wp-content/uploads/2022/11/HE-Rite-II-FB.png
ORGANIZER;CN="Calvary Episcopal Church":MAILTO:office@calvary-rochester.org
GEO:40.602991;-73.959517
X-APPLE-STRUCTURED-LOCATION;VALUE=URI;X-ADDRESS=Calvary Episcopal Church 111 Third Avenue SW Rochester MN 55902;X-APPLE-RADIUS=500;X-TITLE=111 Third Avenue SW:geo:-73.959517,40.602991
END:VEVENT
BEGIN:VEVENT
DTSTART;TZID=America/Chicago:20240915T114500
DTEND;TZID=America/Chicago:20240915T130000
DTSTAMP:20260424T183301
CREATED:20240814T125303Z
LAST-MODIFIED:20240814T125303Z
UID:10002362-1726400700-1726405200@www.calvary-rochester.org
SUMMARY:All-Parish Picnic
DESCRIPTION:It’s that time of year again! Musician Bob Schlief will be back to entertain us\, and we have a new caterer. HyVee Barlows will be providing boxed lunches with ham\, turkey\, and veggie sandwiches\, potato salad\, chips\, and an apple. If you choose the gluten-free option\, your sandwich will be on gluten-free bread. AND\, we will have homemade pie for dessert! There will be a wooden box out for free-will donations to help defray the cost. Please use this link to sign up online. You can also sign up on the sheet in Brackenridge\, or you can call\, text\, or email Cindy Heins at (507) 993-5824 or heins.cynthia@gmail.com. We will be in the courtyard (inside if it is raining) following the 10:30 service. Please bring a lawn chair for yourself and one to share if you can! \n**THE LAST DAY TO SIGN UP IS FRIDAY\, SEPTEMBER 6.** \nAnd announcing: \nIn conjunction with the picnic… \nThe Third Annual Great Calvary Pie Bake-Off \nCome one\, come all to the third annual Great Calvary Pie Bake-Off on September 15! All homemade pies baked by Calvary parishioners are welcome. The Greatest 2024 Pie Baker at Calvary will be crowned in the courtyard following the picnic! Then\, we will all be able to sample the delicious fruits of our pie bakers’ labors.  To enter\, just have your pie at Calvary by 10 am the day of the picnic with your name on the bottom of your pie plate. We are going to judge the pies starting at 10 am to give our panel of celebrity judges time to finish before the 10:30 service\, so please don’t be late. The rules are simple. Your pie must be homemade by you. There is no age limit for our bakers! We welcome all pies! Let the baking begin!
URL:https://www.calvary-rochester.org/event/all-parish-picnic-2/
LOCATION:Calvary Episcopal Church\, 111 Third Avenue SW\, Rochester\, MN\, 55902
CATEGORIES:Fellowship,Food,Home
ATTACH;FMTTYPE=image/png:https://www.calvary-rochester.org/wp-content/uploads/2024/08/Parish-Picnic-FB.png
ORGANIZER;CN="Calvary Episcopal Church":MAILTO:office@calvary-rochester.org
GEO:40.602991;-73.959517
X-APPLE-STRUCTURED-LOCATION;VALUE=URI;X-ADDRESS=Calvary Episcopal Church 111 Third Avenue SW Rochester MN 55902;X-APPLE-RADIUS=500;X-TITLE=111 Third Avenue SW:geo:-73.959517,40.602991
END:VEVENT
BEGIN:VEVENT
DTSTART;TZID=America/Chicago:20240916T171500
DTEND;TZID=America/Chicago:20240916T180000
DTSTAMP:20260424T183301
CREATED:20230319T211744Z
LAST-MODIFIED:20240918T012641Z
UID:10001856-1726506900-1726509600@www.calvary-rochester.org
SUMMARY:Healing Service
DESCRIPTION:Join us in the church each week for our healing service\, featuring prayers\, Holy Eucharist\, and anointing for healing. \nAll are welcome!
URL:https://www.calvary-rochester.org/event/healing-service-4-2/2024-09-16/
LOCATION:Calvary Episcopal Church\, 111 Third Avenue SW\, Rochester\, MN\, 55902
CATEGORIES:Home,Worship
ATTACH;FMTTYPE=image/png:https://www.calvary-rochester.org/wp-content/uploads/2022/08/Healing-Service-FB-1.png
ORGANIZER;CN="Calvary Episcopal Church":MAILTO:office@calvary-rochester.org
GEO:40.602991;-73.959517
X-APPLE-STRUCTURED-LOCATION;VALUE=URI;X-ADDRESS=Calvary Episcopal Church 111 Third Avenue SW Rochester MN 55902;X-APPLE-RADIUS=500;X-TITLE=111 Third Avenue SW:geo:-73.959517,40.602991
END:VEVENT
BEGIN:VEVENT
DTSTART;TZID=America/Chicago:20240918T190000
DTEND;TZID=America/Chicago:20240918T200000
DTSTAMP:20260424T183301
CREATED:20240830T183239Z
LAST-MODIFIED:20240830T185126Z
UID:10002366-1726686000-1726689600@www.calvary-rochester.org
SUMMARY:Motet Choir Rehearsal
DESCRIPTION:🎶 Join the Calvary Motet Choir! 🎶\nCalling all singers: the Calvary Motet Choir is excited to welcome you! This is your chance to be part of an incredible community of music lovers. We’re open to both adults and enthusiastic students eager to lift their voices. \nRehearsals kick off every Wednesday at 7:00 pm\, so don’t miss out! Come share your love for music and enrich our choir. \nInterested? Reach out to our interim Music Director\, Jeff Daehn\, to learn more. You can call the church office at (507) 282-9429.
URL:https://www.calvary-rochester.org/event/motet-choir-rehearsal-3/2024-09-18/
LOCATION:Calvary Episcopal Church\, 111 Third Avenue SW\, Rochester\, MN\, 55902
CATEGORIES:Home,Music
ATTACH;FMTTYPE=image/png:https://www.calvary-rochester.org/wp-content/uploads/2024/08/Motet-Rehearsal-FB.png
GEO:40.602991;-73.959517
X-APPLE-STRUCTURED-LOCATION;VALUE=URI;X-ADDRESS=Calvary Episcopal Church 111 Third Avenue SW Rochester MN 55902;X-APPLE-RADIUS=500;X-TITLE=111 Third Avenue SW:geo:-73.959517,40.602991
END:VEVENT
BEGIN:VEVENT
DTSTART;TZID=America/Chicago:20240919T171500
DTEND;TZID=America/Chicago:20240919T180000
DTSTAMP:20260424T183301
CREATED:20240604T235816Z
LAST-MODIFIED:20240918T012721Z
UID:10002333-1726766100-1726768800@www.calvary-rochester.org
SUMMARY:Healing Service
DESCRIPTION:Join us in the church each week for a lay-led service of quiet prayer focused on healing and hope. \nAll are welcome!
URL:https://www.calvary-rochester.org/event/healing-service/2024-09-19/
LOCATION:Calvary Episcopal Church\, 111 Third Avenue SW\, Rochester\, MN\, 55902
CATEGORIES:Home,Worship
ATTACH;FMTTYPE=image/png:https://www.calvary-rochester.org/wp-content/uploads/2024/06/Thursday-Healing-FB.png
ORGANIZER;CN="Calvary Episcopal Church":MAILTO:office@calvary-rochester.org
GEO:40.602991;-73.959517
X-APPLE-STRUCTURED-LOCATION;VALUE=URI;X-ADDRESS=Calvary Episcopal Church 111 Third Avenue SW Rochester MN 55902;X-APPLE-RADIUS=500;X-TITLE=111 Third Avenue SW:geo:-73.959517,40.602991
END:VEVENT
BEGIN:VEVENT
DTSTART;TZID=America/Chicago:20240922T083000
DTEND;TZID=America/Chicago:20240922T091500
DTSTAMP:20260424T183301
CREATED:20240903T221531Z
LAST-MODIFIED:20240903T221659Z
UID:10001745-1726993800-1726996500@www.calvary-rochester.org
SUMMARY:Sunday Worship: Holy Eucharist\, Rite I
DESCRIPTION:This is one of two services each Sunday: at 8:30 am\, Calvary offers a Rite I service of Holy Eucharist. Rite I uses traditional language and is quiet and contemplative. \nThe nursery\, staffed by two adults each Sunday who are vaccinated\, boosted\, and Safeguarding God’s Children trained\, will be available 8:30 am – 11:15 am.
URL:https://www.calvary-rochester.org/event/sunday-worship-holy-eucharist-rite-i-3-2-2-2-2/2024-09-22/
LOCATION:Calvary Episcopal Church\, 111 Third Avenue SW\, Rochester\, MN\, 55902
CATEGORIES:Home,Worship
ATTACH;FMTTYPE=image/png:https://www.calvary-rochester.org/wp-content/uploads/2022/11/HE-Rite-I-FB.png
ORGANIZER;CN="Calvary Episcopal Church":MAILTO:office@calvary-rochester.org
GEO:40.602991;-73.959517
X-APPLE-STRUCTURED-LOCATION;VALUE=URI;X-ADDRESS=Calvary Episcopal Church 111 Third Avenue SW Rochester MN 55902;X-APPLE-RADIUS=500;X-TITLE=111 Third Avenue SW:geo:-73.959517,40.602991
END:VEVENT
BEGIN:VEVENT
DTSTART;TZID=America/Chicago:20240922T103000
DTEND;TZID=America/Chicago:20240922T113000
DTSTAMP:20260424T183301
CREATED:20240117T011225Z
LAST-MODIFIED:20240117T011225Z
UID:10001794-1727001000-1727004600@www.calvary-rochester.org
SUMMARY:Sunday Worship: Holy Eucharist\, Rite II
DESCRIPTION:This is one of two services each Sunday: at 10:30 am\, Calvary offers a Rite II service of Holy Eucharist. Rite II uses more contemporary language and includes congregational and choral singing. The Motet Choir will lead our music. \nThe nursery\, staffed by two adults each Sunday who are vaccinated\, boosted\, and Safeguarding God’s Children trained\, will be available 8:30 am – 11:15 am.
URL:https://www.calvary-rochester.org/event/sunday-worship-holy-eucharist-rite-ii-5-4-2/2024-09-22/
LOCATION:Calvary Episcopal Church\, 111 Third Avenue SW\, Rochester\, MN\, 55902
CATEGORIES:Home,Worship
ATTACH;FMTTYPE=image/png:https://www.calvary-rochester.org/wp-content/uploads/2022/11/HE-Rite-II-FB.png
ORGANIZER;CN="Calvary Episcopal Church":MAILTO:office@calvary-rochester.org
GEO:40.602991;-73.959517
X-APPLE-STRUCTURED-LOCATION;VALUE=URI;X-ADDRESS=Calvary Episcopal Church 111 Third Avenue SW Rochester MN 55902;X-APPLE-RADIUS=500;X-TITLE=111 Third Avenue SW:geo:-73.959517,40.602991
END:VEVENT
BEGIN:VEVENT
DTSTART;TZID=America/Chicago:20240925T190000
DTEND;TZID=America/Chicago:20240925T200000
DTSTAMP:20260424T183301
CREATED:20240830T183239Z
LAST-MODIFIED:20240830T185126Z
UID:10002367-1727290800-1727294400@www.calvary-rochester.org
SUMMARY:Motet Choir Rehearsal
DESCRIPTION:🎶 Join the Calvary Motet Choir! 🎶\nCalling all singers: the Calvary Motet Choir is excited to welcome you! This is your chance to be part of an incredible community of music lovers. We’re open to both adults and enthusiastic students eager to lift their voices. \nRehearsals kick off every Wednesday at 7:00 pm\, so don’t miss out! Come share your love for music and enrich our choir. \nInterested? Reach out to our interim Music Director\, Jeff Daehn\, to learn more. You can call the church office at (507) 282-9429.
URL:https://www.calvary-rochester.org/event/motet-choir-rehearsal-3/2024-09-25/
LOCATION:Calvary Episcopal Church\, 111 Third Avenue SW\, Rochester\, MN\, 55902
CATEGORIES:Home,Music
ATTACH;FMTTYPE=image/png:https://www.calvary-rochester.org/wp-content/uploads/2024/08/Motet-Rehearsal-FB.png
GEO:40.602991;-73.959517
X-APPLE-STRUCTURED-LOCATION;VALUE=URI;X-ADDRESS=Calvary Episcopal Church 111 Third Avenue SW Rochester MN 55902;X-APPLE-RADIUS=500;X-TITLE=111 Third Avenue SW:geo:-73.959517,40.602991
END:VEVENT
BEGIN:VEVENT
DTSTART;TZID=America/Chicago:20240929T083000
DTEND;TZID=America/Chicago:20240929T091500
DTSTAMP:20260424T183301
CREATED:20240903T221531Z
LAST-MODIFIED:20240903T221659Z
UID:10001746-1727598600-1727601300@www.calvary-rochester.org
SUMMARY:Sunday Worship: Holy Eucharist\, Rite I
DESCRIPTION:This is one of two services each Sunday: at 8:30 am\, Calvary offers a Rite I service of Holy Eucharist. Rite I uses traditional language and is quiet and contemplative. \nThe nursery\, staffed by two adults each Sunday who are vaccinated\, boosted\, and Safeguarding God’s Children trained\, will be available 8:30 am – 11:15 am.
URL:https://www.calvary-rochester.org/event/sunday-worship-holy-eucharist-rite-i-3-2-2-2-2/2024-09-29/
LOCATION:Calvary Episcopal Church\, 111 Third Avenue SW\, Rochester\, MN\, 55902
CATEGORIES:Home,Worship
ATTACH;FMTTYPE=image/png:https://www.calvary-rochester.org/wp-content/uploads/2022/11/HE-Rite-I-FB.png
ORGANIZER;CN="Calvary Episcopal Church":MAILTO:office@calvary-rochester.org
GEO:40.602991;-73.959517
X-APPLE-STRUCTURED-LOCATION;VALUE=URI;X-ADDRESS=Calvary Episcopal Church 111 Third Avenue SW Rochester MN 55902;X-APPLE-RADIUS=500;X-TITLE=111 Third Avenue SW:geo:-73.959517,40.602991
END:VEVENT
BEGIN:VEVENT
DTSTART;TZID=America/Chicago:20240929T093000
DTEND;TZID=America/Chicago:20240929T101500
DTSTAMP:20260424T183301
CREATED:20240922T200646Z
LAST-MODIFIED:20240922T200647Z
UID:10002435-1727602200-1727604900@www.calvary-rochester.org
SUMMARY:Informed Voter Forum
DESCRIPTION:Learn about voter registration\, early voting\, finding your polling place and how to print a sample ballot. We will print sample ballots as we have time! \n9:30 – 10:15 am in Crawford Hall
URL:https://www.calvary-rochester.org/event/informed-voter-forum/
LOCATION:Calvary Episcopal Church\, 111 Third Avenue SW\, Rochester\, MN\, 55902
CATEGORIES:Home,Outreach
ATTACH;FMTTYPE=image/png:https://www.calvary-rochester.org/wp-content/uploads/2024/09/Informed-Voter-Forum-FB.png
ORGANIZER;CN="Calvary Episcopal Church":MAILTO:office@calvary-rochester.org
GEO:40.602991;-73.959517
X-APPLE-STRUCTURED-LOCATION;VALUE=URI;X-ADDRESS=Calvary Episcopal Church 111 Third Avenue SW Rochester MN 55902;X-APPLE-RADIUS=500;X-TITLE=111 Third Avenue SW:geo:-73.959517,40.602991
END:VEVENT
BEGIN:VEVENT
DTSTART;TZID=America/Chicago:20240929T103000
DTEND;TZID=America/Chicago:20240929T113000
DTSTAMP:20260424T183301
CREATED:20240117T011225Z
LAST-MODIFIED:20240117T011225Z
UID:10001795-1727605800-1727609400@www.calvary-rochester.org
SUMMARY:Sunday Worship: Holy Eucharist\, Rite II
DESCRIPTION:This is one of two services each Sunday: at 10:30 am\, Calvary offers a Rite II service of Holy Eucharist. Rite II uses more contemporary language and includes congregational and choral singing. The Motet Choir will lead our music. \nThe nursery\, staffed by two adults each Sunday who are vaccinated\, boosted\, and Safeguarding God’s Children trained\, will be available 8:30 am – 11:15 am.
URL:https://www.calvary-rochester.org/event/sunday-worship-holy-eucharist-rite-ii-5-4-2/2024-09-29/
LOCATION:Calvary Episcopal Church\, 111 Third Avenue SW\, Rochester\, MN\, 55902
CATEGORIES:Home,Worship
ATTACH;FMTTYPE=image/png:https://www.calvary-rochester.org/wp-content/uploads/2022/11/HE-Rite-II-FB.png
ORGANIZER;CN="Calvary Episcopal Church":MAILTO:office@calvary-rochester.org
GEO:40.602991;-73.959517
X-APPLE-STRUCTURED-LOCATION;VALUE=URI;X-ADDRESS=Calvary Episcopal Church 111 Third Avenue SW Rochester MN 55902;X-APPLE-RADIUS=500;X-TITLE=111 Third Avenue SW:geo:-73.959517,40.602991
END:VEVENT
END:VCALENDAR