BEGIN:VCALENDAR
VERSION:2.0
PRODID:-//Calvary Episcopal Church - ECPv6.15.20//NONSGML v1.0//EN
CALSCALE:GREGORIAN
METHOD:PUBLISH
X-ORIGINAL-URL:https://www.calvary-rochester.org
X-WR-CALDESC:Events for Calvary Episcopal Church
REFRESH-INTERVAL;VALUE=DURATION:PT1H
X-Robots-Tag:noindex
X-PUBLISHED-TTL:PT1H
BEGIN:VTIMEZONE
TZID:America/Chicago
BEGIN:DAYLIGHT
TZOFFSETFROM:-0600
TZOFFSETTO:-0500
TZNAME:CDT
DTSTART:20240310T080000
END:DAYLIGHT
BEGIN:STANDARD
TZOFFSETFROM:-0500
TZOFFSETTO:-0600
TZNAME:CST
DTSTART:20241103T070000
END:STANDARD
BEGIN:DAYLIGHT
TZOFFSETFROM:-0600
TZOFFSETTO:-0500
TZNAME:CDT
DTSTART:20250309T080000
END:DAYLIGHT
BEGIN:STANDARD
TZOFFSETFROM:-0500
TZOFFSETTO:-0600
TZNAME:CST
DTSTART:20251102T070000
END:STANDARD
BEGIN:DAYLIGHT
TZOFFSETFROM:-0600
TZOFFSETTO:-0500
TZNAME:CDT
DTSTART:20260308T080000
END:DAYLIGHT
BEGIN:STANDARD
TZOFFSETFROM:-0500
TZOFFSETTO:-0600
TZNAME:CST
DTSTART:20261101T070000
END:STANDARD
END:VTIMEZONE
BEGIN:VEVENT
DTSTART;TZID=America/Chicago:20250703T171500
DTEND;TZID=America/Chicago:20250703T180000
DTSTAMP:20260424T002218
CREATED:20241223T173529Z
LAST-MODIFIED:20241223T173529Z
UID:10002690-1751562900-1751565600@www.calvary-rochester.org
SUMMARY:Healing Service
DESCRIPTION:Join us in the church each week for a lay-led service of quiet prayer focused on healing and hope. \nAll are welcome!
URL:https://www.calvary-rochester.org/event/healing-service-6/2025-07-03/
LOCATION:Calvary Episcopal Church\, 111 Third Avenue SW\, Rochester\, MN\, 55902
CATEGORIES:Home,Worship
ATTACH;FMTTYPE=image/png:https://www.calvary-rochester.org/wp-content/uploads/2024/06/Thursday-Healing-FB.png
ORGANIZER;CN="Calvary Episcopal Church":MAILTO:office@calvary-rochester.org
GEO:40.602991;-73.959517
X-APPLE-STRUCTURED-LOCATION;VALUE=URI;X-ADDRESS=Calvary Episcopal Church 111 Third Avenue SW Rochester MN 55902;X-APPLE-RADIUS=500;X-TITLE=111 Third Avenue SW:geo:-73.959517,40.602991
END:VEVENT
BEGIN:VEVENT
DTSTART;TZID=America/Chicago:20250706T083000
DTEND;TZID=America/Chicago:20250706T091500
DTSTAMP:20260424T002218
CREATED:20241223T170455Z
LAST-MODIFIED:20260224T174611Z
UID:10002550-1751790600-1751793300@www.calvary-rochester.org
SUMMARY:Sunday Worship: A Service of Morning Prayer
DESCRIPTION:This is one of two services each Sunday: at 8:30 am\, on the first and third Sundays of every month\, Calvary offers A Service of Morning Prayer. This beautiful\, ancient service consists of prayers\, canticles\, and scripture readings and is the traditional way of greeting the day in our Episcopal tradition. It is about 30 minutes long\, and readers will be invited out of the gathered congregation by the lay leaders. \nThe nursery\, staffed by two adults each Sunday who are Safeguarding God’s Children trained\, will be available 8:30 am – 11:15 am.
URL:https://www.calvary-rochester.org/event/sunday-worship-a-service-of-morning-prayer-3/2025-07-06/
LOCATION:Calvary Episcopal Church\, 111 Third Avenue SW\, Rochester\, MN\, 55902
CATEGORIES:Home,Worship
ATTACH;FMTTYPE=image/png:https://www.calvary-rochester.org/wp-content/uploads/2022/11/ASoMP-FB.png
ORGANIZER;CN="Calvary Episcopal Church":MAILTO:office@calvary-rochester.org
GEO:40.602991;-73.959517
X-APPLE-STRUCTURED-LOCATION;VALUE=URI;X-ADDRESS=Calvary Episcopal Church 111 Third Avenue SW Rochester MN 55902;X-APPLE-RADIUS=500;X-TITLE=111 Third Avenue SW:geo:-73.959517,40.602991
END:VEVENT
BEGIN:VEVENT
DTSTART;TZID=America/Chicago:20250706T103000
DTEND;TZID=America/Chicago:20250706T113000
DTSTAMP:20260424T002218
CREATED:20241223T165510Z
LAST-MODIFIED:20260224T173824Z
UID:10002511-1751797800-1751801400@www.calvary-rochester.org
SUMMARY:Sunday Worship: Holy Eucharist\, Rite II
DESCRIPTION:This is one of two services each Sunday: at 10:30 am\, Calvary offers a Rite II service of Holy Eucharist. Rite II uses more contemporary language and includes congregational and choral singing. The Motet Choir will lead our music. \nThe nursery\, staffed by two adults each Sunday who are Safeguarding God’s Children trained\, will be available 8:30 am – 11:15 am.
URL:https://www.calvary-rochester.org/event/sunday-worship-holy-eucharist-rite-ii-6/2025-07-06/
LOCATION:Calvary Episcopal Church\, 111 Third Avenue SW\, Rochester\, MN\, 55902
CATEGORIES:Home,Worship
ATTACH;FMTTYPE=image/png:https://www.calvary-rochester.org/wp-content/uploads/2022/11/HE-Rite-II-FB.png
ORGANIZER;CN="Calvary Episcopal Church":MAILTO:office@calvary-rochester.org
GEO:40.602991;-73.959517
X-APPLE-STRUCTURED-LOCATION;VALUE=URI;X-ADDRESS=Calvary Episcopal Church 111 Third Avenue SW Rochester MN 55902;X-APPLE-RADIUS=500;X-TITLE=111 Third Avenue SW:geo:-73.959517,40.602991
END:VEVENT
BEGIN:VEVENT
DTSTART;TZID=America/Chicago:20250707T171500
DTEND;TZID=America/Chicago:20250707T180000
DTSTAMP:20260424T002218
CREATED:20241223T170910Z
LAST-MODIFIED:20260224T143302Z
UID:10002589-1751908500-1751911200@www.calvary-rochester.org
SUMMARY:Healing Service
DESCRIPTION:Join us in the church each week for our healing service\, featuring prayers\, Holy Eucharist\, and anointing for healing. \nAll are welcome!
URL:https://www.calvary-rochester.org/event/healing-service-5/2025-07-07/
LOCATION:Calvary Episcopal Church\, 111 Third Avenue SW\, Rochester\, MN\, 55902
CATEGORIES:Home,Worship
ATTACH;FMTTYPE=image/png:https://www.calvary-rochester.org/wp-content/uploads/2022/08/Healing-Service-FB-1.png
ORGANIZER;CN="Calvary Episcopal Church":MAILTO:office@calvary-rochester.org
GEO:40.602991;-73.959517
X-APPLE-STRUCTURED-LOCATION;VALUE=URI;X-ADDRESS=Calvary Episcopal Church 111 Third Avenue SW Rochester MN 55902;X-APPLE-RADIUS=500;X-TITLE=111 Third Avenue SW:geo:-73.959517,40.602991
END:VEVENT
BEGIN:VEVENT
DTSTART;TZID=America/Chicago:20250710T171500
DTEND;TZID=America/Chicago:20250710T180000
DTSTAMP:20260424T002218
CREATED:20241223T173529Z
LAST-MODIFIED:20241223T173529Z
UID:10002691-1752167700-1752170400@www.calvary-rochester.org
SUMMARY:Healing Service
DESCRIPTION:Join us in the church each week for a lay-led service of quiet prayer focused on healing and hope. \nAll are welcome!
URL:https://www.calvary-rochester.org/event/healing-service-6/2025-07-10/
LOCATION:Calvary Episcopal Church\, 111 Third Avenue SW\, Rochester\, MN\, 55902
CATEGORIES:Home,Worship
ATTACH;FMTTYPE=image/png:https://www.calvary-rochester.org/wp-content/uploads/2024/06/Thursday-Healing-FB.png
ORGANIZER;CN="Calvary Episcopal Church":MAILTO:office@calvary-rochester.org
GEO:40.602991;-73.959517
X-APPLE-STRUCTURED-LOCATION;VALUE=URI;X-ADDRESS=Calvary Episcopal Church 111 Third Avenue SW Rochester MN 55902;X-APPLE-RADIUS=500;X-TITLE=111 Third Avenue SW:geo:-73.959517,40.602991
END:VEVENT
BEGIN:VEVENT
DTSTART;TZID=America/Chicago:20250711T163000
DTEND;TZID=America/Chicago:20250711T183000
DTSTAMP:20260424T002218
CREATED:20250623T145041Z
LAST-MODIFIED:20250623T145041Z
UID:10003134-1752251400-1752258600@www.calvary-rochester.org
SUMMARY:Red\, White\, and Blue Happy Hour
DESCRIPTION:Calvary’s Fellowship Committee is hosting a Red\, White\, and Blue Happy Hour on July 11 from 4:30 pm to 6:30 pm. Wear red\, white\, and blue or come as you are. All are welcome! \nWe will meet at Beetle’s Bar and Grill\, located two blocks west of Saint Marys Hospital on 2nd Street SW. This is a great opportunity to get to know your fellow parishioners in a casual setting. The committee will buy a drink for the first person to arrive and tell us what BIPGLUAWUTBH stands for. (A little more obscure than usual – paraphrased from a statement by a famous person and very apropos for Beetles.) \nThis will be very informal. Stay for as long as you can. Popcorn and water are free. You can purchase other food and drinks.
URL:https://www.calvary-rochester.org/event/red-white-and-blue-happy-hour-2/
LOCATION:Beetle’s Bar and Grill\, 230 20th Avenue SW\, Rochester\, Minnesota\, 55902\, United States
CATEGORIES:Fellowship,Food,Home
ATTACH;FMTTYPE=image/png:https://www.calvary-rochester.org/wp-content/uploads/2025/06/1.png
ORGANIZER;CN="Calvary Episcopal Church":MAILTO:office@calvary-rochester.org
END:VEVENT
BEGIN:VEVENT
DTSTART;TZID=America/Chicago:20250713T083000
DTEND;TZID=America/Chicago:20250713T093000
DTSTAMP:20260424T002218
CREATED:20241223T165119Z
LAST-MODIFIED:20260224T174412Z
UID:10002471-1752395400-1752399000@www.calvary-rochester.org
SUMMARY:Sunday Worship: Holy Eucharist\, Rite I
DESCRIPTION:This is one of two services each Sunday: at 8:30 am on most Sundays\, Calvary offers a Rite I service of Holy Eucharist. Rite I uses traditional language and is quiet and contemplative. \nThe nursery\, staffed by two adults each Sunday who are Safeguarding God’s Children trained\, will be available 8:30 am – 11:15 am.
URL:https://www.calvary-rochester.org/event/sunday-worship-holy-eucharist-rite-i-4/2025-07-13/
LOCATION:Calvary Episcopal Church\, 111 Third Avenue SW\, Rochester\, MN\, 55902
CATEGORIES:Home,Worship
ATTACH;FMTTYPE=image/png:https://www.calvary-rochester.org/wp-content/uploads/2022/11/HE-Rite-I-FB.png
ORGANIZER;CN="Calvary Episcopal Church":MAILTO:office@calvary-rochester.org
GEO:40.602991;-73.959517
X-APPLE-STRUCTURED-LOCATION;VALUE=URI;X-ADDRESS=Calvary Episcopal Church 111 Third Avenue SW Rochester MN 55902;X-APPLE-RADIUS=500;X-TITLE=111 Third Avenue SW:geo:-73.959517,40.602991
END:VEVENT
BEGIN:VEVENT
DTSTART;TZID=America/Chicago:20250713T093000
DTEND;TZID=America/Chicago:20250713T103000
DTSTAMP:20260424T002218
CREATED:20250616T232423Z
LAST-MODIFIED:20250616T232424Z
UID:10003133-1752399000-1752402600@www.calvary-rochester.org
SUMMARY:Worship at Christ Church\, Frontenac
DESCRIPTION:On Sunday\, July 13\, we will be experiencing some unusual downtown construction that will make things interesting!\n\nGetting to Calvary will present some challenges due to the construction. Please note that the Damon Ramp will be open and can be accessed by traveling south on 4th Avenue\, then turning left onto 1st Street\, followed by an immediate left onto 3rd Avenue\, and finally a left into the ramp. Please be aware that 3rd Avenue will be closed to the south of the ramp.\n\nWe will still be holding services at Calvary! Morning Prayer will be offered at both 8:30 am and 10:30 am\, thanks to our dedicated Morning Prayer leaders.\n\nAdditionally\, we have received a wonderful invitation to join the worship service at Christ Church in Old Frontenac\, the parish of the Rev. Paul Ehling. Christ Church\, located near Lake Pepin\, will be hosting Episcopal parishes from Red Wing\, Winona\, Lake City\, and Wabasha for their “All Churches Service” and has graciously extended this invitation to us as well. Many of you will remember Paul\, who was sponsored for ordination by Calvary and remains a cherished member of our community. Christ Church holds its summer worship services outdoors in their beautiful hillside amphitheater\, and the service will begin at 9:30 am. The drive to Old Frontenac is approximately one hour from Rochester.\n\nFollowing the service at Christ Church\, they will be hosting a potluck\, and  Calvary folks are invited to bring a dessert to share. Weather permitting\, Paul will also be leading a two-mile hike on the Prairie Trail at Frontenac State Park\, which is conveniently located near Christ Church. We hope you will consider these options for worship on July 13th.
URL:https://www.calvary-rochester.org/event/worship-at-christ-church-frontenac/
LOCATION:Christ Episcopal Church\, Old Frontenac\, 29036 Westervelt Ave Way W\, Frontenac\, MN\, 55026\, United States
CATEGORIES:Home,Worship
ATTACH;FMTTYPE=image/png:https://www.calvary-rochester.org/wp-content/uploads/2025/06/Frontenac.png
ORGANIZER;CN="Calvary Episcopal Church":MAILTO:office@calvary-rochester.org
END:VEVENT
BEGIN:VEVENT
DTSTART;TZID=America/Chicago:20250713T103000
DTEND;TZID=America/Chicago:20250713T113000
DTSTAMP:20260424T002218
CREATED:20241223T165510Z
LAST-MODIFIED:20260224T173824Z
UID:10002512-1752402600-1752406200@www.calvary-rochester.org
SUMMARY:Sunday Worship: Holy Eucharist\, Rite II
DESCRIPTION:This is one of two services each Sunday: at 10:30 am\, Calvary offers a Rite II service of Holy Eucharist. Rite II uses more contemporary language and includes congregational and choral singing. The Motet Choir will lead our music. \nThe nursery\, staffed by two adults each Sunday who are Safeguarding God’s Children trained\, will be available 8:30 am – 11:15 am.
URL:https://www.calvary-rochester.org/event/sunday-worship-holy-eucharist-rite-ii-6/2025-07-13/
LOCATION:Calvary Episcopal Church\, 111 Third Avenue SW\, Rochester\, MN\, 55902
CATEGORIES:Home,Worship
ATTACH;FMTTYPE=image/png:https://www.calvary-rochester.org/wp-content/uploads/2022/11/HE-Rite-II-FB.png
ORGANIZER;CN="Calvary Episcopal Church":MAILTO:office@calvary-rochester.org
GEO:40.602991;-73.959517
X-APPLE-STRUCTURED-LOCATION;VALUE=URI;X-ADDRESS=Calvary Episcopal Church 111 Third Avenue SW Rochester MN 55902;X-APPLE-RADIUS=500;X-TITLE=111 Third Avenue SW:geo:-73.959517,40.602991
END:VEVENT
BEGIN:VEVENT
DTSTART;TZID=America/Chicago:20250714T171500
DTEND;TZID=America/Chicago:20250714T180000
DTSTAMP:20260424T002218
CREATED:20241223T170910Z
LAST-MODIFIED:20260224T143302Z
UID:10002590-1752513300-1752516000@www.calvary-rochester.org
SUMMARY:Healing Service
DESCRIPTION:Join us in the church each week for our healing service\, featuring prayers\, Holy Eucharist\, and anointing for healing. \nAll are welcome!
URL:https://www.calvary-rochester.org/event/healing-service-5/2025-07-14/
LOCATION:Calvary Episcopal Church\, 111 Third Avenue SW\, Rochester\, MN\, 55902
CATEGORIES:Home,Worship
ATTACH;FMTTYPE=image/png:https://www.calvary-rochester.org/wp-content/uploads/2022/08/Healing-Service-FB-1.png
ORGANIZER;CN="Calvary Episcopal Church":MAILTO:office@calvary-rochester.org
GEO:40.602991;-73.959517
X-APPLE-STRUCTURED-LOCATION;VALUE=URI;X-ADDRESS=Calvary Episcopal Church 111 Third Avenue SW Rochester MN 55902;X-APPLE-RADIUS=500;X-TITLE=111 Third Avenue SW:geo:-73.959517,40.602991
END:VEVENT
BEGIN:VEVENT
DTSTART;TZID=America/Chicago:20250717T171500
DTEND;TZID=America/Chicago:20250717T180000
DTSTAMP:20260424T002218
CREATED:20241223T173529Z
LAST-MODIFIED:20241223T173529Z
UID:10002692-1752772500-1752775200@www.calvary-rochester.org
SUMMARY:Healing Service
DESCRIPTION:Join us in the church each week for a lay-led service of quiet prayer focused on healing and hope. \nAll are welcome!
URL:https://www.calvary-rochester.org/event/healing-service-6/2025-07-17/
LOCATION:Calvary Episcopal Church\, 111 Third Avenue SW\, Rochester\, MN\, 55902
CATEGORIES:Home,Worship
ATTACH;FMTTYPE=image/png:https://www.calvary-rochester.org/wp-content/uploads/2024/06/Thursday-Healing-FB.png
ORGANIZER;CN="Calvary Episcopal Church":MAILTO:office@calvary-rochester.org
GEO:40.602991;-73.959517
X-APPLE-STRUCTURED-LOCATION;VALUE=URI;X-ADDRESS=Calvary Episcopal Church 111 Third Avenue SW Rochester MN 55902;X-APPLE-RADIUS=500;X-TITLE=111 Third Avenue SW:geo:-73.959517,40.602991
END:VEVENT
BEGIN:VEVENT
DTSTART;TZID=America/Chicago:20250720T083000
DTEND;TZID=America/Chicago:20250720T091500
DTSTAMP:20260424T002218
CREATED:20241223T170455Z
LAST-MODIFIED:20260224T174611Z
UID:10002551-1753000200-1753002900@www.calvary-rochester.org
SUMMARY:Sunday Worship: A Service of Morning Prayer
DESCRIPTION:This is one of two services each Sunday: at 8:30 am\, on the first and third Sundays of every month\, Calvary offers A Service of Morning Prayer. This beautiful\, ancient service consists of prayers\, canticles\, and scripture readings and is the traditional way of greeting the day in our Episcopal tradition. It is about 30 minutes long\, and readers will be invited out of the gathered congregation by the lay leaders. \nThe nursery\, staffed by two adults each Sunday who are Safeguarding God’s Children trained\, will be available 8:30 am – 11:15 am.
URL:https://www.calvary-rochester.org/event/sunday-worship-a-service-of-morning-prayer-3/2025-07-20/
LOCATION:Calvary Episcopal Church\, 111 Third Avenue SW\, Rochester\, MN\, 55902
CATEGORIES:Home,Worship
ATTACH;FMTTYPE=image/png:https://www.calvary-rochester.org/wp-content/uploads/2022/11/ASoMP-FB.png
ORGANIZER;CN="Calvary Episcopal Church":MAILTO:office@calvary-rochester.org
GEO:40.602991;-73.959517
X-APPLE-STRUCTURED-LOCATION;VALUE=URI;X-ADDRESS=Calvary Episcopal Church 111 Third Avenue SW Rochester MN 55902;X-APPLE-RADIUS=500;X-TITLE=111 Third Avenue SW:geo:-73.959517,40.602991
END:VEVENT
BEGIN:VEVENT
DTSTART;TZID=America/Chicago:20250720T103000
DTEND;TZID=America/Chicago:20250720T113000
DTSTAMP:20260424T002218
CREATED:20241223T165510Z
LAST-MODIFIED:20260224T173824Z
UID:10002513-1753007400-1753011000@www.calvary-rochester.org
SUMMARY:Sunday Worship: Holy Eucharist\, Rite II
DESCRIPTION:This is one of two services each Sunday: at 10:30 am\, Calvary offers a Rite II service of Holy Eucharist. Rite II uses more contemporary language and includes congregational and choral singing. The Motet Choir will lead our music. \nThe nursery\, staffed by two adults each Sunday who are Safeguarding God’s Children trained\, will be available 8:30 am – 11:15 am.
URL:https://www.calvary-rochester.org/event/sunday-worship-holy-eucharist-rite-ii-6/2025-07-20/
LOCATION:Calvary Episcopal Church\, 111 Third Avenue SW\, Rochester\, MN\, 55902
CATEGORIES:Home,Worship
ATTACH;FMTTYPE=image/png:https://www.calvary-rochester.org/wp-content/uploads/2022/11/HE-Rite-II-FB.png
ORGANIZER;CN="Calvary Episcopal Church":MAILTO:office@calvary-rochester.org
GEO:40.602991;-73.959517
X-APPLE-STRUCTURED-LOCATION;VALUE=URI;X-ADDRESS=Calvary Episcopal Church 111 Third Avenue SW Rochester MN 55902;X-APPLE-RADIUS=500;X-TITLE=111 Third Avenue SW:geo:-73.959517,40.602991
END:VEVENT
BEGIN:VEVENT
DTSTART;TZID=America/Chicago:20250720T170500
DTEND;TZID=America/Chicago:20250720T193000
DTSTAMP:20260424T002218
CREATED:20250514T121723Z
LAST-MODIFIED:20250708T192814Z
UID:10003131-1753031100-1753039800@www.calvary-rochester.org
SUMMARY:Rochester Honkers Game
DESCRIPTION:Join us for a night at the ballpark! \nSt. Luke’s and Calvary are teaming up for a fun evening of baseball as the Rochester Honkers take on the Thunder Bay Border Cats on Sunday\, July 20 at 5:05 p.m. Tickets are $12 and include a hot dog\, chips\, and a pop. \nThe Honkers are returning $6 from every ticket we sell. We plan to donate the money raised to the Crisis Nursery of Olmsted County which\, among other services\, provides short-term childcare while families address a crisis situation. \nHow to Get Your Tickets: \n\nVisit Rochester Honkers Tickets\nIn the Promotions box\, enter promo code Episcopal25.\nWe are in Section G\, rows 8-12. We are filling in seats starting at row 8.\n\nSpread the word! \nInvite friends\, family\, neighbors\, co-workers… all are welcome! Let’s see how many tickets we can sell and help out a very worthy charity at the same time. \nIf you have any questions\, you can contact Cindy Heins at 507 993-5824; heins.cynthia@gmail.com.
URL:https://www.calvary-rochester.org/event/rochester-honkers-game/
LOCATION:Mayo Field\, 403 East Center Street\, Rochester\, MN\, 55904\, United States
CATEGORIES:Community,Fellowship,Home
ATTACH;FMTTYPE=image/png:https://www.calvary-rochester.org/wp-content/uploads/2025/05/Honkers-Night.png
ORGANIZER;CN="Calvary Episcopal Church":MAILTO:office@calvary-rochester.org
END:VEVENT
BEGIN:VEVENT
DTSTART;TZID=America/Chicago:20250721T171500
DTEND;TZID=America/Chicago:20250721T180000
DTSTAMP:20260424T002218
CREATED:20241223T170910Z
LAST-MODIFIED:20260224T143302Z
UID:10002591-1753118100-1753120800@www.calvary-rochester.org
SUMMARY:Healing Service
DESCRIPTION:Join us in the church each week for our healing service\, featuring prayers\, Holy Eucharist\, and anointing for healing. \nAll are welcome!
URL:https://www.calvary-rochester.org/event/healing-service-5/2025-07-21/
LOCATION:Calvary Episcopal Church\, 111 Third Avenue SW\, Rochester\, MN\, 55902
CATEGORIES:Home,Worship
ATTACH;FMTTYPE=image/png:https://www.calvary-rochester.org/wp-content/uploads/2022/08/Healing-Service-FB-1.png
ORGANIZER;CN="Calvary Episcopal Church":MAILTO:office@calvary-rochester.org
GEO:40.602991;-73.959517
X-APPLE-STRUCTURED-LOCATION;VALUE=URI;X-ADDRESS=Calvary Episcopal Church 111 Third Avenue SW Rochester MN 55902;X-APPLE-RADIUS=500;X-TITLE=111 Third Avenue SW:geo:-73.959517,40.602991
END:VEVENT
BEGIN:VEVENT
DTSTART;TZID=America/Chicago:20250727T083000
DTEND;TZID=America/Chicago:20250727T093000
DTSTAMP:20260424T002218
CREATED:20241223T165119Z
LAST-MODIFIED:20260224T174412Z
UID:10002472-1753605000-1753608600@www.calvary-rochester.org
SUMMARY:Sunday Worship: Holy Eucharist\, Rite I
DESCRIPTION:This is one of two services each Sunday: at 8:30 am on most Sundays\, Calvary offers a Rite I service of Holy Eucharist. Rite I uses traditional language and is quiet and contemplative. \nThe nursery\, staffed by two adults each Sunday who are Safeguarding God’s Children trained\, will be available 8:30 am – 11:15 am.
URL:https://www.calvary-rochester.org/event/sunday-worship-holy-eucharist-rite-i-4/2025-07-27/
LOCATION:Calvary Episcopal Church\, 111 Third Avenue SW\, Rochester\, MN\, 55902
CATEGORIES:Home,Worship
ATTACH;FMTTYPE=image/png:https://www.calvary-rochester.org/wp-content/uploads/2022/11/HE-Rite-I-FB.png
ORGANIZER;CN="Calvary Episcopal Church":MAILTO:office@calvary-rochester.org
GEO:40.602991;-73.959517
X-APPLE-STRUCTURED-LOCATION;VALUE=URI;X-ADDRESS=Calvary Episcopal Church 111 Third Avenue SW Rochester MN 55902;X-APPLE-RADIUS=500;X-TITLE=111 Third Avenue SW:geo:-73.959517,40.602991
END:VEVENT
BEGIN:VEVENT
DTSTART;TZID=America/Chicago:20250727T103000
DTEND;TZID=America/Chicago:20250727T113000
DTSTAMP:20260424T002218
CREATED:20241223T165510Z
LAST-MODIFIED:20260224T173824Z
UID:10002514-1753612200-1753615800@www.calvary-rochester.org
SUMMARY:Sunday Worship: Holy Eucharist\, Rite II
DESCRIPTION:This is one of two services each Sunday: at 10:30 am\, Calvary offers a Rite II service of Holy Eucharist. Rite II uses more contemporary language and includes congregational and choral singing. The Motet Choir will lead our music. \nThe nursery\, staffed by two adults each Sunday who are Safeguarding God’s Children trained\, will be available 8:30 am – 11:15 am.
URL:https://www.calvary-rochester.org/event/sunday-worship-holy-eucharist-rite-ii-6/2025-07-27/
LOCATION:Calvary Episcopal Church\, 111 Third Avenue SW\, Rochester\, MN\, 55902
CATEGORIES:Home,Worship
ATTACH;FMTTYPE=image/png:https://www.calvary-rochester.org/wp-content/uploads/2022/11/HE-Rite-II-FB.png
ORGANIZER;CN="Calvary Episcopal Church":MAILTO:office@calvary-rochester.org
GEO:40.602991;-73.959517
X-APPLE-STRUCTURED-LOCATION;VALUE=URI;X-ADDRESS=Calvary Episcopal Church 111 Third Avenue SW Rochester MN 55902;X-APPLE-RADIUS=500;X-TITLE=111 Third Avenue SW:geo:-73.959517,40.602991
END:VEVENT
BEGIN:VEVENT
DTSTART;TZID=America/Chicago:20250728T171500
DTEND;TZID=America/Chicago:20250728T180000
DTSTAMP:20260424T002218
CREATED:20241223T170910Z
LAST-MODIFIED:20260224T143302Z
UID:10002592-1753722900-1753725600@www.calvary-rochester.org
SUMMARY:Healing Service
DESCRIPTION:Join us in the church each week for our healing service\, featuring prayers\, Holy Eucharist\, and anointing for healing. \nAll are welcome!
URL:https://www.calvary-rochester.org/event/healing-service-5/2025-07-28/
LOCATION:Calvary Episcopal Church\, 111 Third Avenue SW\, Rochester\, MN\, 55902
CATEGORIES:Home,Worship
ATTACH;FMTTYPE=image/png:https://www.calvary-rochester.org/wp-content/uploads/2022/08/Healing-Service-FB-1.png
ORGANIZER;CN="Calvary Episcopal Church":MAILTO:office@calvary-rochester.org
GEO:40.602991;-73.959517
X-APPLE-STRUCTURED-LOCATION;VALUE=URI;X-ADDRESS=Calvary Episcopal Church 111 Third Avenue SW Rochester MN 55902;X-APPLE-RADIUS=500;X-TITLE=111 Third Avenue SW:geo:-73.959517,40.602991
END:VEVENT
END:VCALENDAR