BEGIN:VCALENDAR
VERSION:2.0
PRODID:-//Calvary Episcopal Church - ECPv6.15.20//NONSGML v1.0//EN
CALSCALE:GREGORIAN
METHOD:PUBLISH
X-WR-CALNAME:Calvary Episcopal Church
X-ORIGINAL-URL:https://www.calvary-rochester.org
X-WR-CALDESC:Events for Calvary Episcopal Church
REFRESH-INTERVAL;VALUE=DURATION:PT1H
X-Robots-Tag:noindex
X-PUBLISHED-TTL:PT1H
BEGIN:VTIMEZONE
TZID:America/Chicago
BEGIN:DAYLIGHT
TZOFFSETFROM:-0600
TZOFFSETTO:-0500
TZNAME:CDT
DTSTART:20210314T080000
END:DAYLIGHT
BEGIN:STANDARD
TZOFFSETFROM:-0500
TZOFFSETTO:-0600
TZNAME:CST
DTSTART:20211107T070000
END:STANDARD
BEGIN:DAYLIGHT
TZOFFSETFROM:-0600
TZOFFSETTO:-0500
TZNAME:CDT
DTSTART:20220313T080000
END:DAYLIGHT
BEGIN:STANDARD
TZOFFSETFROM:-0500
TZOFFSETTO:-0600
TZNAME:CST
DTSTART:20221106T070000
END:STANDARD
BEGIN:DAYLIGHT
TZOFFSETFROM:-0600
TZOFFSETTO:-0500
TZNAME:CDT
DTSTART:20230312T080000
END:DAYLIGHT
BEGIN:STANDARD
TZOFFSETFROM:-0500
TZOFFSETTO:-0600
TZNAME:CST
DTSTART:20231105T070000
END:STANDARD
END:VTIMEZONE
BEGIN:VEVENT
DTSTART;TZID=America/Chicago:20221222T190000
DTEND;TZID=America/Chicago:20221222T200000
DTSTAMP:20260424T034553
CREATED:20220901T133501Z
LAST-MODIFIED:20220901T133501Z
UID:10000094-1671735600-1671739200@www.calvary-rochester.org
SUMMARY:Centering Prayer
DESCRIPTION:Centering Prayer meets the 2nd and 4th Thursday evenings of every month. \n\nCentering Prayer provides an opportunity to experience God in a personal and communal way; a chance to connect with others about spiritual life in a safe and trusted space. Our group is flexible—you may enter into the meditation or discussion as you choose.  We laugh\, we pray\, we seek\, we find communion. \nCurrently\, gatherings are conducted via Zoom. All are welcome. If you’re interested\, please contact our leadership team at sacredcircle@calvary-rochester.org.
URL:https://www.calvary-rochester.org/event/centering-prayer/2022-12-22/
LOCATION:Online
CATEGORIES:Home,Worship
ATTACH;FMTTYPE=image/png:https://www.calvary-rochester.org/wp-content/uploads/2022/09/Centering-Prayer-FB.png
ORGANIZER;CN="Sacred Circle":MAILTO:sacredcircle@calvary-rochester.org
END:VEVENT
END:VCALENDAR