BEGIN:VCALENDAR
VERSION:2.0
PRODID:-//Calvary Episcopal Church - ECPv6.15.20//NONSGML v1.0//EN
CALSCALE:GREGORIAN
METHOD:PUBLISH
X-ORIGINAL-URL:https://www.calvary-rochester.org
X-WR-CALDESC:Events for Calvary Episcopal Church
REFRESH-INTERVAL;VALUE=DURATION:PT1H
X-Robots-Tag:noindex
X-PUBLISHED-TTL:PT1H
BEGIN:VTIMEZONE
TZID:America/Chicago
BEGIN:DAYLIGHT
TZOFFSETFROM:-0600
TZOFFSETTO:-0500
TZNAME:CDT
DTSTART:20210314T080000
END:DAYLIGHT
BEGIN:STANDARD
TZOFFSETFROM:-0500
TZOFFSETTO:-0600
TZNAME:CST
DTSTART:20211107T070000
END:STANDARD
BEGIN:DAYLIGHT
TZOFFSETFROM:-0600
TZOFFSETTO:-0500
TZNAME:CDT
DTSTART:20220313T080000
END:DAYLIGHT
BEGIN:STANDARD
TZOFFSETFROM:-0500
TZOFFSETTO:-0600
TZNAME:CST
DTSTART:20221106T070000
END:STANDARD
BEGIN:DAYLIGHT
TZOFFSETFROM:-0600
TZOFFSETTO:-0500
TZNAME:CDT
DTSTART:20230312T080000
END:DAYLIGHT
BEGIN:STANDARD
TZOFFSETFROM:-0500
TZOFFSETTO:-0600
TZNAME:CST
DTSTART:20231105T070000
END:STANDARD
END:VTIMEZONE
BEGIN:VEVENT
DTSTART;TZID=America/Chicago:20220724T140000
DTEND;TZID=America/Chicago:20220724T160000
DTSTAMP:20260424T051934
CREATED:20220705T203758Z
LAST-MODIFIED:20220705T204244Z
UID:10001389-1658671200-1658678400@www.calvary-rochester.org
SUMMARY:Ice Cream Social with St. Luke's
DESCRIPTION:Hello friends! How does a cool and refreshing ice cream treat sound to you on a hot summer day? What about enjoying that while meeting our Episcopal neighbors from St. Luke’s? The Calvary-St. Luke’s Collaboration Team invites you to an ice cream social on Sunday\, July 24\, from 2:00-4:00 p.m. at Cook Park in Rochester. There will be ice cream\, beverages\, games\, and of course… awesome fellowship!\n\nSee you there!\n\nThe Calvary-St. Luke’s Collaboration Team\nCo-Chairs: Laurie Leaf\, Kit Muellner\nMembers: Rev. Justin Chapman\, Penny Duffy\, Martha Mangan\, Diane O’Mara\, Rev. Beth Royalty\, Colleen Spillers
URL:https://www.calvary-rochester.org/event/ice-cream-social-with-st-lukes/
LOCATION:Cook Park\, 722 7th St NW\, Rochester\, MN\, 55901\, United States
CATEGORIES:Fellowship,Home
ATTACH;FMTTYPE=image/png:https://www.calvary-rochester.org/wp-content/uploads/2022/05/Screen-Shot-2022-07-05-at-3.36.36-PM.png
ORGANIZER;CN="Calvary Episcopal Church":MAILTO:office@calvary-rochester.org
END:VEVENT
END:VCALENDAR