BEGIN:VCALENDAR
VERSION:2.0
PRODID:-//Calvary Episcopal Church - ECPv6.15.20//NONSGML v1.0//EN
CALSCALE:GREGORIAN
METHOD:PUBLISH
X-WR-CALNAME:Calvary Episcopal Church
X-ORIGINAL-URL:https://www.calvary-rochester.org
X-WR-CALDESC:Events for Calvary Episcopal Church
REFRESH-INTERVAL;VALUE=DURATION:PT1H
X-Robots-Tag:noindex
X-PUBLISHED-TTL:PT1H
BEGIN:VTIMEZONE
TZID:America/Chicago
BEGIN:DAYLIGHT
TZOFFSETFROM:-0600
TZOFFSETTO:-0500
TZNAME:CDT
DTSTART:20190310T080000
END:DAYLIGHT
BEGIN:STANDARD
TZOFFSETFROM:-0500
TZOFFSETTO:-0600
TZNAME:CST
DTSTART:20191103T070000
END:STANDARD
BEGIN:DAYLIGHT
TZOFFSETFROM:-0600
TZOFFSETTO:-0500
TZNAME:CDT
DTSTART:20200308T080000
END:DAYLIGHT
BEGIN:STANDARD
TZOFFSETFROM:-0500
TZOFFSETTO:-0600
TZNAME:CST
DTSTART:20201101T070000
END:STANDARD
BEGIN:DAYLIGHT
TZOFFSETFROM:-0600
TZOFFSETTO:-0500
TZNAME:CDT
DTSTART:20210314T080000
END:DAYLIGHT
BEGIN:STANDARD
TZOFFSETFROM:-0500
TZOFFSETTO:-0600
TZNAME:CST
DTSTART:20211107T070000
END:STANDARD
BEGIN:DAYLIGHT
TZOFFSETFROM:-0600
TZOFFSETTO:-0500
TZNAME:CDT
DTSTART:20220313T080000
END:DAYLIGHT
BEGIN:STANDARD
TZOFFSETFROM:-0500
TZOFFSETTO:-0600
TZNAME:CST
DTSTART:20221106T070000
END:STANDARD
BEGIN:DAYLIGHT
TZOFFSETFROM:-0600
TZOFFSETTO:-0500
TZNAME:CDT
DTSTART:20230312T080000
END:DAYLIGHT
BEGIN:STANDARD
TZOFFSETFROM:-0500
TZOFFSETTO:-0600
TZNAME:CST
DTSTART:20231105T070000
END:STANDARD
END:VTIMEZONE
BEGIN:VEVENT
DTSTART;TZID=America/Chicago:20221220T203000
DTEND;TZID=America/Chicago:20221220T210000
DTSTAMP:20260423T205428
CREATED:20220821T231728Z
LAST-MODIFIED:20220822T014249Z
UID:10000153-1671568200-1671570000@www.calvary-rochester.org
SUMMARY:Compline (Facebook)
DESCRIPTION:Join us at 8:30 pm each week for compline on the Calvary Facebook Page.  \n  \nCompline is descended from the night prayers said before bed at the end of the monastic round of daily prayer. It is a simple office\, including a confession of sins\, one or more psalms\, a short reading from scripture\, versicles and responses\, the Lord’s Prayer\, collects which ask for God’s protection during the night to come\, and the canticle Nunc dimittis.
URL:https://www.calvary-rochester.org/event/compline-facebook/2022-12-20/
LOCATION:Facebook
CATEGORIES:Worship
ATTACH;FMTTYPE=image/png:https://www.calvary-rochester.org/wp-content/uploads/2022/08/Compline-FB.png
ORGANIZER;CN="Calvary Episcopal Church":MAILTO:office@calvary-rochester.org
END:VEVENT
BEGIN:VEVENT
DTSTART;TZID=America/Chicago:20201222T203000
DTEND;TZID=America/Chicago:20201222T210000
DTSTAMP:20260423T205428
CREATED:20200912T003022Z
LAST-MODIFIED:20200912T003022Z
UID:10000135-1608669000-1608670800@www.calvary-rochester.org
SUMMARY:Compline
DESCRIPTION:Join us Tuesdays at 8:30 pm found Facebook Live on the Calvary Facebook page.
URL:https://www.calvary-rochester.org/event/compline/2020-12-22/
LOCATION:Facebook
CATEGORIES:Home
ATTACH;FMTTYPE=image/png:https://www.calvary-rochester.org/wp-content/uploads/2020/09/Website-Compline.png
ORGANIZER;CN="Calvary Episcopal Church":MAILTO:office@calvary-rochester.org
END:VEVENT
BEGIN:VEVENT
DTSTART;TZID=America/Chicago:20201221T171500
DTEND;TZID=America/Chicago:20201221T174500
DTSTAMP:20260423T205428
CREATED:20200912T002114Z
LAST-MODIFIED:20200912T002322Z
UID:10000086-1608570900-1608572700@www.calvary-rochester.org
SUMMARY:Healing Service
DESCRIPTION:Healing Service at 5:15pm. Join us on Facebook Live on the Calvary Facebook page.
URL:https://www.calvary-rochester.org/event/healing-service-2/2020-12-21/
LOCATION:Facebook
CATEGORIES:Home
ATTACH;FMTTYPE=image/png:https://www.calvary-rochester.org/wp-content/uploads/2020/09/Website-Healing.png
ORGANIZER;CN="Calvary Episcopal Church":MAILTO:office@calvary-rochester.org
END:VEVENT
BEGIN:VEVENT
DTSTART;TZID=America/Chicago:20201103T120000
DTEND;TZID=America/Chicago:20201103T123000
DTSTAMP:20260423T205428
CREATED:20200912T002525Z
LAST-MODIFIED:20200912T003029Z
UID:10000102-1604404800-1604406600@www.calvary-rochester.org
SUMMARY:Noonday Prayer
DESCRIPTION:Noonday Prayer every Tuesday through Election Day\, November 3\, found on Facebook Live on the Calvary Facebook page.
URL:https://www.calvary-rochester.org/event/noonday-prayer/2020-11-03/
LOCATION:Facebook
CATEGORIES:Home
ATTACH;FMTTYPE=image/png:https://www.calvary-rochester.org/wp-content/uploads/2020/09/Website-Noonday.png
ORGANIZER;CN="Calvary Episcopal Church":MAILTO:office@calvary-rochester.org
END:VEVENT
BEGIN:VEVENT
DTSTART;TZID=America/Chicago:20200802T170000
DTEND;TZID=America/Chicago:20200802T180000
DTSTAMP:20260423T205428
CREATED:20200727T225238Z
LAST-MODIFIED:20200727T225239Z
UID:10000183-1596387600-1596391200@www.calvary-rochester.org
SUMMARY:Virtual Lunch on the Lawn: The RavensFire Band
DESCRIPTION:Join us on our Facebook page on Sunday\, August 2\, for our next Virtual Lunch on the Lawn\, featuring the music of Jaggedease! The band will play a unique collection of lively traditional Irish\, Folk\, World\, Americana\, and original music. We’ll be live streaming the event starting at 5:00 pm.
URL:https://www.calvary-rochester.org/event/virtual-lunch-on-the-lawn-the-ravensfire-band/
LOCATION:Facebook
CATEGORIES:Home
ATTACH;FMTTYPE=image/png:https://www.calvary-rochester.org/wp-content/uploads/2020/07/Website-VL.png
ORGANIZER;CN="Calvary Episcopal Church":MAILTO:office@calvary-rochester.org
END:VEVENT
BEGIN:VEVENT
DTSTART;TZID=America/Chicago:20200712T153000
DTEND;TZID=America/Chicago:20200712T163000
DTSTAMP:20260423T205428
CREATED:20200708T141452Z
LAST-MODIFIED:20200709T191019Z
UID:10000170-1594567800-1594571400@www.calvary-rochester.org
SUMMARY:Virtual Lunch on the Lawn: Jaggedease
DESCRIPTION:Join us on our Facebook page on Sunday\, July 12\, for our first Virtual Lunch on the Lawn\, featuring the music of Jaggedease! The band will consist of Gabe Holmes on vocals and guitar\, Blake Bonde on the bass\, and John Sievers playing trombone – playing some amazing Americana music. We’ll be live streaming the event starting at 3:30 pm.
URL:https://www.calvary-rochester.org/event/virtual-lunch-on-the-lawn/
LOCATION:Facebook
CATEGORIES:Home
ATTACH;FMTTYPE=image/png:https://www.calvary-rochester.org/wp-content/uploads/2020/07/Website-VL.png
ORGANIZER;CN="Calvary Episcopal Church":MAILTO:office@calvary-rochester.org
END:VEVENT
END:VCALENDAR