BEGIN:VCALENDAR
VERSION:2.0
PRODID:-//Calvary Episcopal Church - ECPv6.15.20//NONSGML v1.0//EN
CALSCALE:GREGORIAN
METHOD:PUBLISH
X-WR-CALNAME:Calvary Episcopal Church
X-ORIGINAL-URL:https://www.calvary-rochester.org
X-WR-CALDESC:Events for Calvary Episcopal Church
REFRESH-INTERVAL;VALUE=DURATION:PT1H
X-Robots-Tag:noindex
X-PUBLISHED-TTL:PT1H
BEGIN:VTIMEZONE
TZID:America/Chicago
BEGIN:DAYLIGHT
TZOFFSETFROM:-0600
TZOFFSETTO:-0500
TZNAME:CDT
DTSTART:20200308T080000
END:DAYLIGHT
BEGIN:STANDARD
TZOFFSETFROM:-0500
TZOFFSETTO:-0600
TZNAME:CST
DTSTART:20201101T070000
END:STANDARD
BEGIN:DAYLIGHT
TZOFFSETFROM:-0600
TZOFFSETTO:-0500
TZNAME:CDT
DTSTART:20210314T080000
END:DAYLIGHT
BEGIN:STANDARD
TZOFFSETFROM:-0500
TZOFFSETTO:-0600
TZNAME:CST
DTSTART:20211107T070000
END:STANDARD
BEGIN:DAYLIGHT
TZOFFSETFROM:-0600
TZOFFSETTO:-0500
TZNAME:CDT
DTSTART:20220313T080000
END:DAYLIGHT
BEGIN:STANDARD
TZOFFSETFROM:-0500
TZOFFSETTO:-0600
TZNAME:CST
DTSTART:20221106T070000
END:STANDARD
END:VTIMEZONE
BEGIN:VTIMEZONE
TZID:UTC
BEGIN:STANDARD
TZOFFSETFROM:+0000
TZOFFSETTO:+0000
TZNAME:UTC
DTSTART:20190101T000000
END:STANDARD
END:VTIMEZONE
BEGIN:VEVENT
DTSTART;TZID=America/Chicago:20211003T110000
DTEND;TZID=America/Chicago:20211003T120000
DTSTAMP:20260425T124025
CREATED:20210926T233816Z
LAST-MODIFIED:20210927T002658Z
UID:10000028-1633258800-1633262400@www.calvary-rochester.org
SUMMARY:The Blessing of the Animals
DESCRIPTION:The 11:00 am service (outside) on Sunday\, October 3rd will feature our annual Blessing of the Animals.  All pets and animal companions are welcomed and a blessing will be given for each animal in attendance. \n 
URL:https://www.calvary-rochester.org/event/the-blessing-of-the-animals/
LOCATION:Calvary Episcopal Church\, 111 Third Avenue SW\, Rochester\, MN\, 55902
CATEGORIES:Home
ATTACH;FMTTYPE=image/jpeg:https://www.calvary-rochester.org/wp-content/uploads/2021/09/IMG_0325-scaled.jpg
ORGANIZER;CN="Calvary Episcopal Church":MAILTO:office@calvary-rochester.org
GEO:40.602991;-73.959517
X-APPLE-STRUCTURED-LOCATION;VALUE=URI;X-ADDRESS=Calvary Episcopal Church 111 Third Avenue SW Rochester MN 55902;X-APPLE-RADIUS=500;X-TITLE=111 Third Avenue SW:geo:-73.959517,40.602991
END:VEVENT
BEGIN:VEVENT
DTSTART;TZID=America/Chicago:20211003T100000
DTEND;TZID=America/Chicago:20211003T110000
DTSTAMP:20260425T124025
CREATED:20210926T232035Z
LAST-MODIFIED:20210926T232035Z
UID:10000057-1633255200-1633258800@www.calvary-rochester.org
SUMMARY:Children's Sunday School
DESCRIPTION:All children in preschool through 5th grade are invited to Sunday School on Sunday\, October 3 at 10:00 a.m. in the Oasis Garden. The lesson will be on Noah’s Ark. \n 
URL:https://www.calvary-rochester.org/event/childrens-sunday-school/
LOCATION:Calvary Episcopal Church\, 111 Third Avenue SW\, Rochester\, MN\, 55902
CATEGORIES:Home
ATTACH;FMTTYPE=image/png:https://www.calvary-rochester.org/wp-content/uploads/2021/09/kids.png
ORGANIZER;CN="Calvary Episcopal Church":MAILTO:office@calvary-rochester.org
GEO:40.602991;-73.959517
X-APPLE-STRUCTURED-LOCATION;VALUE=URI;X-ADDRESS=Calvary Episcopal Church 111 Third Avenue SW Rochester MN 55902;X-APPLE-RADIUS=500;X-TITLE=111 Third Avenue SW:geo:-73.959517,40.602991
END:VEVENT
BEGIN:VEVENT
DTSTART;TZID=America/Chicago:20211003T090000
DTEND;TZID=America/Chicago:20211003T120000
DTSTAMP:20260425T124025
CREATED:20210927T003858Z
LAST-MODIFIED:20210927T012029Z
UID:10000014-1633251600-1633262400@www.calvary-rochester.org
SUMMARY:Sunday Services
DESCRIPTION:We are holding two in-person services each Sunday: the 9:00 am service  and the 11:00 am service. \nThe choir presence at the 9:00 am service is limited to soloists and congregational singing includes only the Post-Communion Hymn. The entire choir is present at the 11:00 am service as long as it is held outdoors and congregational singing is allowed.  If the service moves indoors due to weather\, eight choir members will lead the music. \nMasks are required for all indoor services. \nAll are welcome!
URL:https://www.calvary-rochester.org/event/sunday-services-2/
LOCATION:Calvary Episcopal Church\, 111 Third Avenue SW\, Rochester\, MN\, 55902
CATEGORIES:Home
ATTACH;FMTTYPE=image/jpeg:https://www.calvary-rochester.org/wp-content/uploads/2020/02/Beth-communion-rail.jpg
ORGANIZER;CN="Calvary Episcopal Church":MAILTO:office@calvary-rochester.org
GEO:40.602991;-73.959517
X-APPLE-STRUCTURED-LOCATION;VALUE=URI;X-ADDRESS=Calvary Episcopal Church 111 Third Avenue SW Rochester MN 55902;X-APPLE-RADIUS=500;X-TITLE=111 Third Avenue SW:geo:-73.959517,40.602991
END:VEVENT
BEGIN:VEVENT
DTSTART;TZID=America/Chicago:20211001T183000
DTEND;TZID=America/Chicago:20211001T203000
DTSTAMP:20260425T124025
CREATED:20210926T232252Z
LAST-MODIFIED:20210926T232252Z
UID:10000026-1633113000-1633120200@www.calvary-rochester.org
SUMMARY:Youth Bonfire
DESCRIPTION:All teens in grades 6 through 12 are invited to a bonfire with s’mores on Friday\, October 1 at 6:30 p.m. in the Oasis Garden.  Friends are welcome\, too! Text your RSVP to Colleen Timimi (507-202-0771) with the number attending – we don’t want to run out of marshmallows! \n 
URL:https://www.calvary-rochester.org/event/youth-bonfire/
LOCATION:Calvary Episcopal Church\, 111 Third Avenue SW\, Rochester\, MN\, 55902
CATEGORIES:Home
ATTACH;FMTTYPE=image/jpeg:https://www.calvary-rochester.org/wp-content/uploads/2021/09/campfire-smores-scaled.jpg
ORGANIZER;CN="Calvary Episcopal Church":MAILTO:office@calvary-rochester.org
GEO:40.602991;-73.959517
X-APPLE-STRUCTURED-LOCATION;VALUE=URI;X-ADDRESS=Calvary Episcopal Church 111 Third Avenue SW Rochester MN 55902;X-APPLE-RADIUS=500;X-TITLE=111 Third Avenue SW:geo:-73.959517,40.602991
END:VEVENT
BEGIN:VEVENT
DTSTART;TZID=America/Chicago:20210912T120000
DTEND;TZID=America/Chicago:20210912T130000
DTSTAMP:20260425T124025
CREATED:20210831T013551Z
LAST-MODIFIED:20210831T013551Z
UID:10000056-1631448000-1631451600@www.calvary-rochester.org
SUMMARY:All Parish Picnic
DESCRIPTION:Sunday\, September 12 is Holy Cross Sunday\, our Calvary Feast Day.  We’ll celebrate in style at the 9:00 am service (inside) and the 11:00 am service (outside)\, followed by a Parish Picnic in our beautiful Oasis Garden (weather permitting).  Boxed lunches and musical entertainment by the John Sievers band\, “Jaggedease\,” will be available as we renew and strengthen friendships by gathering in His Holy Name. \nTo sign up for the picnic you can use the Sign Up Genius link\, call the church office at 282-9429\, or use the sign up sheet at our worship services. \nWe look forward to seeing you there! \n 
URL:https://www.calvary-rochester.org/event/all-parish-picnic/
LOCATION:Calvary Episcopal Church\, 111 Third Avenue SW\, Rochester\, MN\, 55902
CATEGORIES:Home
ATTACH;FMTTYPE=image/jpeg:https://www.calvary-rochester.org/wp-content/uploads/2021/08/Image-8-30-21-at-8.33-PM.jpg
ORGANIZER;CN="Calvary Episcopal Church":MAILTO:office@calvary-rochester.org
GEO:40.602991;-73.959517
X-APPLE-STRUCTURED-LOCATION;VALUE=URI;X-ADDRESS=Calvary Episcopal Church 111 Third Avenue SW Rochester MN 55902;X-APPLE-RADIUS=500;X-TITLE=111 Third Avenue SW:geo:-73.959517,40.602991
END:VEVENT
BEGIN:VEVENT
DTSTART;TZID=America/Chicago:20210817T120000
DTEND;TZID=America/Chicago:20210817T130000
DTSTAMP:20260425T124025
CREATED:20210705T030951Z
LAST-MODIFIED:20210708T005006Z
UID:10000055-1629201600-1629205200@www.calvary-rochester.org
SUMMARY:Lunch on the Lawn - Jaggedease
DESCRIPTION:Jaggedease is a jam band lead by Gabriel Holmes. In 2020\, they recorded a new live EP. Playing both original music and new takes on your favorite songs\, the group features improvisation & playful interaction. From folk to reggae and from rock n’ roll to jazz\, Jaggedease soothes the soul with a taste of musical inspiration. \n\nJoin us Tuesdays this summer from 12 pm to 1 pm for good friends\, great music\, and relaxing times during our 2021 season in the Oasis Garden at Calvary Episcopal Church! \n 
URL:https://www.calvary-rochester.org/event/lunch-on-the-lawn-jaggedease/
LOCATION:Calvary Episcopal Church\, 111 Third Avenue SW\, Rochester\, MN\, 55902
CATEGORIES:Home
ATTACH;FMTTYPE=image/png:https://www.calvary-rochester.org/wp-content/uploads/2021/07/Jaggedease-Only.png
ORGANIZER;CN="Calvary Episcopal Church":MAILTO:office@calvary-rochester.org
GEO:40.602991;-73.959517
X-APPLE-STRUCTURED-LOCATION;VALUE=URI;X-ADDRESS=Calvary Episcopal Church 111 Third Avenue SW Rochester MN 55902;X-APPLE-RADIUS=500;X-TITLE=111 Third Avenue SW:geo:-73.959517,40.602991
END:VEVENT
BEGIN:VEVENT
DTSTART;TZID=America/Chicago:20210810T120000
DTEND;TZID=America/Chicago:20210810T130000
DTSTAMP:20260425T124025
CREATED:20210705T030816Z
LAST-MODIFIED:20210708T004948Z
UID:10000054-1628596800-1628600400@www.calvary-rochester.org
SUMMARY:Lunch on the Lawn - The Ravensfire Band
DESCRIPTION:RavensFire plays traditional folk\, Irish\, Scottish\, world\, Americana\, and original folk music. The lively instrumental reels\, jigs\, polkas and waltzes will go straight to your feet. Join us for beautiful harmonies\, guitar\, mandolin\, and bodhran. Learn more\nat theravensfireband.com. \n\nJoin us Tuesdays this summer from 12 pm to 1 pm for good friends\, great music\, and relaxing times during our 2021 season in the Oasis Garden at Calvary Episcopal Church! \n 
URL:https://www.calvary-rochester.org/event/lunch-on-the-lawn-the-ravensfire-band/
LOCATION:Calvary Episcopal Church\, 111 Third Avenue SW\, Rochester\, MN\, 55902
CATEGORIES:Home
ATTACH;FMTTYPE=image/png:https://www.calvary-rochester.org/wp-content/uploads/2021/07/Ravensfire-Band-Only.png
ORGANIZER;CN="Calvary Episcopal Church":MAILTO:office@calvary-rochester.org
GEO:40.602991;-73.959517
X-APPLE-STRUCTURED-LOCATION;VALUE=URI;X-ADDRESS=Calvary Episcopal Church 111 Third Avenue SW Rochester MN 55902;X-APPLE-RADIUS=500;X-TITLE=111 Third Avenue SW:geo:-73.959517,40.602991
END:VEVENT
BEGIN:VEVENT
DTSTART;TZID=America/Chicago:20210803T120000
DTEND;TZID=America/Chicago:20210803T130000
DTSTAMP:20260425T124025
CREATED:20210705T030636Z
LAST-MODIFIED:20210708T004929Z
UID:10000053-1627992000-1627995600@www.calvary-rochester.org
SUMMARY:Lunch on the Lawn - Triple Berry Pie
DESCRIPTION:Anjanette Bandel\, Ruth Casper\, and Karen Masbruch sing a variety of three-part harmony music together: Triple Berry Pie! Susan Shepard plays piano. They sing a mix of music – 1930s\, musical theatre\, the Andrews Sisters\, 80s and 90s\, and contemporary pop. \n\nJoin us Tuesdays this summer from 12 pm to 1 pm for good friends\, great music\, and relaxing times during our 2021 season in the Oasis Garden at Calvary Episcopal Church! \n 
URL:https://www.calvary-rochester.org/event/lunch-on-the-lawn-triple-berry-pie/
LOCATION:Calvary Episcopal Church\, 111 Third Avenue SW\, Rochester\, MN\, 55902
CATEGORIES:Home
ATTACH;FMTTYPE=image/png:https://www.calvary-rochester.org/wp-content/uploads/2021/07/TBP-Only.png
ORGANIZER;CN="Calvary Episcopal Church":MAILTO:office@calvary-rochester.org
GEO:40.602991;-73.959517
X-APPLE-STRUCTURED-LOCATION;VALUE=URI;X-ADDRESS=Calvary Episcopal Church 111 Third Avenue SW Rochester MN 55902;X-APPLE-RADIUS=500;X-TITLE=111 Third Avenue SW:geo:-73.959517,40.602991
END:VEVENT
BEGIN:VEVENT
DTSTART;TZID=America/Chicago:20210727T120000
DTEND;TZID=America/Chicago:20210727T130000
DTSTAMP:20260425T124025
CREATED:20210705T030457Z
LAST-MODIFIED:20210708T004811Z
UID:10000062-1627387200-1627390800@www.calvary-rochester.org
SUMMARY:Lunch on the Lawn - Bob Schlief
DESCRIPTION:Bob Schlief’s Live Acoustic is a show composed of covers from a wide range of artists and genres. The show goes beyond the standard acoustic guitar and vocal performer doing the standards. Live acoustic goes further to bring you songs that you wouldn’t expect to be covered by a solo performer with a guitar. \n\nJoin us Tuesdays this summer from 12 pm to 1 pm for good friends\, great music\, and relaxing times during our 2021 season in the Oasis Garden at Calvary Episcopal Church! \n 
URL:https://www.calvary-rochester.org/event/lunch-on-the-lawn-live-acoustic/
LOCATION:Calvary Episcopal Church\, 111 Third Avenue SW\, Rochester\, MN\, 55902
CATEGORIES:Home
ATTACH;FMTTYPE=image/png:https://www.calvary-rochester.org/wp-content/uploads/2021/07/Schlief-Only.png
ORGANIZER;CN="Calvary Episcopal Church":MAILTO:office@calvary-rochester.org
GEO:40.602991;-73.959517
X-APPLE-STRUCTURED-LOCATION;VALUE=URI;X-ADDRESS=Calvary Episcopal Church 111 Third Avenue SW Rochester MN 55902;X-APPLE-RADIUS=500;X-TITLE=111 Third Avenue SW:geo:-73.959517,40.602991
END:VEVENT
BEGIN:VEVENT
DTSTART;TZID=America/Chicago:20210720T120000
DTEND;TZID=America/Chicago:20210720T130000
DTSTAMP:20260425T124025
CREATED:20210705T022445Z
LAST-MODIFIED:20210708T004847Z
UID:10000060-1626782400-1626786000@www.calvary-rochester.org
SUMMARY:Lunch on the Lawn - The D'Sievers
DESCRIPTION:The D’Sievers is a jazz combo that features trombone. The group has been been playing Jazz in Southeastern Minn. for decades\, has recorded an album of original music called Trombots and Mermaids\, and has participated in the Twin Cities Jazz Festival. \n\nJoin us Tuesdays this summer from 12 pm to 1 pm for good friends\, great music\, and relaxing times during our 2021 season in the Oasis Garden at Calvary Episcopal Church! \n 
URL:https://www.calvary-rochester.org/event/lunch-on-the-lawn-the-dsieveres/
LOCATION:Calvary Episcopal Church\, 111 Third Avenue SW\, Rochester\, MN\, 55902
CATEGORIES:Home
ATTACH;FMTTYPE=image/png:https://www.calvary-rochester.org/wp-content/uploads/2021/07/DSievers-Only.png
ORGANIZER;CN="Calvary Episcopal Church":MAILTO:office@calvary-rochester.org
GEO:40.602991;-73.959517
X-APPLE-STRUCTURED-LOCATION;VALUE=URI;X-ADDRESS=Calvary Episcopal Church 111 Third Avenue SW Rochester MN 55902;X-APPLE-RADIUS=500;X-TITLE=111 Third Avenue SW:geo:-73.959517,40.602991
END:VEVENT
BEGIN:VEVENT
DTSTART;TZID=America/Chicago:20210713T120000
DTEND;TZID=America/Chicago:20210713T130000
DTSTAMP:20260425T124025
CREATED:20210705T030058Z
LAST-MODIFIED:20210708T004909Z
UID:10000061-1626177600-1626181200@www.calvary-rochester.org
SUMMARY:Lunch on the Lawn - Tim Dallman
DESCRIPTION:Tim Dallman is a guitarist and vocalist who writes and performs his own songs\, as well as a variety of covers.  His melodic\, acoustic guitar-driven songs blend lyrical and musical storytelling with elements of rock\, blues\, jazz and folk styles. \n\nJoin us Tuesdays this summer from 12 pm to 1 pm for good friends\, great music\, and relaxing times during our 2021 season in the Oasis Garden at Calvary Episcopal Church! \n 
URL:https://www.calvary-rochester.org/event/lunch-on-the-lawn-tim-dallman/
LOCATION:Calvary Episcopal Church\, 111 Third Avenue SW\, Rochester\, MN\, 55902
CATEGORIES:Home
ATTACH;FMTTYPE=image/png:https://www.calvary-rochester.org/wp-content/uploads/2021/07/Dallman-Only.png
ORGANIZER;CN="Calvary Episcopal Church":MAILTO:office@calvary-rochester.org
GEO:40.602991;-73.959517
X-APPLE-STRUCTURED-LOCATION;VALUE=URI;X-ADDRESS=Calvary Episcopal Church 111 Third Avenue SW Rochester MN 55902;X-APPLE-RADIUS=500;X-TITLE=111 Third Avenue SW:geo:-73.959517,40.602991
END:VEVENT
BEGIN:VEVENT
DTSTART;TZID=UTC:20201231T064500
DTEND;TZID=UTC:20201231T064500
DTSTAMP:20260425T124025
CREATED:20200221T223632Z
LAST-MODIFIED:20200410T164613Z
UID:10000453-1609397100-1609397100@www.calvary-rochester.org
SUMMARY:Health Care Professionals AA
DESCRIPTION:HEALTH CARE PROFESSIONALS AA\nLarsen Fireside Room
URL:https://www.calvary-rochester.org/event/health-care-professionals-aa/2020-12-31/
LOCATION:Calvary Episcopal Church\, 111 Third Avenue SW\, Rochester\, MN\, 55902
ORGANIZER;CN="Calvary Episcopal Church":MAILTO:office@calvary-rochester.org
GEO:40.602991;-73.959517
X-APPLE-STRUCTURED-LOCATION;VALUE=URI;X-ADDRESS=Calvary Episcopal Church 111 Third Avenue SW Rochester MN 55902;X-APPLE-RADIUS=500;X-TITLE=111 Third Avenue SW:geo:-73.959517,40.602991
END:VEVENT
END:VCALENDAR