BEGIN:VCALENDAR
VERSION:2.0
PRODID:-//Calvary Episcopal Church - ECPv6.15.20//NONSGML v1.0//EN
CALSCALE:GREGORIAN
METHOD:PUBLISH
X-WR-CALNAME:Calvary Episcopal Church
X-ORIGINAL-URL:https://www.calvary-rochester.org
X-WR-CALDESC:Events for Calvary Episcopal Church
REFRESH-INTERVAL;VALUE=DURATION:PT1H
X-Robots-Tag:noindex
X-PUBLISHED-TTL:PT1H
BEGIN:VTIMEZONE
TZID:America/Chicago
BEGIN:DAYLIGHT
TZOFFSETFROM:-0600
TZOFFSETTO:-0500
TZNAME:CDT
DTSTART:20210314T080000
END:DAYLIGHT
BEGIN:STANDARD
TZOFFSETFROM:-0500
TZOFFSETTO:-0600
TZNAME:CST
DTSTART:20211107T070000
END:STANDARD
BEGIN:DAYLIGHT
TZOFFSETFROM:-0600
TZOFFSETTO:-0500
TZNAME:CDT
DTSTART:20220313T080000
END:DAYLIGHT
BEGIN:STANDARD
TZOFFSETFROM:-0500
TZOFFSETTO:-0600
TZNAME:CST
DTSTART:20221106T070000
END:STANDARD
BEGIN:DAYLIGHT
TZOFFSETFROM:-0600
TZOFFSETTO:-0500
TZNAME:CDT
DTSTART:20230312T080000
END:DAYLIGHT
BEGIN:STANDARD
TZOFFSETFROM:-0500
TZOFFSETTO:-0600
TZNAME:CST
DTSTART:20231105T070000
END:STANDARD
END:VTIMEZONE
BEGIN:VEVENT
DTSTART;TZID=America/Chicago:20220618T103000
DTEND;TZID=America/Chicago:20220618T120000
DTSTAMP:20260424T162114
CREATED:20220507T184127Z
LAST-MODIFIED:20220507T184257Z
UID:10001346-1655548200-1655553600@www.calvary-rochester.org
SUMMARY:Paul Ehling's Ordination to the Priesthood
DESCRIPTION:God willing and the people consenting\, our beloved brother\, the Rev. Paul Ehling\, will be ordained to the priesthood in The Episcopal Church by Bishop Craig Loya on Saturday\, June 18 at St. Mark’s Cathedral in Minneapolis. The service will begin at 10:30 a.m. and all are invited to attend. The service will also be live-streamed. \nPaul has been a member of Calvary for decades and has served the parish faithfully for almost a year as a transitional deacon; Calvary will be giving Paul a special gift on this holy and joyful occasion. If you would like to give toward that gift\, please send a check to the church office marked “Paul Ehling Gift.”
URL:https://www.calvary-rochester.org/event/paul-ehlings-ordination-to-the-priesthood/
LOCATION:St. Mark’s Cathedral\, 519 Oak Grove Street\, Minneapolis\, MN\, 55403\, United States
CATEGORIES:Home
ATTACH;FMTTYPE=image/png:https://www.calvary-rochester.org/wp-content/uploads/2022/05/Ehling-Ordination-FB.png
ORGANIZER;CN="Calvary Episcopal Church":MAILTO:office@calvary-rochester.org
END:VEVENT
END:VCALENDAR