BEGIN:VCALENDAR
VERSION:2.0
PRODID:-//Calvary Episcopal Church - ECPv6.15.20//NONSGML v1.0//EN
CALSCALE:GREGORIAN
METHOD:PUBLISH
X-ORIGINAL-URL:https://www.calvary-rochester.org
X-WR-CALDESC:Events for Calvary Episcopal Church
REFRESH-INTERVAL;VALUE=DURATION:PT1H
X-Robots-Tag:noindex
X-PUBLISHED-TTL:PT1H
BEGIN:VTIMEZONE
TZID:America/Chicago
BEGIN:DAYLIGHT
TZOFFSETFROM:-0600
TZOFFSETTO:-0500
TZNAME:CDT
DTSTART:20210314T080000
END:DAYLIGHT
BEGIN:STANDARD
TZOFFSETFROM:-0500
TZOFFSETTO:-0600
TZNAME:CST
DTSTART:20211107T070000
END:STANDARD
BEGIN:DAYLIGHT
TZOFFSETFROM:-0600
TZOFFSETTO:-0500
TZNAME:CDT
DTSTART:20220313T080000
END:DAYLIGHT
BEGIN:STANDARD
TZOFFSETFROM:-0500
TZOFFSETTO:-0600
TZNAME:CST
DTSTART:20221106T070000
END:STANDARD
BEGIN:DAYLIGHT
TZOFFSETFROM:-0600
TZOFFSETTO:-0500
TZNAME:CDT
DTSTART:20230312T080000
END:DAYLIGHT
BEGIN:STANDARD
TZOFFSETFROM:-0500
TZOFFSETTO:-0600
TZNAME:CST
DTSTART:20231105T070000
END:STANDARD
END:VTIMEZONE
BEGIN:VEVENT
DTSTART;TZID=America/Chicago:20220621T184000
DTEND;TZID=America/Chicago:20220621T210000
DTSTAMP:20260424T085518
CREATED:20220519T004356Z
LAST-MODIFIED:20220519T004356Z
UID:10001380-1655836800-1655845200@www.calvary-rochester.org
SUMMARY:Episcopal Night with the Minnesota Twins
DESCRIPTION:The Episcopal Church in Minnesota is sponsoring an Episcopal Night with the Minnesota Twins on Tuesday\, June 21st\, at 6:40 p.m. at Target Field in Minneapolis. This link provides ticket purchasing options and additional information about the evening.
URL:https://www.calvary-rochester.org/event/episcopal-night-with-the-minnesota-twins/
LOCATION:Target Field\, 1 Twins Way\, Minneapolis\, MN\, 55403\, United States
CATEGORIES:Fellowship,Home
ATTACH;FMTTYPE=image/png:https://www.calvary-rochester.org/wp-content/uploads/2022/05/Twins-Night-FB.png
END:VEVENT
END:VCALENDAR